Workbook

Sheet Report
B2: Summary | F2: Subjective Comments
B3: The overall SEM is | C3: =SEM!L4 -> 1.4838088 | D3: with an upper 95% CI of | E3: =C3*SQRT(((9-1)*10)/_xlfn.CHISQ.INV(0.05,((9-1)*10))) -> 1.7077925 | F3: The overall SEM is well below the 2° that Mcginley et al. (2009) suggested was "acceptable" for clinical gait analysis measures. It is, however, still a substantial part of the overall standard deviation suggesting that measurement variability may limit the ability to be confident that measurements fall within or outside the normal range. Assessors 1 and 2 show very similar consistency whilst Assessor 3 is a little less consistent. This is largely a consequence of two particular sessions (Day 2 for participants 1 and 3) and if these are excluded results are very similar across all assessors. There do not appear to be any appreciable systematic differences between assessors. The SEM varies a little across the gait cycle being maximum around toe-off which is when the gradient of the variable is maximal. This will thus be when the magnitude of differences will be most sensitive to event timing and any differences in walking speed. | J3: °
B4: On average this is | C4: =C3/'Grey bands'!B106 -> 0.47949099 | D4: of the overall standard deviation
B7: Within Assessor Analysis | F7: Between Assessor Analysis
F8: Assessors agree to within | G8: ='Between Assessors'!F4 -> 0.6917483 | H8: of each other (on average)
B9: The SEM for Assessor 1 is | C9: =SEM!M4 -> 1.3719497 | D9: with an upper 95% CI of | E9: =C9*SQRT(((3-1)*10)/_xlfn.CHISQ.INV(0.05,((3-1)*10))) -> 1.8626107 | F9: Assessor 1 is | G9: =IF(('Between Assessors'!B4-'Between Assessors'!E4)>0,('Between Assessors'!B4-'Between Assessors'!E4),-('Between Assessors'!B4-'Between Assessors'!E4)) -> 0.12462041 | H9: =IF(('Between Assessors'!B4-'Between Assessors'!E4)>0,"greater than the average","less than the average") -> greater than the average
B10: The SEM for Assessor 2 is | C10: =SEM!N4 -> 1.3130228 | D10: with an upper 95% CI of | E10: =C10*SQRT(((3-1)*10)/_xlfn.CHISQ.INV(0.05,((3-1)*10))) -> 1.7826093 | F10: Assessor 2 is | G10: =IF(('Between Assessors'!C4-'Between Assessors'!E4)>0,('Between Assessors'!C4-'Between Assessors'!E4),-('Between Assessors'!C4-'Between Assessors'!E4)) -> 0.35258432 | H10: =IF(('Between Assessors'!C4-'Between Assessors'!E4)>0,"greater than the average","less than the average") -> less than the average
B11: The SEM for Assessor 3 is | C11: =SEM!O4 -> 1.7511684 | D11: with an upper 95% CI of | E11: =C11*SQRT(((3-1)*10)/_xlfn.CHISQ.INV(0.05,((3-1)*10))) -> 2.3774522 | F11: Assessor 3 is | G11: =IF(('Between Assessors'!D4-'Between Assessors'!E4)>0,('Between Assessors'!D4-'Between Assessors'!E4),-('Between Assessors'!D4-'Between Assessors'!E4)) -> 0.22796392 | H11: =IF(('Between Assessors'!D4-'Between Assessors'!E4)>0,"greater than the average","less than the average") -> greater than the average

Sheet Raw data
A1: Participant | B1: Participant 1 | BD1: Participant 2 | DF1: Participant 3 | FH1: Participant 4 | HJ1: Participant 5 | JL1: Participant 6 | LN1: Participant 7 | NP1: Participant 8 | PR1: Participant 9 | RT1: Participant 10
A2: Day | B2: Day 1 | T2: Day 2 | AL2: Day 3 | BD2: Day 1 | BV2: Day 2 | CN2: Day 3 | DF2: Day 1 | DX2: Day 2 | EP2: Day 3 | FH2: Day 1 | FZ2: Day 2 | GR2: Day 3 | HJ2: Day 1 | IB2: Day 2 | IT2: Day 3 | JL2: Day 1 | KD2: Day 2 | KV2: Day 3 | LN2: Day 1 | MF2: Day 2 | MX2: Day 3 | NP2: Day 1 | OH2: Day 2 | OZ2: Day 3 | PR2: Day 1 | QJ2: Day 2 | RB2: Day 3 | RT2: Day 1 | SL2: Day 2 | TD2: Day 3
A3: Assessor | B3: Assessor 1 | H3: Assessor 2 | N3: Assessor 3 | T3: Assessor 1 | Z3: Assessor 2 | AF3: Assessor 3 | AL3: Assessor 1 | AR3: Assessor 2 | AX3: Assessor 3 | BD3: Assessor 1 | BJ3: Assessor 2 | BP3: Assessor 3 | BV3: Assessor 1 | CB3: Assessor 2 | CH3: Assessor 3 | CN3: Assessor 1 | CT3: Assessor 2 | CZ3: Assessor 3 | DF3: Assessor 1 | DL3: Assessor 2 | DR3: Assessor 3 | DX3: Assessor 1 | ED3: Assessor 2 | EJ3: Assessor 3 | EP3: Assessor 1 | EV3: Assessor 2 | FB3: Assessor 3 | FH3: Assessor 1 | FN3: Assessor 2 | FT3: Assessor 3 | FZ3: Assessor 1 | GF3: Assessor 2 | GL3: Assessor 3 | GR3: Assessor 1 | GX3: Assessor 2 | HD3: Assessor 3 | HJ3: Assessor 1 | HP3: Assessor 2 | HV3: Assessor 3 | IB3: Assessor 1 | IH3: Assessor 2 | IN3: Assessor 3 | IT3: Assessor 1 | IZ3: Assessor 2 | JF3: Assessor 3 | JL3: Assessor 1 | JR3: Assessor 2 | JX3: Assessor 3 | KD3: Assessor 1 | KJ3: Assessor 2 | KP3: Assessor 3 | KV3: Assessor 1 | LB3: Assessor 2 | LH3: Assessor 3 | LN3: Assessor 1 | LT3: Assessor 2 | LZ3: Assessor 3 | MF3: Assessor 1 | ML3: Assessor 2 | MR3: Assessor 3 | MX3: Assessor 1 | ND3: Assessor 2 | NJ3: Assessor 3 | NP3: Assessor 1 | NV3: Assessor 2 | OB3: Assessor 3 | OH3: Assessor 1 | ON3: Assessor 2 | OT3: Assessor 3 | OZ3: Assessor 1 | PF3: Assessor 2 | PL3: Assessor 3 | PR3: Assessor 1 | PX3: Assessor 2 | QD3: Assessor 3 | QJ3: Assessor 1 | QP3: Assessor 2 | QV3: Assessor 3 | RB3: Assessor 1 | RH3: Assessor 2 | RN3: Assessor 3 | RT3: Assessor 1 | RZ3: Assessor 2 | SF3: Assessor 3 | SL3: Assessor 1 | SR3: Assessor 2 | SX3: Assessor 3 | TD3: Assessor 1 | TJ3: Assessor 2 | TP3: Assessor 3
A4: Trial | B4: 1 | C4: 2 | D4: 3 | E4: 4 | F4: 5 | G4: 6 | H4: 1 | I4: 2 | J4: 3 | K4: 4 | L4: 5 | M4: 6 | N4: 1 | O4: 2 | P4: 3 | Q4: 4 | R4: 5 | S4: 6 | T4: 1 | U4: 2 | V4: 3 | W4: 4 | X4: 5 | Y4: 6 | Z4: 1 | AA4: 2 | AB4: 3 | AC4: 4 | AD4: 5 | AE4: 6 | AF4: 1 | AG4: 2 | AH4: 3 | AI4: 4 | AJ4: 5 | AK4: 6 | AL4: 1 | AM4: 2 | AN4: 3 | AO4: 4 | AP4: 5 | AQ4: 6 | AR4: 1 | AS4: 2 | AT4: 3 | AU4: 4 | AV4: 5 | AW4: 6 | AX4: 1 | AY4: 2 | AZ4: 3 | BA4: 4 | BB4: 5 | BC4: 6 | BD4: 1 | BE4: 2 | BF4: 3 | BG4: 4 | BH4: 5 | BI4: 6 | BJ4: 1 | BK4: 2 | BL4: 3 | BM4: 4 | BN4: 5 | BO4: 6 | BP4: 1 | BQ4: 2 | BR4: 3 | BS4: 4 | BT4: 5 | BU4: 6 | BV4: 1 | BW4: 2 | BX4: 3 | BY4: 4 | BZ4: 5 | CA4: 6 | CB4: 1 | CC4: 2 | CD4: 3 | CE4: 4 | CF4: 5 | CG4: 6 | CH4: 1 | CI4: 2 | CJ4: 3 | CK4: 4 | CL4: 5 | CM4: 6 | CN4: 1 | CO4: 2 | CP4: 3 | CQ4: 4 | CR4: 5 | CS4: 6 | CT4: 1 | CU4: 2 | CV4: 3 | CW4: 4 | CX4: 5 | CY4: 6 | CZ4: 1 | DA4: 2 | DB4: 3 | DC4: 4 | DD4: 5 | DE4: 6 | DF4: 1 | DG4: 2 | DH4: 3 | DI4: 4 | DJ4: 5 | DK4: 6 | DL4: 1 | DM4: 2 | DN4: 3 | DO4: 4 | DP4: 5 | DQ4: 6 | DR4: 1 | DS4: 2 | DT4: 3 | DU4: 4 | DV4: 5 | DW4: 6 | DX4: 1 | DY4: 2 | DZ4: 3 | EA4: 4 | EB4: 5 | EC4: 6 | ED4: 1 | EE4: 2 | EF4: 3 | EG4: 4 | EH4: 5 | EI4: 6 | EJ4: 1 | EK4: 2 | EL4: 3 | EM4: 4 | EN4: 5 | EO4: 6 | EP4: 1 | EQ4: 2 | ER4: 3 | ES4: 4 | ET4: 5 | EU4: 6 | EV4: 1 | EW4: 2 | EX4: 3 | EY4: 4 | EZ4: 5 | FA4: 6 | FB4: 1 | FC4: 2 | FD4: 3 | FE4: 4 | FF4: 5 | FG4: 6 | FH4: 1 | FI4: 2 | FJ4: 3 | FK4: 4 | FL4: 5 | FM4: 6 | FN4: 1 | FO4: 2 | FP4: 3 | FQ4: 4 | FR4: 5 | FS4: 6 | FT4: 1 | FU4: 2 | FV4: 3 | FW4: 4 | FX4: 5 | FY4: 6 | FZ4: 1 | GA4: 2 | GB4: 3 | GC4: 4 | GD4: 5 | GE4: 6 | GF4: 1 | GG4: 2 | GH4: 3 | GI4: 4 | GJ4: 5 | GK4: 6 | GL4: 1 | GM4: 2 | GN4: 3 | GO4: 4 | GP4: 5 | GQ4: 6 | GR4: 1 | GS4: 2 | GT4: 3 | GU4: 4 | GV4: 5 | GW4: 6 | GX4: 1 | GY4: 2 | GZ4: 3 | HA4: 4 | HB4: 5 | HC4: 6 | HD4: 1 | HE4: 2 | HF4: 3 | HG4: 4 | HH4: 5 | HI4: 6 | HJ4: 1 | HK4: 2 | HL4: 3 | HM4: 4 | HN4: 5 | HO4: 6 | HP4: 1 | HQ4: 2 | HR4: 3 | HS4: 4 | HT4: 5 | HU4: 6 | HV4: 1 | HW4: 2 | HX4: 3 | HY4: 4 | HZ4: 5 | IA4: 6 | IB4: 1 | IC4: 2 | ID4: 3 | IE4: 4 | IF4: 5 | IG4: 6 | IH4: 1 | II4: 2 | IJ4: 3 | IK4: 4 | IL4: 5 | IM4: 6 | IN4: 1 | IO4: 2 | IP4: 3 | IQ4: 4 | IR4: 5 | IS4: 6 | IT4: 1 | IU4: 2 | IV4: 3 | IW4: 4 | IX4: 5 | IY4: 6 | IZ4: 1 | JA4: 2 | JB4: 3 | JC4: 4 | JD4: 5 | JE4: 6 | JF4: 1 | JG4: 2 | JH4: 3 | JI4: 4 | JJ4: 5 | JK4: 6 | JL4: 1 | JM4: 2 | JN4: 3 | JO4: 4 | JP4: 5 | JQ4: 6 | JR4: 1 | JS4: 2 | JT4: 3 | JU4: 4 | JV4: 5 | JW4: 6 | JX4: 1 | JY4: 2 | JZ4: 3 | KA4: 4 | KB4: 5 | KC4: 6 | KD4: 1 | KE4: 2 | KF4: 3 | KG4: 4 | KH4: 5 | KI4: 6 | KJ4: 1 | KK4: 2 | KL4: 3 | KM4: 4 | KN4: 5 | KO4: 6 | KP4: 1 | KQ4: 2 | KR4: 3 | KS4: 4 | KT4: 5 | KU4: 6 | KV4: 1 | KW4: 2 | KX4: 3 | KY4: 4 | KZ4: 5 | LA4: 6 | LB4: 1 | LC4: 2 | LD4: 3 | LE4: 4 | LF4: 5 | LG4: 6 | LH4: 1 | LI4: 2 | LJ4: 3 | LK4: 4 | LL4: 5 | LM4: 6 | LN4: 1 | LO4: 2 | LP4: 3 | LQ4: 4 | LR4: 5 | LS4: 6 | LT4: 1 | LU4: 2 | LV4: 3 | LW4: 4 | LX4: 5 | LY4: 6 | LZ4: 1 | MA4: 2 | MB4: 3 | MC4: 4 | MD4: 5 | ME4: 6 | MF4: 1 | MG4: 2 | MH4: 3 | MI4: 4 | MJ4: 5 | MK4: 6 | ML4: 1 | MM4: 2 | MN4: 3 | MO4: 4 | MP4: 5 | MQ4: 6 | MR4: 1 | MS4: 2 | MT4: 3 | MU4: 4 | MV4: 5 | MW4: 6 | MX4: 1 | MY4: 2 | MZ4: 3 | NA4: 4 | NB4: 5 | NC4: 6 | ND4: 1 | NE4: 2 | NF4: 3 | NG4: 4 | NH4: 5 | NI4: 6 | NJ4: 1 | NK4: 2 | NL4: 3 | NM4: 4 | NN4: 5 | NO4: 6 | NP4: 1 | NQ4: 2 | NR4: 3 | NS4: 4 | NT4: 5 | NU4: 6 | NV4: 1 | NW4: 2 | NX4: 3 | NY4: 4 | NZ4: 5 | OA4: 6 | OB4: 1 | OC4: 2 | OD4: 3 | OE4: 4 | OF4: 5 | OG4: 6 | OH4: 1 | OI4: 2 | OJ4: 3 | OK4: 4 | OL4: 5 | OM4: 6 | ON4: 1 | OO4: 2 | OP4: 3 | OQ4: 4 | OR4: 5 | OS4: 6 | OT4: 1 | OU4: 2 | OV4: 3 | OW4: 4 | OX4: 5 | OY4: 6 | OZ4: 1 | PA4: 2 | PB4: 3 | PC4: 4 | PD4: 5 | PE4: 6 | PF4: 1 | PG4: 2 | PH4: 3 | PI4: 4 | PJ4: 5 | PK4: 6 | PL4: 1 | PM4: 2 | PN4: 3 | PO4: 4 | PP4: 5 | PQ4: 6 | PR4: 1 | PS4: 2 | PT4: 3 | PU4: 4 | PV4: 5 | PW4: 6 | PX4: 1 | PY4: 2 | PZ4: 3 | QA4: 4 | QB4: 5 | QC4: 6 | QD4: 1 | QE4: 2 | QF4: 3 | QG4: 4 | QH4: 5 | QI4: 6 | QJ4: 1 | QK4: 2 | QL4: 3 | QM4: 4 | QN4: 5 | QO4: 6 | QP4: 1 | QQ4: 2 | QR4: 3 | QS4: 4 | QT4: 5 | QU4: 6 | QV4: 1 | QW4: 2 | QX4: 3 | QY4: 4 | QZ4: 5 | RA4: 6 | RB4: 1 | RC4: 2 | RD4: 3 | RE4: 4 | RF4: 5 | RG4: 6 | RH4: 1 | RI4: 2 | RJ4: 3 | RK4: 4 | RL4: 5 | RM4: 6 | RN4: 1 | RO4: 2 | RP4: 3 | RQ4: 4 | RR4: 5 | RS4: 6 | RT4: 1 | RU4: 2 | RV4: 3 | RW4: 4 | RX4: 5 | RY4: 6 | RZ4: 1 | SA4: 2 | SB4: 3 | SC4: 4 | SD4: 5 | SE4: 6 | SF4: 1 | SG4: 2 | SH4: 3 | SI4: 4 | SJ4: 5 | SK4: 6 | SL4: 1 | SM4: 2 | SN4: 3 | SO4: 4 | SP4: 5 | SQ4: 6 | SR4: 1 | SS4: 2 | ST4: 3 | SU4: 4 | SV4: 5 | SW4: 6 | SX4: 1 | SY4: 2 | SZ4: 3 | TA4: 4 | TB4: 5 | TC4: 6 | TD4: 1 | TE4: 2 | TF4: 3 | TG4: 4 | TH4: 5 | TI4: 6 | TJ4: 1 | TK4: 2 | TL4: 3 | TM4: 4 | TN4: 5 | TO4: 6 | TP4: 1 | TQ4: 2 | TR4: 3 | TS4: 4 | TT4: 5 | TU4: 6
A5: =0 -> 0 | B5: -0.3225368 | C5: -1.1106094 | D5: 2.1133506 | E5: -0.80535734 | F5: -0.39751866 | G5: -0.99994153 | H5: 3.4643354 | I5: -0.91330558 | J5: 2.9860952 | K5: 1.9238261 | L5: 1.6869122 | M5: 1.8793349 | N5: -2.7453496 | O5: -1.7432045 | P5: -0.67466837 | Q5: -2.1481948 | T5: -0.86828357 | U5: 0.34729055 | V5: -1.1243747 | W5: -1.3589703 | X5: -0.6190033 | Y5: -0.061002858 | Z5: -0.64787638 | AA5: -2.8829451 | AB5: -2.7729554 | AC5: -5.5873494 | AD5: -3.4028428 | AE5: -2.7585721 | AF5: 9.972476 | AG5: 9.3495579 | AH5: 10.166665 | AI5: 7.8869252 | AJ5: 8.4995966 | AK5: 9.2154217 | AL5: 0.75997972 | AM5: 0.5292173 | AN5: 0.52766764 | AO5: 0.12715845 | AP5: 1.1656512 | AQ5: -0.98219681 | AR5: -1.5995766 | AS5: -0.76048708 | AT5: -0.61916584 | AU5: -1.6274168 | AV5: -1.3127217 | AW5: -1.784899 | AX5: -0.32594472 | AY5: 1.1523628 | AZ5: 0.75477672 | BA5: -1.1793025 | BB5: -0.54940063 | BC5: -0.82858741 | BD5: -0.51745176 | BE5: -1.6045229 | BF5: -2.4553697 | BG5: -1.0201408 | BH5: -2.0171719 | BI5: -0.10444707 | BJ5: -2.3405879 | BK5: -1.4863225 | BL5: -1.6755974 | BM5: -2.6531217 | BN5: -0.48374012 | BP5: -0.89816201 | BQ5: 0.92588824 | BR5: 0.2442013 | BS5: 0.67989582 | BT5: 0.92267746 | BU5: -0.23337743 | BV5: -3.4236193 | BW5: -1.8059621 | BX5: -1.890198 | BY5: -4.7820907 | BZ5: -0.72356445 | CA5: -0.25761846 | CB5: -0.4621824 | CC5: -0.29175231 | CD5: -0.0099225231 | CE5: 1.7589331 | CF5: -0.11532114 | CH5: 0.65599978 | CI5: 0.86548311 | CJ5: -0.42812285 | CK5: 0.29018947 | CL5: 0.37596875 | CM5: 1.3145469 | CN5: 0.23557669 | CO5: 0.6728912 | CP5: 0.66182005 | CQ5: -0.38404244 | CR5: -0.19717677 | CS5: 1.8651683 | CT5: -0.14015123 | CU5: -0.62736821 | CV5: -0.081184559 | CW5: -1.0530837 | CX5: -0.4678551 | CY5: -1.1292613 | CZ5: 0.63018578 | DA5: 0.65058011 | DB5: -0.79507679 | DC5: -0.13913636 | DD5: -0.46800286 | DE5: -0.68511373 | DF5: 1.1471289 | DG5: 1.3924112 | DH5: 1.2247285 | DI5: 1.8103499 | DJ5: 1.7844758 | DK5: 1.5339564 | DL5: -0.57007432 | DM5: -1.4395816 | DN5: -2.7381752 | DO5: -0.89047247 | DP5: -2.5340703 | DQ5: -1.2134702 | DR5: -2.9098241 | DS5: -2.2866957 | DT5: -3.7219672 | DU5: -2.9603593 | DV5: -3.5202227 | DW5: -3.8099744 | DX5: -0.18281513 | DY5: -0.55239314 | DZ5: -0.32846987 | EA5: -0.59146547 | EB5: -0.4196156 | EC5: 1.9843889 | ED5: -0.22701283 | EE5: -1.5117198 | EF5: -4.1358886 | EG5: -1.2237995 | EH5: -2.6381881 | EI5: -2.5747671 | EJ5: 4.1967998 | EK5: 3.8882365 | EL5: 3.2022638 | EM5: 3.0080252 | EN5: 4.6665206 | EO5: 3.6456332 | EP5: -2.257714 | EQ5: 0.055711374 | ER5: -1.326466 | ES5: -2.5553453 | ET5: -2.3031089 | EU5: 0.62302202 | EV5: -1.0835247 | EW5: -0.78778249 | EX5: -1.4845043 | EY5: -0.64131027 | EZ5: -0.090625957 | FA5: -0.63003707 | FB5: -3.50032 | FC5: -3.3704298 | FD5: -3.2906206 | FE5: -2.5488253 | FF5: -3.0424101 | FG5: -2.6894598 | FH5: 4.274384 | FI5: 4.4760213 | FJ5: 5.1392374 | FK5: 3.4444795 | FL5: 3.7360919 | FM5: 2.3933136 | FN5: -4.8519173 | FO5: -5.7763643 | FP5: -3.7063298 | FQ5: -2.7010174 | FR5: -4.853147 | FS5: -3.9279413 | FT5: -1.3303046 | FU5: 0.86411422 | FV5: 1.8770847 | FW5: -0.86975664 | FX5: -5.489953 | FY5: 3.0768344 | FZ5: -0.93389529 | GA5: -2.2024219 | GB5: -0.49460292 | GC5: -2.0150435 | GD5: -2.2743902 | GE5: -2.710427 | GF5: -3.3681605 | GG5: -3.4641984 | GH5: -5.2677884 | GI5: -3.5991411 | GJ5: -0.6648277 | GK5: -2.6814134 | GL5: -1.4954941 | GM5: 0.0060198139 | GN5: 1.3264177 | GO5: 0.27154893 | GP5: -0.32861128 | GQ5: -1.7433422 | GR5: -0.56960797 | GS5: -2.4869905 | GT5: -1.6353024 | GU5: -2.6701162 | GV5: -2.3356078 | GW5: -2.6063545 | GX5: -2.1134009 | GY5: -3.6190004 | GZ5: -2.9475548 | HA5: -4.0424595 | HB5: -2.0946229 | HC5: -3.1686063 | HD5: -1.4004419 | HE5: -1.3550267 | HF5: -0.73346263 | HG5: -0.31260633 | HH5: -0.44356027 | HI5: -2.5483122 | HJ5: 0.67376471 | HK5: 1.1913276 | HL5: 0.1693802 | HM5: 2.0373232 | HN5: -0.11610164 | HO5: 0.42637038 | HP5: -2.2661562 | HQ5: -1.4946427 | HR5: -0.12236592 | HS5: 0.21728957 | HT5: 0.38951382 | HU5: 0.021688182 | HV5: 0.28174293 | HW5: 0.6102941 | HX5: 2.044158 | HY5: 0.91444319 | HZ5: 3.1241596 | IA5: 1.1728535 | IB5: 1.8605241 | IC5: -0.30448335 | ID5: 0.40249538 | IE5: 1.4018986 | IF5: 0.22078544 | IG5: 0.20982575 | IH5: -1.2794477 | II5: -1.1171168 | IJ5: -0.25797406 | IK5: 1.6759036 | IL5: 0.50054169 | IM5: 1.6061172 | IN5: 0.62531167 | IO5: 3.1129665 | IP5: -0.4616591 | IQ5: 2.7135184 | IR5: 1.9500632 | IS5: 1.3748151 | IT5: 1.5427221 | IU5: 2.2539058 | IV5: 1.5058718 | IW5: 3.1411664 | IX5: 3.3684063 | IY5: 2.7072549 | IZ5: 1.6990914 | JA5: -0.63447946 | JB5: 3.990046 | JC5: 2.5408418 | JD5: -0.33979088 | JE5: 1.8575705 | JF5: 1.951933 | JG5: 0.48892581 | JH5: 2.5188501 | JI5: 1.0067862 | JJ5: 0.93219292 | JK5: 1.1148094 | JL5: -1.3589873 | JM5: -1.1923532 | JN5: -1.4316422 | JO5: -1.7715212 | JP5: -1.7865955 | JQ5: -1.5344541 | JR5: -1.5055407 | JS5: -2.6671126 | JT5: -3.5395536 | JU5: -0.91121286 | JV5: -2.5676992 | JW5: -3.2851593 | JX5: 1.1518942 | JY5: 0.29080087 | JZ5: 0.020058164 | KA5: -0.52813846 | KB5: 1.2217389 | KC5: 0.60143733 | KD5: -1.6144416 | KE5: -1.1408781 | KF5: -1.7073866 | KG5: -2.1470196 | KH5: -1.5356425 | KI5: -1.0339518 | KJ5: -1.5892159 | KK5: -4.0358348 | KL5: -2.9208598 | KM5: -4.3653293 | KN5: -4.6378627 | KO5: -4.6684928 | KP5: -0.47568795 | KQ5: 1.3593613 | KR5: 1.6947579 | KS5: -0.49736643 | KT5: 0.096220218 | KU5: -0.19415924 | KV5: -0.1450894 | KW5: 0.25275517 | KX5: 0.10912204 | KY5: 0.17382196 | KZ5: -1.5154465 | LA5: -0.14906205 | LB5: -1.6568171 | LC5: -0.71947777 | LD5: -1.193267 | LE5: -2.1598589 | LF5: -2.2922027 | LG5: -2.8533361 | LH5: -1.1513375 | LI5: -0.99929518 | LJ5: -0.19715807 | LK5: -1.3650697 | LL5: -3.5843539 | LM5: -1.0294331 | LN5: -3.3383491 | LO5: -0.26335749 | LP5: -2.866689 | LQ5: -2.5380449 | LR5: -1.0836351 | LS5: -4.3221607 | LT5: -6.0336971 | LU5: -2.885329 | LV5: -2.7466826 | LW5: -2.0843062 | LX5: -2.4765353 | LY5: -2.2488766 | LZ5: -2.4826238 | MA5: -1.3529608 | MB5: -0.52663022 | MC5: -1.6951706 | MD5: -2.5931675 | ME5: -1.8944931 | MF5: -2.4572878 | MG5: -1.5071698 | MH5: -1.7323853 | MI5: -1.6586128 | ML5: -0.45243353 | MM5: -1.3379666 | MN5: -1.214352 | MO5: -0.54063231 | MP5: -1.7352399 | MQ5: 0.15062141 | MR5: -1.0319998 | MS5: -3.3397501 | MT5: -3.6358347 | MU5: -1.7675632 | MV5: -0.58334559 | MW5: -1.9911278 | MX5: -4.4538407 | MY5: -4.859643 | MZ5: -2.5218103 | NA5: -3.2755694 | NB5: -2.4217696 | NC5: -1.2073617 | ND5: -2.8997827 | NE5: -1.4632007 | NF5: -1.1081965 | NG5: -1.2793823 | NH5: -0.73964339 | NI5: -1.22885 | NJ5: -1.5014641 | NK5: -3.1277595 | NL5: -2.494036 | NM5: 0.66790634 | NN5: -1.9523841 | NO5: -1.6519943 | NP5: 3.0490572 | NQ5: -0.095404252 | NR5: 1.333382 | NS5: 0.29309353 | NT5: 0.36507735 | NU5: 0.66163599 | NV5: 2.5766764 | NW5: -0.091403693 | NX5: 1.0596019 | NY5: 0.95073682 | NZ5: 0.33810115 | OA5: -0.41749072 | OB5: 3.6982749 | OC5: 1.773008 | OD5: 1.5195302 | OE5: 1.8462346 | OF5: 2.1278253 | OG5: 4.5636706 | OH5: 0.55445105 | OI5: 1.3402656 | OJ5: 0.87421834 | OK5: 0.62666988 | OL5: 0.03696217 | OM5: 2.4106674 | ON5: 2.2642431 | OO5: 1.8562782 | OP5: 0.65374863 | OQ5: 0.85108334 | OR5: -1.2677276 | OS5: 1.4834119 | OT5: 2.4165878 | OU5: 1.9743664 | OV5: 2.0543704 | OW5: -0.087571181 | OX5: 1.5708152 | OY5: 2.9741318 | OZ5: 2.1318762 | PA5: 4.114965 | PB5: 3.2278209 | PC5: 4.0008287 | PD5: 3.7540448 | PE5: 2.8534017 | PF5: -0.10946961 | PG5: -0.25374702 | PH5: -1.7366738 | PI5: -0.32737294 | PJ5: 2.0488734 | PK5: -0.49412203 | PL5: 4.3694749 | PM5: 1.5818574 | PN5: -0.20571396 | PO5: 1.9800558 | PP5: -0.2948162 | PQ5: 1.6456653 | PR5: -0.094262227 | PS5: 1.8627338 | PT5: -0.38236701 | PU5: 0.6771239 | PV5: 0.48674753 | PX5: 0.52046961 | PY5: 0.24708395 | PZ5: 1.2077891 | QA5: -1.2556481 | QB5: -0.6671989 | QC5: -2.4709802 | QD5: 1.4993213 | QE5: -0.39815575 | QF5: -0.21991298 | QG5: 0.48557067 | QH5: 0.14866966 | QI5: 0.092639633 | QJ5: 1.7076271 | QK5: 0.93840379 | QL5: 0.42947748 | QM5: 1.8157837 | QN5: -0.65750694 | QO5: -0.42027625 | QP5: -0.5790481 | QQ5: 0.0038810954 | QR5: 0.10587724 | QS5: -1.3099301 | QT5: 0.29322881 | QU5: -0.050708398 | QV5: 0.27231321 | QW5: 1.884508 | QX5: 0.56780958 | QY5: 0.42469871 | QZ5: 0.73213536 | RA5: 0.54324555 | RB5: 0.86144537 | RC5: 1.719395 | RD5: 1.156785 | RE5: 1.6600422 | RF5: -0.1798031 | RG5: 0.15506583 | RH5: -0.66723907 | RI5: 0.44750369 | RJ5: -0.03646329 | RK5: -0.31382167 | RL5: 2.3986742 | RM5: 0.81759894 | RN5: 3.4421394 | RO5: 3.3577499 | RP5: 2.5504429 | RQ5: 3.3878362 | RR5: 3.7783604 | RS5: 3.7915351 | RT5: 1.7376317 | RU5: 0.93759537 | RV5: 2.4472733 | RW5: 1.151773 | RX5: 1.9900901 | RY5: -0.2597068 | RZ5: 5.886796 | SA5: 5.1930261 | SB5: 3.9674129 | SC5: 2.9883888 | SD5: 1.8172375 | SE5: 2.7473476 | SF5: -1.3083063 | SG5: 2.8381934 | SH5: 1.8252321 | SI5: 2.8125992 | SJ5: 3.8837559 | SK5: 1.7958506 | SL5: 2.629174 | SM5: 3.4436572 | SN5: 2.4159749 | SO5: 2.4968603 | SP5: 3.0900383 | SQ5: 3.6184523 | SR5: 1.9011539 | SS5: 2.4718604 | ST5: 2.7272198 | SU5: 2.7524033 | SV5: 2.3850117 | SW5: 1.2316511 | SX5: 0.83348608 | SY5: 2.1497381 | SZ5: 2.1637669 | TA5: 1.0118473 | TB5: 2.1494119 | TC5: 2.3362281 | TD5: 0.34470218 | TE5: -3.5568132 | TF5: 1.1145295 | TG5: 1.2476074 | TH5: 0.42281476 | TI5: 1.1807377 | TJ5: 2.1627452 | TK5: 0.81279254 | TL5: 2.2920263 | TM5: 1.263057 | TN5: 2.0031807 | TO5: -1.0970837 | TP5: 2.347595 | TQ5: 1.5767053 | TR5: 0.74875003 | TS5: 1.2738388 | TT5: 3.7125316 | TU5: 3.3196738
A6: =A5+0.01 -> 0.01 | B6: -1.1656139 | C6: -1.5785249 | D6: 1.1432494 | E6: -1.8164867 | F6: -1.0551774 | G6: -1.7556141 | H6: 2.3908125 | I6: -0.81934348 | J6: 1.9023739 | K6: 1.1947497 | L6: 1.2614368 | M6: 1.2522372 | N6: -3.0891717 | O6: -2.2245936 | P6: -0.65934547 | Q6: -2.6488719 | T6: -1.5799545 | U6: -0.48343054 | V6: -1.7068654 | W6: -1.8930772 | X6: -1.179611 | Y6: -0.8133145 | Z6: -1.1112039 | AA6: -3.9795525 | AB6: -3.5741934 | AC6: -5.7818056 | AD6: -3.5668279 | AE6: -2.7352296 | AF6: 8.6276103 | AG6: 6.9240465 | AH6: 8.6079156 | AI6: 6.4430912 | AJ6: 7.5307008 | AK6: 8.7040841 | AL6: -0.061740495 | AM6: -0.15398888 | AN6: -0.416953 | AO6: -0.59075278 | AP6: 0.20407696 | AQ6: -1.5300888 | AR6: -2.1171878 | AS6: -1.5339215 | AT6: -1.3074822 | AU6: -2.0838295 | AV6: -2.059703 | AW6: -2.2098066 | AX6: -0.94879428 | AY6: 0.62671978 | AZ6: 0.18428243 | BA6: -1.8415335 | BB6: -0.85578861 | BC6: -1.4935529 | BD6: -1.5225077 | BE6: -2.1300607 | BF6: -3.5974899 | BG6: -2.0183694 | BH6: -2.5241599 | BI6: -1.0801715 | BJ6: -3.1594124 | BK6: -2.4648578 | BL6: -2.5067264 | BM6: -3.1695685 | BN6: -1.6248538 | BP6: -1.597798 | BQ6: -0.27214419 | BR6: -0.65309192 | BS6: -0.090749729 | BT6: 0.011158903 | BU6: -0.9645638 | BV6: -4.7053949 | BW6: -2.6736826 | BX6: -2.9047136 | BY6: -5.3579656 | BZ6: -1.207712 | CA6: -1.938632 | CB6: -0.99664113 | CC6: -1.081 | CD6: -0.42304866 | CE6: -0.14226922 | CF6: -0.43897286 | CH6: -0.41313794 | CI6: 0.10624438 | CJ6: -1.0503004 | CK6: -0.27167504 | CL6: -0.038356273 | CM6: 0.25409744 | CN6: -0.41990248 | CO6: -0.48254747 | CP6: -0.37736094 | CQ6: -1.1066042 | CR6: -0.54730089 | CS6: 0.64406819 | CT6: -0.69226795 | CU6: -1.2598198 | CV6: -0.60247912 | CW6: -1.8617819 | CX6: -0.94668295 | CY6: -1.7502134 | CZ6: -0.35122131 | DA6: -0.34001348 | DB6: -1.6469079 | DC6: -1.1287801 | DD6: -1.2852259 | DE6: -1.5582164 | DF6: 0.44708562 | DG6: 0.72531584 | DH6: 0.57719978 | DI6: 0.73475154 | DJ6: 0.76594423 | DK6: 0.79012003 | DL6: -1.6227566 | DM6: -2.4941863 | DN6: -3.3731545 | DO6: -2.415342 | DP6: -3.437272 | DQ6: -2.1715807 | DR6: -3.2144121 | DS6: -2.5861962 | DT6: -4.5751337 | DU6: -4.1721033 | DV6: -4.4629337 | DW6: -4.9449435 | DX6: -0.62365091 | DY6: -1.0953214 | DZ6: -1.0259234 | EA6: -1.1391767 | EB6: -0.98562744 | EC6: 0.95668694 | ED6: -1.0395675 | EE6: -2.3288697 | EF6: -4.1388096 | EG6: -1.6881371 | EH6: -3.3451871 | EI6: -2.9696805 | EJ6: 3.8208286 | EK6: 4.0371601 | EL6: 2.4299229 | EM6: 2.527177 | EN6: 3.9907829 | EO6: 4.3344027 | EP6: -2.6995809 | EQ6: -0.76832137 | ER6: -2.0540993 | ES6: -3.0860525 | ET6: -2.8983793 | EU6: 0.24202877 | EV6: -1.5714047 | EW6: -1.8131843 | EX6: -2.4791057 | EY6: -1.0421147 | EZ6: -1.133056 | FA6: -1.6060567 | FB6: -3.8734977 | FC6: -3.6055913 | FD6: -4.1462784 | FE6: -3.0448713 | FF6: -3.1692787 | FG6: -3.1469168 | FH6: 2.0776145 | FI6: 3.2562051 | FJ6: 3.4326768 | FK6: 1.735344 | FL6: 2.6284225 | FM6: 1.4142735 | FN6: -5.8872611 | FO6: -6.5950975 | FP6: -4.7540385 | FQ6: -3.5080635 | FR6: -6.1444465 | FS6: -5.0453625 | FT6: -2.4086934 | FU6: -0.33787426 | FV6: 0.43719802 | FW6: -2.1803279 | FX6: -5.8211781 | FY6: 1.8388437 | FZ6: -1.9672458 | GA6: -3.2749093 | GB6: -4.0832406 | GC6: -2.8119359 | GD6: -2.9937028 | GE6: -4.33545 | GF6: -4.3506175 | GG6: -5.2598126 | GH6: -6.3432224 | GI6: -5.4114596 | GJ6: -1.4488735 | GK6: -4.0797061 | GL6: -3.0182803 | GM6: -2.1650222 | GN6: -1.432795 | GO6: -1.6588697 | GP6: -1.3995884 | GQ6: -2.5007117 | GR6: -1.926432 | GS6: -4.2056851 | GT6: -1.8470792 | GU6: -4.4721694 | GV6: -3.9717984 | GW6: -3.316582 | GX6: -3.4430281 | GY6: -4.6748261 | GZ6: -4.6210205 | HA6: -4.5836736 | HB6: -3.4519617 | HC6: -4.1476969 | HD6: -2.2444465 | HE6: -2.0974509 | HF6: -2.1973088 | HG6: -1.1773697 | HH6: -1.6855951 | HI6: -3.6760263 | HJ6: -0.53564528 | HK6: -0.05283649 | HL6: -1.1101823 | HM6: 0.8116955 | HN6: -1.3701604 | HO6: -0.3262969 | HP6: -3.339827 | HQ6: -2.6687644 | HR6: -1.1798612 | HS6: -1.1138765 | HT6: -0.7328418 | HU6: -0.72729007 | HV6: -0.87916751 | HW6: -0.9129956 | HX6: 0.79602554 | HY6: -0.091870932 | HZ6: 1.6357398 | IA6: 0.083758381 | IB6: 1.1375843 | IC6: -1.0067411 | ID6: -1.0122713 | IE6: 0.17988268 | IF6: -0.93498873 | IG6: -0.4220969 | IH6: -2.2522578 | II6: -2.0361176 | IJ6: -0.68617943 | IK6: 0.91050871 | IL6: -0.020817277 | IM6: 0.80740702 | IN6: -0.10022048 | IO6: 1.9489832 | IP6: -1.2015089 | IQ6: 1.096321 | IR6: 0.90340404 | IS6: 0.7642235 | IT6: 0.91624582 | IU6: 0.92056829 | IV6: 0.18774982 | IW6: 2.1945312 | IX6: 2.2805198 | IY6: 1.3185172 | IZ6: 0.85814243 | JA6: -1.4367144 | JB6: 3.5436105 | JC6: 1.689721 | JD6: -1.1026857 | JE6: 1.4674129 | JF6: 1.0545379 | JG6: -0.46819668 | JH6: 1.8969011 | JI6: 0.63912959 | JJ6: 0.033897933 | JK6: 0.51167726 | JL6: -1.7346676 | JM6: -1.4790051 | JN6: -1.9039951 | JO6: -2.396897 | JP6: -2.0855173 | JQ6: -1.7209062 | JR6: -2.1803611 | JS6: -3.0602019 | JT6: -4.0868458 | JU6: -2.1909225 | JV6: -2.6882414 | JW6: -3.493987 | JX6: 0.23869564 | JY6: -0.62821229 | JZ6: -0.60040065 | KA6: -1.0454193 | KB6: 0.66533345 | KC6: 0.17310174 | KD6: -1.8956422 | KE6: -1.6018131 | KF6: -2.1893657 | KG6: -2.9307772 | KH6: -2.1312421 | KI6: -1.4831086 | KJ6: -2.1726962 | KK6: -5.0019356 | KL6: -3.3519652 | KM6: -4.7700401 | KN6: -4.9162503 | KO6: -5.0940188 | KP6: -1.1713131 | KQ6: 0.11262196 | KR6: 0.78455785 | KS6: -1.0631828 | KT6: -0.35755825 | KU6: -0.74134083 | KV6: -0.86162444 | KW6: -0.14997554 | KX6: -0.41631892 | KY6: -0.57502851 | KZ6: -2.0287673 | LA6: -0.77825978 | LB6: -2.1394713 | LC6: -1.2466656 | LD6: -1.5996686 | LE6: -2.6035515 | LF6: -2.6359718 | LG6: -3.3833836 | LH6: -1.5377921 | LI6: -1.4099316 | LJ6: -0.78562427 | LK6: -1.8804702 | LL6: -4.216283 | LM6: -2.0104467 | LN6: -4.1288056 | LO6: -1.6933512 | LP6: -3.4731024 | LQ6: -3.3836766 | LR6: -2.3930813 | LS6: -4.1191783 | LT6: -6.5774163 | LU6: -3.7426904 | LV6: -3.5048446 | LW6: -3.1200811 | LX6: -3.1266121 | LY6: -2.8586448 | LZ6: -3.1437261 | MA6: -2.077935 | MB6: -1.2344771 | MC6: -2.294202 | MD6: -3.4321435 | ME6: -2.4519018 | MF6: -2.9156386 | MG6: -2.717479 | MH6: -2.806919 | MI6: -1.7680828 | ML6: -1.4857033 | MM6: -1.7822564 | MN6: -1.6737052 | MO6: -1.3348882 | MP6: -2.1548524 | MQ6: -0.82546872 | MR6: -1.3965271 | MS6: -3.723321 | MT6: -5.0699487 | MU6: -3.1864347 | MV6: -1.6818272 | MW6: -2.6659349 | MX6: -4.9001838 | MY6: -5.2480493 | MZ6: -2.8947856 | NA6: -3.7203648 | NB6: -3.0435149 | NC6: -1.8507847 | ND6: -3.3926082 | NE6: -2.447185 | NF6: -2.4464461 | NG6: -1.7402114 | NH6: -1.4359414 | NI6: -1.6657645 | NJ6: -1.9806931 | NK6: -2.9879636 | NL6: -2.8949941 | NM6: -0.031776182 | NN6: -2.3658852 | NO6: -2.2368265 | NP6: 1.8805818 | NQ6: -0.75039899 | NR6: -0.013248091 | NS6: -0.81587309 | NT6: -0.47530218 | NU6: -0.4291805 | NV6: 1.9241853 | NW6: -0.72395927 | NX6: 0.15858484 | NY6: -0.33214273 | NZ6: -0.97252352 | OA6: -1.5864688 | OB6: 2.3875963 | OC6: 0.19853737 | OD6: 0.02987071 | OE6: 0.52239451 | OF6: 1.5160929 | OG6: 2.7718955 | OH6: -0.56992899 | OI6: -0.21480849 | OJ6: 0.092686461 | OK6: -0.6494733 | OL6: -1.2258123 | OM6: 1.6174888 | ON6: 1.5474339 | OO6: 1.2291806 | OP6: -0.31368865 | OQ6: 0.076735842 | OR6: -2.1397667 | OS6: 0.68481867 | OT6: 1.2953251 | OU6: 1.1636453 | OV6: 0.91099396 | OW6: -1.2191709 | OX6: 0.46219589 | OY6: 1.9711318 | OZ6: 1.1256315 | PA6: 3.3641086 | PB6: 1.933944 | PC6: 2.879883 | PD6: 2.1957694 | PE6: 0.87985341 | PF6: -1.545709 | PG6: -1.3268251 | PH6: -2.9255792 | PI6: -1.1752983 | PJ6: 0.85000271 | PK6: -1.4354717 | PL6: 2.7115552 | PM6: 0.42741035 | PN6: -0.90308897 | PO6: 0.76857243 | PP6: -1.2731826 | PQ6: 0.34661213 | PR6: -0.81895462 | PS6: 0.90353202 | PT6: -0.95543138 | PU6: -0.63242633 | PV6: -0.060019616 | PX6: -0.32264981 | PY6: -0.038994251 | PZ6: 0.75621486 | QA6: -1.7125131 | QB6: -1.181763 | QC6: -2.9822709 | QD6: 0.18617629 | QE6: -1.0710816 | QF6: -0.95602847 | QG6: -0.079056504 | QH6: -1.5522193 | QI6: -1.1888384 | QJ6: 1.3987896 | QK6: 0.4085574 | QL6: -0.19326361 | QM6: 1.0016379 | QN6: -0.92279238 | QO6: -0.78497883 | QP6: -1.2330937 | QQ6: -0.33055642 | QR6: -0.59968364 | QS6: -1.9298626 | QT6: -0.38627857 | QU6: -0.81385045 | QV6: -0.071946192 | QW6: 1.7381624 | QX6: -0.95178088 | QY6: -0.22416404 | QZ6: 0.24310054 | RA6: -0.1773584 | RB6: 0.4110607 | RC6: 0.91216274 | RD6: -0.18096484 | RE6: 0.76782724 | RF6: -0.82857701 | RG6: -0.50130233 | RH6: -1.317582 | RI6: -0.012382641 | RJ6: -1.0735407 | RK6: -1.249771 | RL6: 1.8200123 | RM6: 0.20294231 | RN6: 2.7233496 | RO6: 2.4525713 | RP6: 1.5052343 | RQ6: 2.8709207 | RR6: 2.4480907 | RS6: 2.2733539 | RT6: 0.24638518 | RU6: -0.58985674 | RV6: 1.0100516 | RW6: -0.76388235 | RX6: -0.65724777 | RY6: -2.1409186 | RZ6: 4.1170619 | SA6: 3.4782464 | SB6: 2.4675942 | SC6: 1.7991908 | SD6: 0.14145921 | SE6: 1.614939 | SF6: -1.9565716 | SG6: 1.2242208 | SH6: 0.0665168 | SI6: 1.2020977 | SJ6: 2.1623267 | SK6: 0.55968328 | SL6: 1.74068 | SM6: 2.8174637 | SN6: 1.4881291 | SO6: 1.6004888 | SP6: 2.2703289 | SQ6: 2.4486422 | SR6: 0.96410237 | SS6: 1.0283367 | ST6: 1.2510142 | SU6: 1.7009404 | SV6: 0.60893841 | SW6: 0.18575199 | SX6: 0.13192415 | SY6: 0.76351711 | SZ6: 0.95879056 | TA6: -0.2834748 | TB6: 1.231496 | TC6: 0.45149174 | TD6: -1.029999 | TE6: -2.8300208 | TF6: -0.46210964 | TG6: 0.12378581 | TH6: -0.77316181 | TI6: -0.4995287 | TJ6: 0.33307693 | TK6: -0.93857702 | TL6: 0.86698847 | TM6: 0.39767853 | TN6: 0.7235018 | TO6: -1.6881706 | TP6: 1.3887606 | TQ6: 0.044363858 | TR6: -0.30175367 | TS6: -0.10118445 | TT6: 2.140221 | TU6: 1.479966
A7: =A6+0.01 -> 0.02 | B7: -1.9279483 | C7: -2.0204318 | D7: 0.39842416 | E7: -2.4277575 | F7: -1.7421355 | G7: -2.2171788 | H7: 1.6881319 | I7: -0.73152417 | J7: 0.97606494 | K7: 0.78848408 | L7: 0.68075979 | M7: 0.80183205 | N7: -3.5863949 | O7: -2.4881392 | P7: -0.58747806 | Q7: -3.0979384 | T7: -2.0651621 | U7: -1.1881888 | V7: -2.2993674 | W7: -2.2405769 | X7: -1.7611862 | Y7: -1.3466848 | Z7: -1.5401433 | AA7: -4.4780381 | AB7: -4.2855575 | AC7: -5.8484916 | AD7: -3.5870266 | AE7: -3.0393925 | AF7: 7.9850544 | AG7: 6.4068135 | AH7: 6.7498086 | AI7: 6.0026405 | AJ7: 6.133588 | AK7: 7.7493833 | AL7: -0.65276453 | AM7: -0.71697354 | AN7: -1.1659329 | AO7: -1.1676266 | AP7: -0.4680817 | AQ7: -1.8482982 | AR7: -2.4428496 | AS7: -2.1154956 | AT7: -1.8531728 | AU7: -2.5376354 | AV7: -2.5996964 | AW7: -2.6056476 | AX7: -1.2931735 | AY7: 0.14334522 | AZ7: -0.322231 | BA7: -2.4360302 | BB7: -1.0806344 | BC7: -1.9608311 | BD7: -2.2947425 | BE7: -2.8258045 | BF7: -4.2796927 | BG7: -2.4978892 | BH7: -2.9887023 | BI7: -2.0433031 | BJ7: -3.8427586 | BK7: -3.1707394 | BL7: -3.1192504 | BM7: -3.8120484 | BN7: -2.6998606 | BP7: -2.1402142 | BQ7: -0.95184991 | BR7: -1.3635402 | BS7: -0.52926934 | BT7: -1.1240167 | BU7: -2.0636929 | BV7: -5.3768732 | BW7: -3.3290377 | BX7: -3.3404223 | BY7: -5.8258772 | BZ7: -1.9774526 | CA7: -2.4828639 | CB7: -1.3994475 | CC7: -1.7506598 | CD7: -0.9497361 | CE7: -1.1209052 | CF7: -0.75733793 | CH7: -0.9095957 | CI7: -0.76788441 | CJ7: -2.0802267 | CK7: -0.97915671 | CL7: -0.7548159 | CM7: -0.19497488 | CN7: -0.73692021 | CO7: -1.274339 | CP7: -1.011359 | CQ7: -2.0967388 | CR7: -0.79933732 | CS7: -0.6215636 | CT7: -1.2235172 | CU7: -1.8773845 | CV7: -1.2742868 | CW7: -2.9325633 | CX7: -1.444359 | CY7: -2.3628649 | CZ7: -0.9239163 | DA7: -1.0002967 | DB7: -2.5456002 | DC7: -2.0775632 | DD7: -2.1643223 | DE7: -2.4346867 | DF7: -0.17377825 | DG7: 0.22478215 | DH7: 0.02223532 | DI7: -0.12695398 | DJ7: -0.003450354 | DK7: 0.078347071 | DL7: -2.4179937 | DM7: -3.3731322 | DN7: -3.8644378 | DO7: -3.1708298 | DP7: -4.1496799 | DQ7: -2.6530488 | DR7: -3.2961408 | DS7: -2.7739987 | DT7: -5.2097012 | DU7: -5.0721486 | DV7: -4.9706873 | DW7: -5.5608718 | DX7: -0.94998883 | DY7: -1.6057485 | DZ7: -1.3629006 | EA7: -1.5630057 | EB7: -1.6745965 | EC7: 0.35048097 | ED7: -1.5872346 | EE7: -2.9155824 | EF7: -3.9386474 | EG7: -1.8690309 | EH7: -3.6860793 | EI7: -3.2155331 | EJ7: 4.1803535 | EK7: 3.352308 | EL7: 1.9493717 | EM7: 2.0979852 | EN7: 3.3282794 | EO7: 3.8824979 | EP7: -2.7782637 | EQ7: -1.4294327 | ER7: -2.7323057 | ES7: -3.3192114 | ET7: -3.2755724 | EU7: -0.074239306 | EV7: -1.7416679 | EW7: -2.3090495 | EX7: -2.8960979 | EY7: -1.4356639 | EZ7: -1.8399186 | FA7: -2.4256065 | FB7: -4.0571688 | FC7: -3.7185113 | FD7: -4.4738221 | FE7: -3.1059543 | FF7: -3.2034915 | FG7: -3.5695267 | FH7: 0.83065994 | FI7: 2.3444395 | FJ7: 1.8964557 | FK7: 0.08120059 | FL7: 1.7974215 | FM7: 0.038324827 | FN7: -6.4684661 | FO7: -6.8435066 | FP7: -5.2597456 | FQ7: -4.096291 | FR7: -7.0386702 | FS7: -6.095884 | FT7: -3.3380521 | FU7: -1.5364038 | FV7: -0.63835423 | FW7: -3.4448611 | FX7: -5.9812249 | FY7: 0.60800836 | FZ7: -2.9068746 | GA7: -4.6251052 | GB7: -5.0031398 | GC7: -4.3039803 | GD7: -4.2710966 | GE7: -5.503148 | GF7: -5.1564904 | GG7: -6.5502366 | GH7: -7.3836452 | GI7: -6.1169676 | GJ7: -2.3657023 | GK7: -5.4051376 | GL7: -4.9674177 | GM7: -3.3712474 | GN7: -2.9371141 | GO7: -2.5746573 | GP7: -2.3238805 | GQ7: -3.2403773 | GR7: -2.6010879 | GS7: -4.7820566 | GT7: -2.5444397 | GU7: -5.05194 | GV7: -4.8364011 | GW7: -4.4194048 | GX7: -4.5830054 | GY7: -5.4488039 | GZ7: -5.7785323 | HA7: -5.4482438 | HB7: -4.3678025 | HC7: -4.8178014 | HD7: -3.2469904 | HE7: -3.9173178 | HF7: -3.6861557 | HG7: -2.1614756 | HH7: -2.3555219 | HI7: -4.4938559 | HJ7: -1.4701188 | HK7: -0.81443938 | HL7: -2.0815057 | HM7: -0.30903862 | HN7: -2.3052517 | HO7: -1.0844622 | HP7: -4.2146981 | HQ7: -3.530654 | HR7: -1.9643733 | HS7: -2.1397464 | HT7: -1.715156 | HU7: -1.3349209 | HV7: -1.464931 | HW7: -2.138011 | HX7: -0.19511966 | HY7: -0.79099276 | HZ7: 0.36887601 | IA7: -0.73112518 | IB7: 0.68749768 | IC7: -1.5790028 | ID7: -2.0859506 | IE7: -0.7580944 | IF7: -1.8672425 | IG7: -1.0532496 | IH7: -2.8653659 | II7: -2.6183931 | IJ7: -1.0645087 | IK7: 0.1735585 | IL7: -0.30941286 | IM7: 0.11340889 | IN7: -0.98635588 | IO7: 0.40733873 | IP7: -1.8558295 | IQ7: 0.028516691 | IR7: -0.037573223 | IS7: 0.10579398 | IT7: 0.32148452 | IU7: -0.2044094 | IV7: -0.74452548 | IW7: 1.1206316 | IX7: 1.5313371 | IY7: 0.2084788 | IZ7: 0.29554775 | JA7: -1.8740511 | JB7: 3.2831051 | JC7: 1.0340789 | JD7: -1.5777114 | JE7: 1.0440886 | JF7: 0.45165704 | JG7: -0.99518594 | JH7: 1.2913332 | JI7: 0.35384495 | JJ7: -0.59753528 | JK7: 0.060010636 | JL7: -2.0108546 | JM7: -1.7379366 | JN7: -2.2451195 | JO7: -3.1675513 | JP7: -2.5088161 | JQ7: -1.8386861 | JR7: -2.5885694 | JS7: -3.2016701 | JT7: -4.3676742 | JU7: -3.2131192 | JV7: -2.8296094 | JW7: -3.5767308 | JX7: -0.40693153 | JY7: -1.1856459 | JZ7: -0.94328952 | KA7: -1.3902732 | KB7: 0.18335027 | KC7: -0.10368737 | KD7: -2.0664693 | KE7: -1.9357247 | KF7: -2.5860372 | KG7: -3.4374532 | KH7: -2.6131945 | KI7: -1.8613171 | KJ7: -2.7266675 | KK7: -5.6448441 | KL7: -3.7218464 | KM7: -5.1487515 | KN7: -5.0476405 | KO7: -5.4060966 | KP7: -1.6549336 | KQ7: -0.87030292 | KR7: -0.16757701 | KS7: -1.6308938 | KT7: -1.0427294 | KU7: -1.6431816 | KV7: -1.4352403 | KW7: -0.42826338 | KX7: -0.90677094 | KY7: -1.1761259 | KZ7: -2.2845378 | LA7: -1.3604508 | LB7: -2.5550051 | LC7: -1.6415713 | LD7: -2.0129374 | LE7: -3.0223238 | LF7: -2.8805783 | LG7: -3.6734743 | LH7: -2.2922513 | LI7: -1.7985982 | LJ7: -1.1494487 | LK7: -2.0773407 | LL7: -4.4424328 | LM7: -2.3042201 | LN7: -4.7308636 | LO7: -2.7081614 | LP7: -3.4932765 | LQ7: -4.0232139 | LR7: -3.1699061 | LS7: -3.9122341 | LT7: -6.9510733 | LU7: -4.4569371 | LV7: -4.0391274 | LW7: -3.5666569 | LX7: -3.5625123 | LY7: -3.2820905 | LZ7: -3.3811015 | MA7: -2.5892766 | MB7: -1.9790757 | MC7: -2.6307859 | MD7: -3.7223977 | ME7: -3.1009518 | MF7: -3.2991858 | MG7: -3.0683745 | MH7: -4.0211809 | MI7: -1.9466843 | ML7: -2.3458946 | MM7: -2.3422813 | MN7: -2.1427645 | MO7: -1.9130622 | MP7: -2.466604 | MQ7: -1.5251559 | MR7: -1.6853543 | MS7: -4.4331114 | MT7: -5.5810037 | MU7: -3.9860952 | MV7: -2.2142939 | MW7: -3.6027084 | MX7: -5.2491652 | MY7: -5.670112 | MZ7: -3.0586515 | NA7: -3.9661213 | NB7: -3.5216996 | NC7: -2.2828516 | ND7: -3.7889442 | NE7: -2.9614307 | NF7: -3.4642512 | NG7: -1.9786617 | NH7: -2.0968135 | NI7: -2.1729855 | NJ7: -2.358611 | NK7: -2.6494395 | NL7: -3.1605051 | NM7: -0.76737381 | NN7: -2.6806731 | NO7: -2.6248408 | NP7: 0.78528855 | NQ7: -1.175014 | NR7: -1.0276234 | NS7: -1.2877227 | NT7: -0.78826455 | NU7: -1.5991952 | NV7: 0.47996217 | NW7: -1.3311933 | NX7: -1.0258825 | NY7: -1.5775328 | NZ7: -1.8424201 | OA7: -2.2227857 | OB7: 1.5936361 | OC7: -0.6824337 | OD7: -0.9177994 | OE7: -0.44494203 | OF7: 0.71344167 | OG7: 1.3579271 | OH7: -1.511085 | OI7: -0.91132188 | OJ7: -0.75894079 | OK7: -1.2594419 | OL7: -2.0049617 | OM7: 0.92404146 | ON7: 0.996714 | OO7: 0.45916888 | OP7: -0.84930876 | OQ7: -1.0078654 | OR7: -2.9069362 | OS7: 0.11511736 | OT7: 0.52346448 | OU7: 0.62399885 | OV7: 0.23012826 | OW7: -1.9373 | OX7: -0.46063209 | OY7: 1.2208141 | OZ7: 0.62137521 | PA7: 2.1749531 | PB7: 1.0236122 | PC7: 1.3391752 | PD7: 1.227527 | PE7: -0.33532801 | PF7: -2.5621831 | PG7: -2.1647149 | PH7: -3.831574 | PI7: -1.6008435 | PJ7: 0.21779074 | PK7: -2.2850219 | PL7: 1.4977211 | PM7: -0.57638833 | PN7: -1.5669762 | PO7: 0.22064545 | PP7: -1.8170803 | PQ7: -0.94231761 | PR7: -1.3365356 | PS7: 0.077753915 | PT7: -1.3928442 | PU7: -2.1162766 | PV7: -0.71560043 | PX7: -1.1040812 | PY7: -0.24637627 | PZ7: 0.53333883 | QA7: -2.2627674 | QB7: -1.6126366 | QC7: -3.3613527 | QD7: -0.3640179 | QE7: -2.5949998 | QF7: -1.6329258 | QG7: -0.56034532 | QH7: -1.9752483 | QI7: -1.898437 | QJ7: 1.0714575 | QK7: -0.12801363 | QL7: -0.63675828 | QM7: 0.061521526 | QN7: -1.527589 | QO7: -1.0615166 | QP7: -1.7526062 | QQ7: -0.62945563 | QR7: -1.1663272 | QS7: -2.3437574 | QT7: -0.84301867 | QU7: -1.4276562 | QV7: -0.48278215 | QW7: 1.6522579 | QX7: -1.4554178 | QY7: -1.0073961 | QZ7: -0.14254976 | RA7: -0.62544624 | RB7: -0.085435537 | RC7: 0.31967198 | RD7: -0.89122728 | RE7: 0.070286254 | RF7: -1.3531401 | RG7: -1.0399193 | RH7: -1.7444686 | RI7: -0.33416916 | RJ7: -1.8751818 | RK7: -1.7680704 | RL7: 1.39258 | RM7: -0.45556954 | RN7: 2.3566835 | RO7: 1.4807651 | RP7: 0.19764542 | RQ7: 2.5046887 | RR7: 1.9258365 | RS7: 1.60337 | RT7: -1.1549111 | RU7: -1.970669 | RV7: -0.21694074 | RW7: -1.886615 | RX7: -2.4419954 | RY7: -3.8948801 | RZ7: 2.3629087 | SA7: 1.7906451 | SB7: 1.0437137 | SC7: 1.1283128 | SD7: -1.3931787 | SE7: 0.50284062 | SF7: -2.4867872 | SG7: -0.11595563 | SH7: -1.2743159 | SI7: -0.21831376 | SJ7: 0.79154531 | SK7: -0.48312236 | SL7: 0.88795977 | SM7: 2.153618 | SN7: 0.52178884 | SO7: 0.74590415 | SP7: 1.6000815 | SQ7: 1.7086222 | SR7: 0.1264564 | SS7: -0.30126439 | ST7: -0.098343349 | SU7: 0.68748364 | SV7: -0.20628519 | SW7: -0.77448756 | SX7: -0.57866539 | SY7: -0.56152118 | SZ7: -0.16264336 | TA7: -0.97969348 | TB7: 0.24978905 | TC7: -1.4146243 | TD7: -2.0526272 | TE7: -2.0672038 | TF7: -1.5714006 | TG7: -0.91756471 | TH7: -1.8459652 | TI7: -2.0658499 | TJ7: -1.077426 | TK7: -2.3431626 | TL7: -0.40309561 | TM7: -0.31772645 | TN7: -0.38353897 | TO7: -2.1172305 | TP7: 0.4347189 | TQ7: -1.0701115 | TR7: -1.2296083 | TS7: -0.8522764 | TT7: 0.69145024 | TU7: -0.32256142
A8: =A7+0.01 -> 0.03 | B8: -2.4571404 | C8: -2.4308513 | D8: -0.49732262 | E8: -2.8107273 | F8: -2.0658453 | G8: -2.6770944 | H8: 0.97390397 | I8: -0.49842577 | J8: 0.37779027 | K8: 0.35167685 | L8: 0.46027969 | M8: 0.018145316 | N8: -3.5519091 | O8: -2.5132589 | P8: -0.44614249 | Q8: -3.3294965 | T8: -2.4513315 | U8: -1.5490661 | V8: -2.6525813 | W8: -2.4764934 | X8: -2.2938898 | Y8: -1.6199223 | Z8: -1.9301836 | AA8: -4.7827178 | AB8: -5.0766362 | AC8: -5.7856883 | AD8: -3.575131 | AE8: -2.7870135 | AF8: 6.8171527 | AG8: 5.1840285 | AH8: 5.4521752 | AI8: 5.4985217 | AJ8: 3.9787918 | AK8: 5.5472925 | AL8: -0.99847636 | AM8: -1.0415592 | AN8: -1.6254566 | AO8: -1.5030009 | AP8: -0.94652758 | AQ8: -1.9856213 | AR8: -2.6447074 | AS8: -2.41429 | AT8: -2.0245131 | AU8: -2.7857378 | AV8: -2.8953999 | AW8: -2.7920171 | AX8: -1.5452349 | AY8: -0.12454498 | AZ8: -0.61386572 | BA8: -2.7758403 | BB8: -1.2208054 | BC8: -2.349154 | BD8: -2.8309049 | BE8: -3.016829 | BF8: -4.9437182 | BG8: -2.8016287 | BH8: -3.540867 | BI8: -2.5194567 | BJ8: -4.2572477 | BK8: -3.6676243 | BL8: -3.5184854 | BM8: -4.0105791 | BN8: -3.2750747 | BP8: -2.4692053 | BQ8: -1.6215817 | BR8: -1.8352528 | BS8: -0.92778124 | BT8: -1.8812936 | BU8: -2.4300133 | BV8: -6.3570514 | BW8: -3.9976996 | BX8: -3.783412 | BY8: -6.1524702 | BZ8: -2.2870907 | CA8: -3.0665459 | CB8: -1.7295696 | CC8: -2.1437666 | CD8: -1.3368769 | CE8: -1.7978608 | CF8: -0.90952008 | CH8: -1.1561768 | CI8: -1.0689085 | CJ8: -2.296457 | CK8: -1.2184926 | CL8: -1.0352124 | CM8: -0.58373969 | CN8: -0.78634003 | CO8: -1.6333393 | CP8: -1.5400089 | CQ8: -2.6569564 | CR8: -0.83424674 | CS8: -1.2034746 | CT8: -1.629668 | CU8: -2.1716441 | CV8: -1.7045355 | CW8: -3.5619961 | CX8: -1.7996965 | CY8: -2.6496 | CZ8: -1.4678671 | DA8: -1.5253845 | DB8: -2.8596277 | DC8: -2.4605093 | DD8: -2.5546494 | DE8: -2.7249103 | DF8: -0.51001558 | DG8: 0.0092603628 | DH8: -0.38023694 | DI8: -0.5503232 | DJ8: -0.54954228 | DK8: -0.34429072 | DL8: -3.0003366 | DM8: -3.7374645 | DN8: -3.9090993 | DO8: -3.3414486 | DP8: -4.4781776 | DQ8: -2.9590738 | DR8: -3.3131429 | DS8: -2.5978107 | DT8: -5.4797461 | DU8: -5.4679914 | DV8: -5.03193 | DW8: -5.7635549 | DX8: -1.3665453 | DY8: -1.7493508 | DZ8: -1.6673467 | EA8: -1.9155066 | EB8: -1.9680876 | EC8: -0.27782822 | ED8: -1.9329765 | EE8: -3.4312163 | EF8: -3.454931 | EG8: -1.9558524 | EH8: -3.5331044 | EI8: -3.3433778 | EJ8: 4.0668409 | EK8: 2.8237725 | EL8: 2.7050682 | EM8: 2.3575286 | EN8: 2.7613735 | EO8: 3.4899562 | EP8: -2.5775513 | EQ8: -1.6202505 | ER8: -3.2487041 | ES8: -3.2943681 | ET8: -3.3174581 | EU8: -0.40756118 | EV8: -1.9893218 | EW8: -2.5032576 | EX8: -3.1197663 | EY8: -1.7217615 | EZ8: -2.2980352 | FA8: -2.7994907 | FB8: -3.9635975 | FC8: -3.4248772 | FD8: -4.6768765 | FE8: -3.2559354 | FF8: -3.2259154 | FG8: -3.8220792 | FH8: -0.17237251 | FI8: 1.6028943 | FJ8: 1.041317 | FK8: -1.1251798 | FL8: 0.46675924 | FM8: -0.91872925 | FN8: -6.745495 | FO8: -6.8614867 | FP8: -5.6136809 | FQ8: -4.4411272 | FR8: -7.5799753 | FS8: -6.6172918 | FT8: -3.9474393 | FU8: -2.3108723 | FV8: -2.066557 | FW8: -4.0507055 | FX8: -6.050685 | FY8: -0.39510427 | FZ8: -3.5577479 | GA8: -5.4830131 | GB8: -5.7000528 | GC8: -4.6702161 | GD8: -4.7951909 | GE8: -6.0946156 | GF8: -6.4847797 | GG8: -7.379236 | GH8: -7.8540584 | GI8: -6.5213508 | GJ8: -3.0977045 | GK8: -6.0847369 | GL8: -6.4572443 | GM8: -4.3835134 | GN8: -4.2707982 | GO8: -3.2830305 | GP8: -3.5659684 | GQ8: -4.2113425 | GR8: -3.2314674 | GS8: -5.5960223 | GT8: -3.2999727 | GU8: -5.8923984 | GV8: -5.3311349 | GW8: -4.8170839 | GX8: -5.5180175 | GY8: -6.0297103 | GZ8: -6.5418662 | HA8: -5.6781457 | HB8: -5.1157849 | HC8: -5.0987882 | HD8: -4.2232291 | HE8: -4.2990988 | HF8: -4.3774886 | HG8: -2.5370338 | HH8: -3.6273755 | HI8: -5.1834183 | HJ8: -2.0273755 | HK8: -1.3159608 | HL8: -2.6669027 | HM8: -1.1008712 | HN8: -2.891225 | HO8: -1.5259153 | HP8: -4.5717719 | HQ8: -4.076233 | HR8: -2.3456815 | HS8: -2.9001555 | HT8: -2.2468735 | HU8: -1.6891043 | HV8: -1.8758835 | HW8: -2.9896417 | HX8: -0.89188038 | HY8: -1.3865328 | HZ8: -0.62742201 | IA8: -1.3015946 | IB8: 0.17137176 | IC8: -1.9934341 | ID8: -2.8504095 | IE8: -1.4440049 | IF8: -2.4877584 | IG8: -1.5584164 | IH8: -3.0850663 | II8: -2.9601383 | IJ8: -1.2924812 | IK8: -0.43761387 | IL8: -0.51907836 | IM8: -0.26367529 | IN8: -1.4550908 | IO8: -0.4056926 | IP8: -2.5551453 | IQ8: -1.0281551 | IR8: -0.46025331 | IS8: -0.66781099 | IT8: -0.20573186 | IU8: -1.07244 | IV8: -1.2523423 | IW8: 0.43672086 | IX8: 0.69833653 | IY8: -0.59540125 | IZ8: -0.14469074 | JA8: -1.9326166 | JB8: 3.0473722 | JC8: 0.62612149 | JD8: -1.7462372 | JE8: 0.72835481 | JF8: -0.2415693 | JG8: -1.4022307 | JH8: 0.78204183 | JI8: 0.11845186 | JJ8: -0.91895172 | JK8: -0.3184826 | JL8: -2.2304139 | JM8: -1.8690304 | JN8: -2.4884863 | JO8: -3.4729323 | JP8: -2.5565978 | JQ8: -1.9314001 | JR8: -2.8269053 | JS8: -3.3019454 | JT8: -4.4899372 | JU8: -3.9736666 | JV8: -2.8907599 | JW8: -3.5024119 | JX8: -0.83117147 | JY8: -1.5750933 | JZ8: -1.1254299 | KA8: -1.4396245 | KB8: -0.22952948 | KC8: -0.36531043 | KD8: -2.2743588 | KE8: -2.0282217 | KF8: -2.8566693 | KG8: -3.6076144 | KH8: -2.8952944 | KI8: -2.2706417 | KJ8: -3.1430185 | KK8: -5.9112726 | KL8: -3.9729164 | KM8: -5.3502235 | KN8: -4.9783649 | KO8: -5.5227049 | KP8: -1.7966101 | KQ8: -1.748723 | KR8: -0.68765992 | KS8: -2.138975 | KT8: -1.4740121 | KU8: -1.9294463 | KV8: -1.9881065 | KW8: -0.72596599 | KX8: -1.2193267 | KY8: -1.5528163 | KZ8: -2.5115233 | LA8: -1.6199765 | LB8: -2.8093244 | LC8: -1.9608746 | LD8: -2.2351564 | LE8: -3.3369411 | LF8: -3.0150078 | LG8: -3.7796526 | LH8: -2.6271258 | LI8: -2.1198588 | LJ8: -1.4471056 | LK8: -2.4078427 | LL8: -4.5621882 | LM8: -2.4693874 | LN8: -5.2182555 | LO8: -3.4440907 | LP8: -3.6119626 | LQ8: -4.5108735 | LR8: -3.7454986 | LS8: -3.6308401 | LT8: -6.8455513 | LU8: -4.4768766 | LV8: -4.2017409 | LW8: -3.9445134 | LX8: -3.8726586 | LY8: -3.4647977 | LZ8: -3.5982658 | MA8: -2.7718998 | MB8: -2.3208425 | MC8: -2.6656648 | MD8: -3.9572779 | ME8: -3.3212241 | MF8: -3.556928 | MG8: -3.3995337 | MH8: -4.4884583 | MI8: -1.8720272 | ML8: -2.7813832 | MM8: -2.7829408 | MN8: -2.2076466 | MO8: -2.324205 | MP8: -2.5362849 | MQ8: -1.9641353 | MR8: -1.8733844 | MS8: -4.3873131 | MT8: -6.2685156 | MU8: -4.3407683 | MV8: -2.5467144 | MW8: -3.9485019 | MX8: -5.3695245 | MY8: -5.5957955 | MZ8: -3.1738356 | NA8: -4.3134724 | NB8: -4.046545 | NC8: -2.7178723 | ND8: -4.0864503 | NE8: -3.3900862 | NF8: -4.3000394 | NG8: -2.1491247 | NH8: -2.6043559 | NI8: -2.5485026 | NJ8: -2.5791721 | NK8: -2.150104 | NL8: -3.212901 | NM8: -1.3652437 | NN8: -2.5387275 | NO8: -2.7761728 | NP8: 0.18281752 | NQ8: -1.5705683 | NR8: -1.6599823 | NS8: -1.7261444 | NT8: -1.1830712 | NU8: -2.2346887 | NV8: -0.0088695586 | NW8: -1.5493906 | NX8: -1.4072678 | NY8: -2.1148977 | NZ8: -3.0450923 | OA8: -2.6195536 | OB8: 1.0056325 | OC8: -1.1783282 | OD8: -1.980949 | OE8: -1.5115424 | OF8: 0.1061844 | OG8: 0.49288845 | OH8: -2.2351668 | OI8: -1.6028804 | OJ8: -1.5260668 | OK8: -1.8332651 | OL8: -2.6253338 | OM8: 0.20303217 | ON8: 0.2548543 | OO8: 0.064885849 | OP8: -1.407437 | OQ8: -1.6178063 | OR8: -3.6066993 | OS8: -0.68295474 | OT8: -0.38202512 | OU8: 0.18486535 | OV8: -0.67101176 | OW8: -2.4649175 | OX8: -1.5642158 | OY8: 0.34356566 | OZ8: 0.24574913 | PA8: 0.68347218 | PB8: 0.34249273 | PC8: 0.69228962 | PD8: 0.27226478 | PE8: -1.1674979 | PF8: -3.1081973 | PG8: -2.6826994 | PH8: -4.768339 | PI8: -1.8990546 | PJ8: -0.87993789 | PK8: -2.87727 | PL8: 0.41272678 | PM8: -1.4612769 | PN8: -2.0258043 | PO8: -0.099396795 | PP8: -2.2855556 | PQ8: -1.6326869 | PR8: -1.6550225 | PS8: -1.2324878 | PT8: -1.6201716 | PU8: -2.9064042 | PV8: -1.0918485 | PX8: -1.9893777 | PY8: -0.35532926 | PZ8: 0.48371397 | QA8: -2.4639061 | QB8: -1.825916 | QC8: -3.5159835 | QD8: -0.9602891 | QE8: -3.0109283 | QF8: -2.9049323 | QG8: -0.6684757 | QH8: -3.4090462 | QI8: -2.4053003 | QJ8: 0.82090481 | QK8: -0.49930521 | QL8: -0.84362111 | QM8: -0.23691891 | QN8: -1.7432746 | QO8: -1.2508924 | QP8: -2.0968653 | QQ8: -0.75388867 | QR8: -1.5208701 | QS8: -2.5501277 | QT8: -1.1956535 | QU8: -1.8545746 | QV8: -0.88985105 | QW8: 1.6423751 | QX8: -1.6592841 | QY8: -1.3994174 | QZ8: -0.32686993 | RA8: -1.4341845 | RB8: -0.36475242 | RC8: -0.066249921 | RD8: -1.4869106 | RE8: -0.84953449 | RF8: -1.6069246 | RG8: -1.4185625 | RH8: -1.9774391 | RI8: -0.47879578 | RJ8: -2.5964492 | RK8: -2.0251466 | RL8: 1.1069016 | RM8: -0.81715271 | RN8: 1.975081 | RO8: 1.0134044 | RP8: -0.33554463 | RQ8: 2.2067667 | RR8: 1.4535476 | RS8: 0.6735839 | RT8: -2.1920953 | RU8: -2.8319435 | RV8: -1.2222404 | RW8: -3.1524678 | RX8: -3.7106852 | RY8: -5.1236714 | RZ8: 1.2561189 | SA8: 0.84355067 | SB8: 0.053444414 | SC8: 0.7081741 | SD8: -2.6526683 | SE8: -0.053683403 | SF8: -2.8529355 | SG8: -1.2629692 | SH8: -2.45287 | SI8: -1.3804753 | SJ8: -0.48581329 | SK8: -1.3726045 | SL8: -0.044077307 | SM8: 1.2460112 | SN8: -0.39180903 | SO8: 0.073621585 | SP8: 0.60183275 | SQ8: 0.95737312 | SR8: -0.92295924 | SS8: -1.0444812 | ST8: -1.0402971 | SU8: -0.20916015 | SV8: -0.94002161 | SW8: -1.662002 | SX8: -1.2162318 | SY8: -1.1342219 | SZ8: -1.2929961 | TA8: -1.5753616 | TB8: -0.68745756 | TC8: -2.5137259 | TD8: -2.6904371 | TE8: -1.3772864 | TF8: -2.4586849 | TG8: -1.552971 | TH8: -2.6651158 | TI8: -3.0889871 | TJ8: -2.2132833 | TK8: -2.9924398 | TL8: -1.1978487 | TM8: -0.9018821 | TN8: -1.2092099 | TO8: -2.4468925 | TP8: -0.17049606 | TQ8: -2.0143215 | TR8: -1.5711491 | TS8: -1.5499648 | TT8: -0.56364378 | TU8: -1.5638632
A9: =A8+0.01 -> 0.04 | B9: -2.7162714 | C9: -2.86261 | D9: -1.0274045 | E9: -3.0149145 | F9: -2.3667801 | G9: -2.8311679 | H9: 0.35288285 | I9: -0.21873578 | J9: -0.10319064 | K9: -0.51654694 | L9: -0.039559629 | M9: -0.12672875 | N9: -3.494882 | O9: -2.3032899 | P9: -0.20683674 | Q9: -3.3430005 | T9: -2.6008886 | U9: -1.6947076 | V9: -2.9181994 | W9: -2.5490386 | X9: -2.70633 | Y9: -1.6572198 | Z9: -2.1876588 | AA9: -4.8447745 | AB9: -5.3180464 | AC9: -5.5714767 | AD9: -3.4151327 | AE9: -2.4337226 | AF9: 4.5304239 | AG9: 3.74794 | AH9: 3.3935875 | AI9: 4.2073064 | AJ9: 3.6369648 | AK9: 4.9729941 | AL9: -1.1271408 | AM9: -1.184116 | AN9: -1.9130007 | AO9: -1.6038697 | AP9: -1.2474873 | AQ9: -1.8780225 | AR9: -2.6331578 | AS9: -2.5615738 | AT9: -1.9227425 | AU9: -2.9664032 | AV9: -3.1249048 | AW9: -2.8853132 | AX9: -1.6547646 | AY9: -0.20936612 | AZ9: -0.82465528 | BA9: -2.9430092 | BB9: -1.1875701 | BC9: -2.5452661 | BD9: -2.998985 | BE9: -3.0323337 | BF9: -5.3163432 | BG9: -2.9919792 | BH9: -3.4224201 | BI9: -2.7848202 | BJ9: -4.4609144 | BK9: -4.1263165 | BL9: -3.6470905 | BM9: -3.9851684 | BN9: -3.6091371 | BP9: -2.6234826 | BQ9: -2.0991344 | BR9: -2.1834185 | BS9: -1.257927 | BT9: -2.1985406 | BU9: -2.5615456 | BV9: -6.6065789 | BW9: -4.0132158 | BX9: -3.849427 | BY9: -6.2982827 | BZ9: -2.4450556 | CA9: -3.5137724 | CB9: -1.9346571 | CC9: -2.3528412 | CD9: -1.5487738 | CE9: -2.1914783 | CF9: -1.0532749 | CH9: -1.0168391 | CI9: -1.3171946 | CJ9: -2.3554331 | CK9: -1.3528932 | CL9: -1.120409 | CM9: -0.77193806 | CN9: -0.78665471 | CO9: -1.75102 | CP9: -1.9871972 | CQ9: -2.7343847 | CR9: -0.69657065 | CS9: -1.6819649 | CT9: -1.7718696 | CU9: -2.2919237 | CV9: -1.8894959 | CW9: -3.6929267 | CX9: -1.9324878 | CY9: -2.6178694 | CZ9: -1.6866421 | DA9: -1.667033 | DB9: -2.8823502 | DC9: -2.6533706 | DD9: -2.7762863 | DE9: -2.6250219 | DF9: -0.71305565 | DG9: 0.077667526 | DH9: -0.47055031 | DI9: -0.72261498 | DJ9: -0.96629648 | DK9: -0.72418134 | DL9: -3.2186388 | DM9: -3.9748592 | DN9: -3.8704237 | DO9: -3.3576919 | DP9: -4.5815954 | DQ9: -3.2984411 | DR9: -3.1953943 | DS9: -2.3198657 | DT9: -5.1832601 | DU9: -5.4911893 | DV9: -4.6642624 | DW9: -5.5635328 | DX9: -1.3802057 | DY9: -1.8500843 | DZ9: -1.9186167 | EA9: -2.0525669 | EB9: -2.0607245 | EC9: -0.38107836 | ED9: -1.8762014 | EE9: -3.4119422 | EF9: -2.8432306 | EG9: -1.9715809 | EH9: -3.2483788 | EI9: -3.3558807 | EJ9: 4.0957987 | EK9: 2.4674187 | EL9: 2.6173666 | EM9: 3.7810571 | EN9: 2.4134012 | EO9: 3.203531 | EP9: -2.4031129 | EQ9: -1.5928641 | ER9: -3.6203155 | ES9: -3.004227 | ET9: -3.3716098 | EU9: -0.47216955 | EV9: -1.8749117 | EW9: -2.599061 | EX9: -3.1108965 | EY9: -1.9057421 | EZ9: -2.4500948 | FA9: -2.8885751 | FB9: -3.6357072 | FC9: -2.8759793 | FD9: -4.5662508 | FE9: -2.8870331 | FF9: -2.8125331 | FG9: -3.9282383 | FH9: -0.62193372 | FI9: 1.0528709 | FJ9: -0.6540861 | FK9: -1.5871959 | FL9: -0.054005446 | FM9: -1.4779142 | FN9: -6.8285944 | FO9: -6.5326303 | FP9: -5.7419148 | FQ9: -4.7408844 | FR9: -7.8456402 | FS9: -7.135742 | FT9: -4.3312767 | FU9: -2.8128764 | FV9: -2.4449366 | FW9: -4.5567754 | FX9: -5.6077652 | FY9: -0.79863985 | FZ9: -4.2520396 | GA9: -6.4655489 | GB9: -6.3351611 | GC9: -4.8384067 | GD9: -5.2860887 | GE9: -6.8435619 | GF9: -7.4808037 | GG9: -7.8472486 | GH9: -8.129134 | GI9: -6.7137456 | GJ9: -3.7859071 | GK9: -6.4663252 | GL9: -6.8720103 | GM9: -4.9967101 | GN9: -5.7996375 | GO9: -3.8691147 | GP9: -4.7495378 | GQ9: -4.4557069 | GR9: -3.5757902 | GS9: -5.6840837 | GT9: -4.1134609 | GU9: -6.2278385 | GV9: -5.8264718 | GW9: -4.9790702 | GX9: -5.9495189 | GY9: -6.0765562 | GZ9: -6.8466676 | HA9: -5.4656843 | HB9: -5.4002945 | HC9: -5.1268641 | HD9: -4.5410079 | HE9: -4.4806869 | HF9: -4.9094991 | HG9: -2.7082409 | HH9: -3.7642497 | HI9: -5.426631 | HJ9: -2.3162846 | HK9: -1.5174443 | HL9: -2.8922121 | HM9: -1.4352887 | HN9: -3.1326933 | HO9: -1.9185333 | HP9: -4.5575252 | HQ9: -4.3632438 | HR9: -2.6391094 | HS9: -3.172886 | HT9: -2.5367205 | HU9: -1.8975604 | HV9: -2.1387336 | HW9: -3.4561617 | HX9: -1.2475786 | HY9: -1.5463421 | HZ9: -1.291326 | IA9: -1.6173631 | IB9: -0.091878809 | IC9: -2.4803984 | ID9: -3.2330421 | IE9: -1.8488451 | IF9: -2.8361135 | IG9: -2.0017695 | IH9: -3.0677835 | II9: -2.9798835 | IJ9: -1.4020621 | IK9: -0.92191445 | IL9: -0.53565693 | IM9: -0.55343506 | IN9: -1.7049345 | IO9: -0.94852796 | IP9: -2.8188118 | IQ9: -1.4672486 | IR9: -0.71749094 | IS9: -1.2688713 | IT9: -0.66220434 | IU9: -1.7144478 | IV9: -1.814931 | IW9: -0.26589321 | IX9: 0.02457888 | IY9: -1.0978066 | IZ9: -0.34235637 | JA9: -1.8372907 | JB9: 3.0046259 | JC9: 0.48682193 | JD9: -1.6331413 | JE9: 0.53635248 | JF9: -0.68705139 | JG9: -1.4503331 | JH9: 0.54309749 | JI9: 0.026610369 | JJ9: -1.1404005 | JK9: -0.52223097 | JL9: -2.4766044 | JM9: -1.9148033 | JN9: -2.6606442 | JO9: -3.5181137 | JP9: -2.5130543 | JQ9: -1.9259381 | JR9: -2.8432343 | JS9: -3.1505107 | JT9: -4.3342294 | JU9: -4.319415 | JV9: -2.7463296 | JW9: -3.2774548 | JX9: -1.1227098 | JY9: -1.9003513 | JZ9: -1.1195916 | KA9: -1.4434269 | KB9: -0.39474791 | KC9: -0.4527409 | KD9: -2.1599252 | KE9: -2.02565 | KF9: -2.8694842 | KG9: -3.6209955 | KH9: -2.963092 | KI9: -2.4130971 | KJ9: -3.4067348 | KK9: -5.9489555 | KL9: -4.0720014 | KM9: -5.3571038 | KN9: -4.7292216 | KO9: -5.4835863 | KP9: -2.0251395 | KQ9: -2.1338445 | KR9: -1.0859678 | KS9: -2.5197761 | KT9: -1.5541444 | KU9: -2.0824907 | KV9: -2.1266168 | KW9: -0.86646646 | KX9: -1.4405003 | KY9: -1.7243293 | KZ9: -2.4687567 | LA9: -1.7353278 | LB9: -2.9490714 | LC9: -2.0751926 | LD9: -2.3478789 | LE9: -3.4229023 | LF9: -2.9827316 | LG9: -3.6286234 | LH9: -2.8450522 | LI9: -2.2554442 | LJ9: -1.640811 | LK9: -2.4784363 | LL9: -4.5911362 | LM9: -2.4957321 | LN9: -5.1839786 | LO9: -3.8165578 | LP9: -3.2837785 | LQ9: -4.4847557 | LR9: -3.9758077 | LS9: -3.2855392 | LT9: -6.461179 | LU9: -4.6158336 | LV9: -4.6003964 | LW9: -3.8205715 | LX9: -3.6542415 | LY9: -3.5208391 | LZ9: -3.345754 | MA9: -2.8406368 | MB9: -2.1926398 | MC9: -2.5243125 | MD9: -3.8733567 | ME9: -3.5344076 | MF9: -3.4931191 | MG9: -3.2507452 | MH9: -4.7190004 | MI9: -1.6664877 | ML9: -2.9303511 | MM9: -3.1464186 | MN9: -2.1507336 | MO9: -2.5658706 | MP9: -2.5043996 | MQ9: -1.970276 | MR9: -2.1591386 | MS9: -4.2154987 | MT9: -6.1575737 | MU9: -4.8936262 | MV9: -3.2818453 | MW9: -4.2602247 | MX9: -5.2629372 | MY9: -5.228926 | MZ9: -2.9502361 | NA9: -4.0998553 | NB9: -4.1988166 | NC9: -2.8016332 | ND9: -4.0215813 | NE9: -3.2882132 | NF9: -4.5394103 | NG9: -2.1648432 | NH9: -2.9246904 | NI9: -2.8149818 | NJ9: -2.5649653 | NK9: -1.4746798 | NL9: -3.1336805 | NM9: -1.8619362 | NN9: -2.1618705 | NO9: -2.937982 | NP9: -0.15317667 | NQ9: -1.5030161 | NR9: -2.0171624 | NS9: -1.8425504 | NT9: -1.1926708 | NU9: -2.6374737 | NV9: -0.46482949 | NW9: -1.6560849 | NX9: -1.8375822 | NY9: -2.2942175 | NZ9: -3.2735718 | OA9: -3.0675559 | OB9: 0.51164699 | OC9: -1.3774089 | OD9: -2.5122698 | OE9: -1.9610869 | OF9: -0.75546128 | OG9: 0.080417572 | OH9: -2.6395534 | OI9: -2.1431202 | OJ9: -2.0743502 | OK9: -2.216649 | OL9: -3.5087545 | OM9: -0.7112661 | ON9: -0.3491829 | OO9: -0.14483357 | OP9: -1.5193846 | OQ9: -2.1299959 | OR9: -4.0531328 | OS9: -1.0166371 | OT9: -0.79122454 | OU9: -0.32457006 | OV9: -1.0176761 | OW9: -2.7490168 | OX9: -1.9885764 | OY9: -0.41266577 | OZ9: -0.043626522 | PA9: -0.13378136 | PB9: -0.61134956 | PC9: 0.10103567 | PD9: -0.81780808 | PE9: -2.2258709 | PF9: -3.4778385 | PG9: -3.4030723 | PH9: -4.8937135 | PI9: -2.0999479 | PJ9: -1.3578168 | PK9: -3.3568536 | PL9: -0.5393982 | PM9: -1.966066 | PN9: -1.9899696 | PO9: -0.41614324 | PP9: -2.3009605 | PQ9: -2.3976181 | PR9: -1.9466358 | PS9: -1.5479193 | PT9: -1.6566646 | PU9: -3.2913996 | PV9: -1.2792264 | PX9: -2.4033415 | PY9: -0.45215359 | PZ9: 0.59117404 | QA9: -2.529204 | QB9: -1.9779534 | QC9: -3.7872228 | QD9: -1.2692848 | QE9: -3.0685905 | QF9: -3.2112559 | QG9: -0.79619486 | QH9: -3.8901808 | QI9: -2.9739779 | QJ9: 0.64529319 | QK9: -0.92114695 | QL9: -1.0959289 | QM9: -0.41314258 | QN9: -1.7508801 | QO9: -1.2777522 | QP9: -2.2630916 | QQ9: -0.65984964 | QR9: -1.7301578 | QS9: -2.6146411 | QT9: -1.3966016 | QU9: -2.0869439 | QV9: -1.1344808 | QW9: 1.693379 | QX9: -1.7365065 | QY9: -1.4737162 | QZ9: -0.54991801 | RA9: -2.0670111 | RB9: -0.93374326 | RC9: -0.43698032 | RD9: -1.9568754 | RE9: -1.0286369 | RF9: -1.6509366 | RG9: -1.5957905 | RH9: -1.9976722 | RI9: -0.50036623 | RJ9: -2.8672565 | RK9: -2.1240841 | RL9: 1.0095204 | RM9: -0.9181838 | RN9: 1.2691638 | RO9: 0.45042702 | RP9: -0.91579342 | RQ9: 1.7809964 | RR9: 1.2813134 | RS9: -0.10291424 | RT9: -3.0928863 | RU9: -3.3790353 | RV9: -2.3754208 | RW9: -3.7814285 | RX9: -4.4164171 | RY9: -5.9203701 | RZ9: 0.3772624 | SA9: 0.0021607769 | SB9: -0.62187349 | SC9: 0.013147503 | SD9: -3.3570714 | SE9: -0.45828619 | SF9: -3.0424474 | SG9: -2.0900808 | SH9: -3.0413237 | SI9: -2.2745125 | SJ9: -1.4202227 | SK9: -1.9831764 | SL9: -0.6989623 | SM9: 0.77592459 | SN9: -1.2286981 | SO9: -0.77955209 | SP9: -0.42531049 | SQ9: 0.14527396 | SR9: -1.6456463 | SS9: -1.64413 | ST9: -1.4320109 | SU9: -1.1367242 | SV9: -1.7036378 | SW9: -2.350902 | SX9: -1.7716087 | SY9: -1.8043706 | SZ9: -2.2002923 | TA9: -2.1471406 | TB9: -1.4339515 | TC9: -3.4947151 | TD9: -3.0006725 | TE9: -0.64550072 | TF9: -2.8889319 | TG9: -1.9888179 | TH9: -3.1094167 | TI9: -3.8381018 | TJ9: -2.8766124 | TK9: -3.3000675 | TL9: -1.7640988 | TM9: -1.3437443 | TN9: -1.7582556 | TO9: -2.677596 | TP9: -1.0262764 | TQ9: -2.347393 | TR9: -1.8779094 | TS9: -2.0439044 | TT9: -1.5092742 | TU9: -2.3951287
A10: =A9+0.01 -> 0.05 | B10: -2.8250164 | C10: -2.858849 | D10: -1.4182591 | E10: -3.0762875 | F10: -2.3509429 | G10: -2.9043645 | H10: -0.28064121 | I10: 0.036940798 | J10: -0.18282151 | K10: -0.9068202 | L10: -0.022529601 | M10: -0.19855716 | N10: -3.1193831 | O10: -1.8564142 | P10: 0.10891379 | Q10: -3.1560972 | T10: -2.5427845 | U10: -1.6243075 | V10: -3.0365734 | W10: -2.471732 | X10: -2.9498628 | Y10: -1.4926146 | Z10: -2.3085166 | AA10: -4.6620576 | AB10: -5.427222 | AC10: -5.2230396 | AD10: -3.1786051 | AE10: -2.0151642 | AF10: 4.2620602 | AG10: 3.5852983 | AH10: 3.0936945 | AI10: 3.4402293 | AJ10: 3.4260112 | AK10: 4.2973507 | AL10: -1.0614559 | AM10: -1.1327482 | AN10: -1.9737672 | AO10: -1.5778118 | AP10: -1.2506751 | AQ10: -1.634301 | AR10: -2.3655981 | AS10: -2.488533 | AT10: -1.6262733 | AU10: -2.9135787 | AV10: -3.1777782 | AW10: -2.8200448 | AX10: -1.5973649 | AY10: -0.14338758 | AZ10: -0.82973919 | BA10: -2.8942405 | BB10: -1.0080779 | BC10: -2.5739475 | BD10: -2.6732393 | BE10: -2.8947054 | BF10: -5.3588654 | BG10: -2.7783113 | BH10: -3.2006179 | BI10: -2.8063896 | BJ10: -4.4467624 | BK10: -4.0178688 | BL10: -3.6456561 | BM10: -3.9257072 | BN10: -3.575426 | BP10: -2.3253427 | BQ10: -2.1352109 | BR10: -2.2756207 | BS10: -1.2566439 | BT10: -2.2866266 | BU10: -2.3290331 | BV10: -6.4375815 | BW10: -3.8496484 | BX10: -3.7423618 | BY10: -6.1369666 | BZ10: -2.5981771 | CA10: -3.2897787 | CB10: -1.9875375 | CC10: -2.3180586 | CD10: -1.6773378 | CE10: -2.2434705 | CF10: -0.96031332 | CH10: -1.0113836 | CI10: -1.4807127 | CJ10: -2.2970639 | CK10: -1.2776855 | CL10: -1.1682465 | CM10: -0.82790481 | CN10: -0.58910741 | CO10: -1.5696044 | CP10: -2.0486627 | CQ10: -2.5846349 | CR10: -0.41546676 | CS10: -1.8531161 | CT10: -1.756662 | CU10: -2.0730289 | CV10: -1.9478796 | CW10: -3.444667 | CX10: -1.8903973 | CY10: -2.4114303 | CZ10: -1.6023404 | DA10: -1.5829131 | DB10: -2.747198 | DC10: -2.4986381 | DD10: -2.7375711 | DE10: -2.3950413 | DF10: -0.68766221 | DG10: 0.34326826 | DH10: -0.46848582 | DI10: -0.54470893 | DJ10: -1.0583536 | DK10: -0.93889238 | DL10: -3.2238651 | DM10: -4.071253 | DN10: -3.7619549 | DO10: -2.8979361 | DP10: -4.2365888 | DQ10: -3.134973 | DR10: -2.9321731 | DS10: -1.6259321 | DT10: -4.5313352 | DU10: -5.1409863 | DV10: -4.0688517 | DW10: -5.07611 | DX10: -1.4825038 | DY10: -1.6986408 | DZ10: -1.7179091 | EA10: -2.0053524 | EB10: -1.7454827 | EC10: -0.43724801 | ED10: -1.5534016 | EE10: -3.2692716 | EF10: -2.0382137 | EG10: -1.7240194 | EH10: -2.5340879 | EI10: -3.1438197 | EJ10: 4.3217247 | EK10: 2.3736928 | EL10: 2.6874478 | EM10: 3.9752364 | EN10: 2.1957102 | EO10: 3.1397226 | EP10: -1.7962953 | EQ10: -1.1472874 | ER10: -3.8231578 | ES10: -2.4697267 | ET10: -2.9176352 | EU10: -0.21688553 | EV10: -1.5398741 | EW10: -2.3806811 | EX10: -2.7916392 | EY10: -1.8944734 | EZ10: -2.4067966 | FA10: -2.8759394 | FB10: -3.072793 | FC10: -2.0571828 | FD10: -4.2214832 | FE10: -2.4236925 | FF10: -2.2003716 | FG10: -3.7940284 | FH10: -1.6691791 | FI10: 0.11258592 | FJ10: -0.69390162 | FK10: -1.926312 | FL10: -0.040462108 | FM10: -1.5031088 | FN10: -6.6294124 | FO10: -5.9971097 | FP10: -5.7008982 | FQ10: -4.681303 | FR10: -7.6398469 | FS10: -7.1946975 | FT10: -4.5109973 | FU10: -2.9469267 | FV10: -2.9933048 | FW10: -4.8393251 | FX10: -4.9998031 | FY10: -1.7028078 | FZ10: -4.5608175 | GA10: -6.5737181 | GB10: -6.3924626 | GC10: -4.6413873 | GD10: -5.6624592 | GE10: -7.4172209 | GF10: -7.9476838 | GG10: -8.1694959 | GH10: -8.1203493 | GI10: -6.7334504 | GJ10: -5.1123467 | GK10: -6.6940342 | GL10: -7.1257309 | GM10: -6.511084 | GN10: -6.8332953 | GO10: -5.9074236 | GP10: -5.1074689 | GQ10: -4.6377639 | GR10: -3.724313 | GS10: -5.5739541 | GT10: -4.2532754 | GU10: -6.3912139 | GV10: -5.9182872 | GW10: -5.0484869 | GX10: -6.2781985 | GY10: -5.8377161 | GZ10: -6.9976299 | HA10: -5.4059486 | HB10: -5.5384044 | HC10: -4.7826406 | HD10: -4.3816657 | HE10: -4.4052852 | HF10: -4.895938 | HG10: -2.6882847 | HH10: -3.6417302 | HI10: -5.2939959 | HJ10: -2.3206568 | HK10: -1.5327971 | HL10: -2.866531 | HM10: -1.5689232 | HN10: -3.100543 | HO10: -1.9777142 | HP10: -4.3629646 | HQ10: -4.2580583 | HR10: -2.6101065 | HS10: -3.1289036 | HT10: -2.6014968 | HU10: -1.9407572 | HV10: -2.1449573 | HW10: -3.5228588 | HX10: -1.2997834 | HY10: -1.4130315 | HZ10: -1.6707695 | IA10: -1.6801428 | IB10: -0.3373667 | IC10: -2.5474996 | ID10: -3.2970614 | IE10: -1.9247873 | IF10: -2.9189094 | IG10: -2.1678278 | IH10: -2.7738701 | II10: -2.6939164 | IJ10: -1.3793321 | IK10: -1.2173954 | IL10: -0.41406171 | IM10: -0.65963458 | IN10: -1.6183526 | IO10: -1.2857896 | IP10: -2.8024175 | IQ10: -1.6696976 | IR10: -0.73950697 | IS10: -1.5922611 | IT10: -1.0230708 | IU10: -2.062403 | IV10: -2.0549868 | IW10: -0.66018401 | IX10: -0.58699205 | IY10: -1.2987317 | IZ10: -0.30451877 | JA10: -1.4667305 | JB10: 3.06135 | JC10: 0.61467017 | JD10: -1.4088326 | JE10: 0.42990181 | JF10: -0.85112693 | JG10: -1.3562348 | JH10: 0.35049359 | JI10: 0.056494686 | JJ10: -1.1343216 | JK10: -0.58461644 | JL10: -2.3764255 | JM10: -1.7979249 | JN10: -2.5039899 | JO10: -3.4046785 | JP10: -2.262749 | JQ10: -1.7578185 | JR10: -2.8064075 | JS10: -2.9049141 | JT10: -3.9911033 | JU10: -4.5067719 | JV10: -2.5549095 | JW10: -2.9352891 | JX10: -1.0725958 | JY10: -1.8920769 | JZ10: -1.0046274 | KA10: -1.17646 | KB10: -0.52210985 | KC10: -0.45253635 | KD10: -1.9002147 | KE10: -1.7870726 | KF10: -2.7602928 | KG10: -3.2451849 | KH10: -2.7538167 | KI10: -2.4372403 | KJ10: -3.5087689 | KK10: -5.7343676 | KL10: -3.9951509 | KM10: -4.9775053 | KN10: -4.3981694 | KO10: -5.2442455 | KP10: -2.1488872 | KQ10: -2.2215828 | KR10: -1.0626059 | KS10: -2.5460408 | KT10: -1.4263147 | KU10: -2.118878 | KV10: -2.1228696 | KW10: -0.98904113 | KX10: -1.415882 | KY10: -1.8473688 | KZ10: -2.1760807 | LA10: -1.6665094 | LB10: -2.8498172 | LC10: -1.9773864 | LD10: -2.2612102 | LE10: -3.3599098 | LF10: -2.7487216 | LG10: -3.2940066 | LH10: -2.8827397 | LI10: -2.4245205 | LJ10: -1.7454387 | LK10: -2.5121504 | LL10: -4.4002125 | LM10: -2.456876 | LN10: -4.9830647 | LO10: -3.7701011 | LP10: -2.8674195 | LQ10: -4.1336689 | LR10: -3.7764282 | LS10: -2.8373718 | LT10: -5.9873178 | LU10: -4.1661133 | LV10: -4.3606154 | LW10: -3.5035978 | LX10: -3.2098937 | LY10: -3.1851197 | LZ10: -2.8342872 | MA10: -2.6810322 | MB10: -1.8931788 | MC10: -2.1573647 | MD10: -3.6053644 | ME10: -3.3084089 | MF10: -3.233561 | MG10: -2.782808 | MH10: -4.7265254 | MI10: -1.3454708 | ML10: -2.8390939 | MM10: -3.378158 | MN10: -1.8076344 | MO10: -2.535552 | MP10: -2.1724956 | MQ10: -1.7939622 | MR10: -2.1021245 | MS10: -3.6388054 | MT10: -5.8328958 | MU10: -4.9068956 | MV10: -3.3906741 | MW10: -4.3426763 | MX10: -4.9027826 | MY10: -4.7154366 | MZ10: -2.4561994 | NA10: -3.5790167 | NB10: -4.0530769 | NC10: -2.5981626 | ND10: -3.7607431 | NE10: -2.822566 | NF10: -4.4849985 | NG10: -2.0389556 | NH10: -3.0943634 | NI10: -2.723192 | NJ10: -2.3510369 | NK10: -0.66116874 | NL10: -2.7681219 | NM10: -2.0382519 | NN10: -1.5009764 | NO10: -2.7385008 | NP10: -0.41960891 | NQ10: -1.3892852 | NR10: -2.0459621 | NS10: -1.5828501 | NT10: -1.2711373 | NU10: -3.0625888 | NV10: -0.66882405 | NW10: -1.3863795 | NX10: -1.8915254 | NY10: -2.318241 | NZ10: -3.3599936 | OA10: -2.9682143 | OB10: 0.52165543 | OC10: -1.2804747 | OD10: -2.8688035 | OE10: -2.0336677 | OF10: -0.99197322 | OG10: -0.43207105 | OH10: -2.8226063 | OI10: -2.2409761 | OJ10: -2.5178895 | OK10: -2.5146655 | OL10: -3.6627347 | OM10: -1.2383563 | ON10: -0.7877718 | OO10: -0.18397293 | OP10: -1.4946834 | OQ10: -2.4688449 | OR10: -4.2674325 | OS10: -1.1961456 | OT10: -0.98857139 | OU10: -0.34771448 | OV10: -1.1664766 | OW10: -2.9292676 | OX10: -2.1375172 | OY10: -0.82760491 | OZ10: 0.096660531 | PA10: -0.90449306 | PB10: -0.624932 | PC10: -0.36299394 | PD10: -1.1180425 | PE10: -2.5411202 | PF10: -3.4641486 | PG10: -3.7800107 | PH10: -4.6947005 | PI10: -2.1391919 | PJ10: -2.0749295 | PK10: -3.5512603 | PL10: -1.0552961 | PM10: -2.1707503 | PN10: -1.883471 | PO10: -0.2007435 | PP10: -2.2138255 | PQ10: -2.6267345 | PR10: -1.9136903 | PS10: -1.6671865 | PT10: -1.5585769 | PU10: -3.6390885 | PV10: -1.2843456 | PX10: -2.4779685 | PY10: -0.44807161 | PZ10: 0.86342456 | QA10: -2.3267548 | QB10: -2.0099189 | QC10: -3.7832644 | QD10: -1.2862915 | QE10: -2.994767 | QF10: -3.2250249 | QG10: -0.62242103 | QH10: -3.872736 | QI10: -3.3219701 | QJ10: 0.61327336 | QK10: -1.1389657 | QL10: -0.974959 | QM10: -0.30761476 | QN10: -1.6159497 | QO10: -1.1791732 | QP10: -2.2315146 | QQ10: -0.3982546 | QR10: -1.8132787 | QS10: -2.4188722 | QT10: -1.378087 | QU10: -2.138124 | QV10: -1.1301794 | QW10: 1.8209656 | QX10: -1.8916654 | QY10: -1.3368513 | QZ10: -0.8782356 | RA10: -2.0316583 | RB10: -1.1899733 | RC10: -0.3007427 | RD10: -2.0742847 | RE10: -1.0737206 | RF10: -1.4790714 | RG10: -1.5309154 | RH10: -1.9211626 | RI10: -0.37848023 | RJ10: -2.7815764 | RK10: -2.0245622 | RL10: 1.1381692 | RM10: -0.86817652 | RN10: 1.1957101 | RO10: -0.085054263 | RP10: -1.1593786 | RQ10: 1.5775924 | RR10: 1.4558234 | RS10: -0.24257028 | RT10: -3.5710293 | RU10: -3.5520418 | RV10: -2.8426907 | RW10: -4.0678126 | RX10: -4.6404378 | RY10: -6.4657296 | RZ10: 0.0091505609 | SA10: -0.46395428 | SB10: -0.9550578 | SC10: -0.29106936 | SD10: -3.597872 | SE10: -0.73746184 | SF10: -3.1233488 | SG10: -2.7456522 | SH10: -3.1259173 | SI10: -2.8634373 | SJ10: -1.9449119 | SK10: -2.1884667 | SL10: -1.0999942 | SM10: 0.17591079 | SN10: -1.5636849 | SO10: -0.98278118 | SP10: -0.80181268 | SQ10: -0.14745043 | SR10: -2.0225835 | SS10: -1.8845396 | ST10: -1.7743191 | SU10: -1.652585 | SV10: -1.8509555 | SW10: -2.6809034 | SX10: -2.1470073 | SY10: -2.1381367 | SZ10: -2.8442606 | TA10: -2.452114 | TB10: -1.8934649 | TC10: -3.9262962 | TD10: -2.9159146 | TE10: 0.091255179 | TF10: -3.266098 | TG10: -2.0222896 | TH10: -3.2200416 | TI10: -4.3810353 | TJ10: -3.1788943 | TK10: -3.3609635 | TL10: -2.1545763 | TM10: -1.6249107 | TN10: -2.094477 | TO10: -2.6219459 | TP10: -1.4894789 | TQ10: -2.7321212 | TR10: -1.8875993 | TS10: -2.2220629 | TT10: -1.8803881 | TU10: -3.2084669
A11: =A10+0.01 -> 0.06 | B11: -2.7659033 | C11: -2.7394993 | D11: -1.5355442 | E11: -2.9767983 | F11: -2.193372 | G11: -2.9785545 | H11: -0.65821219 | I11: 0.55409677 | J11: -0.12916495 | K11: -0.74290593 | L11: -0.46609655 | M11: -0.25091852 | N11: -2.6100494 | O11: -1.4265491 | P11: 0.5467452 | Q11: -2.8010013 | T11: -2.2990834 | U11: -1.3699907 | V11: -2.9809204 | W11: -2.2393175 | X11: -2.9898276 | Y11: -1.1337607 | Z11: -2.2234131 | AA11: -4.2482539 | AB11: -5.3387235 | AC11: -4.7255752 | AD11: -2.7384746 | AE11: -1.4789321 | AF11: 4.0656151 | AG11: 3.603925 | AH11: 2.2005998 | AI11: 3.5343788 | AJ11: 3.4002638 | AK11: 4.1619085 | AL11: -0.74260921 | AM11: -0.90638927 | AN11: -1.9287409 | AO11: -1.3259452 | AP11: -1.041568 | AQ11: -1.158089 | AR11: -1.9707088 | AS11: -2.2614181 | AT11: -1.1813688 | AU11: -2.6944904 | AV11: -2.908115 | AW11: -2.6321321 | AX11: -1.3953642 | AY11: 0.025052812 | AZ11: -0.76529282 | BA11: -2.7022075 | BB11: -0.68606879 | BC11: -2.4736612 | BD11: -2.1873746 | BE11: -2.5002057 | BF11: -5.207908 | BG11: -2.3728782 | BH11: -2.7918316 | BI11: -2.666114 | BJ11: -4.1997704 | BK11: -3.6791649 | BL11: -3.2821319 | BM11: -3.7536977 | BN11: -3.3429975 | BP11: -1.9794556 | BQ11: -1.9461155 | BR11: -2.0885538 | BS11: -1.0969694 | BT11: -2.0326071 | BU11: -2.0802763 | BV11: -6.0350368 | BW11: -3.6156642 | BX11: -3.4644077 | BY11: -5.7448176 | BZ11: -2.58141 | CA11: -2.9423563 | CB11: -1.8483735 | CC11: -2.0345635 | CD11: -1.5684701 | CE11: -2.0125377 | CF11: -0.77389295 | CH11: -0.44350926 | CI11: -1.3035941 | CJ11: -2.2090039 | CK11: -1.0061942 | CL11: -0.99353937 | CM11: -0.8030842 | CN11: -0.21185442 | CO11: -1.1103257 | CP11: -2.0224339 | CQ11: -2.2627186 | CR11: -0.016821304 | CS11: -1.7640906 | CT11: -1.5045074 | CU11: -1.657745 | CV11: -1.779869 | CW11: -3.0853237 | CX11: -1.6889289 | CY11: -2.0584557 | CZ11: -1.3307079 | DA11: -1.2779288 | DB11: -2.4220979 | DC11: -2.125942 | DD11: -2.4892339 | DE11: -1.9459732 | DF11: -0.29410821 | DG11: 0.80757412 | DH11: -0.11856278 | DI11: -0.15309663 | DJ11: -0.90908509 | DK11: -0.80890916 | DL11: -2.9309984 | DM11: -3.8461968 | DN11: -3.1265628 | DO11: -2.130538 | DP11: -3.6341588 | DQ11: -2.6033244 | DR11: -2.4145468 | DS11: -0.72793052 | DT11: -3.6543537 | DU11: -4.4271349 | DV11: -3.3231914 | DW11: -4.445684 | DX11: -1.2145776 | DY11: -1.0463598 | DZ11: -1.3865038 | EA11: -1.6960654 | EB11: -1.2006654 | EC11: -0.36516044 | ED11: -1.044449 | EE11: -2.7053488 | EF11: -1.151862 | EG11: -1.0821304 | EH11: -1.7091955 | EI11: -2.5223701 | EJ11: 4.6763308 | EK11: 2.5067031 | EL11: 2.9512433 | EM11: 4.341709 | EN11: 2.2264624 | EO11: 3.2180422 | EP11: -0.96288637 | EQ11: -0.4817736 | ER11: -3.7092971 | ES11: -1.6734013 | ET11: -2.1989426 | EU11: 0.21885813 | EV11: -1.0324986 | EW11: -1.834103 | EX11: -2.1935753 | EY11: -1.7247903 | EZ11: -1.9964823 | FA11: -2.3087404 | FB11: -2.2833203 | FC11: -1.0378997 | FD11: -3.5540333 | FE11: -1.6772836 | FF11: -1.4788935 | FG11: -3.4361061 | FH11: -1.5244978 | FI11: 0.17157369 | FJ11: -0.56966715 | FK11: -2.031966 | FL11: -1.0560137 | FM11: -1.2560582 | FN11: -6.0750273 | FO11: -5.3013013 | FP11: -5.3737943 | FQ11: -4.338714 | FR11: -7.4526772 | FS11: -6.2336969 | FT11: -4.3029794 | FU11: -3.0811507 | FV11: -2.9342195 | FW11: -4.4801276 | FX11: -4.3316131 | FY11: -1.5673908 | FZ11: -5.556559 | GA11: -6.3316238 | GB11: -5.8694057 | GC11: -4.4375376 | GD11: -5.356078 | GE11: -7.0318668 | GF11: -8.262363 | GG11: -8.2517518 | GH11: -7.8360341 | GI11: -6.6820061 | GJ11: -5.8341578 | GK11: -6.5855389 | GL11: -7.2030404 | GM11: -7.3699247 | GN11: -6.9554928 | GO11: -6.5874765 | GP11: -7.2283488 | GQ11: -4.412603 | GR11: -3.4562669 | GS11: -5.2677497 | GT11: -4.1349475 | GU11: -6.344244 | GV11: -5.6811276 | GW11: -4.8474194 | GX11: -6.1574388 | GY11: -5.3680859 | GZ11: -6.7768734 | HA11: -4.6206515 | HB11: -5.4050668 | HC11: -4.3794795 | HD11: -4.3996296 | HE11: -4.0540767 | HF11: -4.3919495 | HG11: -2.4076563 | HH11: -3.3632989 | HI11: -5.0307979 | HJ11: -2.1228884 | HK11: -1.291666 | HL11: -2.5058028 | HM11: -1.3968622 | HN11: -2.831733 | HO11: -1.8610124 | HP11: -4.0096459 | HQ11: -3.9555653 | HR11: -2.3101297 | HS11: -2.7630422 | HT11: -2.3659574 | HU11: -1.9126761 | HV11: -1.9538707 | HW11: -3.383512 | HX11: -1.0504656 | HY11: -1.0872405 | HZ11: -1.7819836 | IA11: -1.6024981 | IB11: -0.41225165 | IC11: -2.5052137 | ID11: -3.1011014 | IE11: -1.8044427 | IF11: -2.7849063 | IG11: -2.2458367 | IH11: -2.234619 | II11: -2.1811111 | IJ11: -1.1886987 | IK11: -1.2970864 | IL11: -0.146109 | IM11: -0.52840786 | IN11: -1.3290244 | IO11: -1.4908373 | IP11: -2.5348034 | IQ11: -1.5617444 | IR11: -0.5317265 | IS11: -1.8105485 | IT11: -1.2365784 | IU11: -2.1122332 | IV11: -1.9663572 | IW11: -0.88547628 | IX11: -0.71678091 | IY11: -1.217402 | IZ11: -0.012914384 | JA11: -0.88088874 | JB11: 3.3599271 | JC11: 0.96850605 | JD11: -0.93032062 | JE11: 0.53560215 | JF11: -0.99212713 | JG11: -1.1130414 | JH11: 0.32868671 | JI11: 0.20012219 | JJ11: -0.91101413 | JK11: -0.43990842 | JL11: -2.1458431 | JM11: -1.5433241 | JN11: -2.2209545 | JO11: -3.0600787 | JP11: -1.8421029 | JQ11: -1.5167005 | JR11: -2.3706327 | JS11: -2.6084318 | JT11: -3.5134766 | JU11: -4.4378468 | JV11: -2.3108949 | JW11: -2.626381 | JX11: -0.81650096 | JY11: -1.6007636 | JZ11: -0.69817058 | KA11: -0.79540828 | KB11: -0.46572165 | KC11: -0.27806612 | KD11: -1.5814456 | KE11: -1.3143694 | KF11: -2.3729121 | KG11: -2.7112806 | KH11: -2.4080831 | KI11: -2.3212655 | KJ11: -3.3127643 | KK11: -5.2813718 | KL11: -3.6933308 | KM11: -4.5497597 | KN11: -3.8595041 | KO11: -4.7964638 | KP11: -1.9740242 | KQ11: -1.9606787 | KR11: -0.91054021 | KS11: -2.3608469 | KT11: -1.0735391 | KU11: -1.9995572 | KV11: -1.9254855 | KW11: -0.83675637 | KX11: -1.2648775 | KY11: -1.6492779 | KZ11: -1.5579063 | LA11: -1.3486495 | LB11: -2.5703946 | LC11: -1.6515872 | LD11: -2.1167023 | LE11: -3.0763296 | LF11: -2.3820426 | LG11: -2.7732934 | LH11: -2.6537714 | LI11: -2.1621186 | LJ11: -1.6523285 | LK11: -2.4021431 | LL11: -3.9207961 | LM11: -2.1163756 | LN11: -4.515501 | LO11: -3.4186218 | LP11: -2.2474403 | LQ11: -3.5492796 | LR11: -3.412757 | LS11: -2.31603 | LT11: -5.2126382 | LU11: -3.4819834 | LV11: -3.7406535 | LW11: -2.9234305 | LX11: -2.8141032 | LY11: -2.7136133 | LZ11: -2.2034972 | MA11: -2.3214511 | MB11: -1.5797681 | MC11: -1.6418368 | MD11: -3.1205912 | ME11: -3.2784726 | MF11: -2.8137579 | MG11: -2.2276223 | MH11: -4.3808322 | MI11: -0.84753808 | ML11: -2.4581471 | MM11: -3.2444815 | MN11: -1.4300788 | MO11: -2.2303419 | MP11: -1.567065 | MQ11: -1.3279588 | MR11: -1.7240575 | MS11: -2.8670413 | MT11: -5.2639933 | MU11: -4.4175048 | MV11: -3.1454605 | MW11: -4.1332305 | MX11: -4.3798784 | MY11: -3.9321532 | MZ11: -1.7984138 | NA11: -2.9091294 | NB11: -3.6886896 | NC11: -2.2875196 | ND11: -3.2564131 | NE11: -2.1138018 | NF11: -4.1679026 | NG11: -1.7291321 | NH11: -2.8790679 | NI11: -2.4021001 | NJ11: -1.9232792 | NK11: 0.2591182 | NL11: -2.1096397 | NM11: -1.8835943 | NN11: -0.62982433 | NO11: -2.2269245 | NP11: -0.48970502 | NQ11: -0.93402618 | NR11: -1.890672 | NS11: -1.1768686 | NT11: -0.85120206 | NU11: -2.9486389 | NV11: -0.6589173 | NW11: -1.0096693 | NX11: -1.7023295 | NY11: -2.2164287 | NZ11: -2.9890335 | OA11: -2.6419587 | OB11: 0.69761159 | OC11: -1.0936914 | OD11: -2.7760617 | OE11: -1.7842913 | OF11: -0.99496716 | OG11: -0.44720337 | OH11: -2.875753 | OI11: -2.116439 | OJ11: -2.6226591 | OK11: -2.5151067 | OL11: -3.8139987 | OM11: -1.8376164 | ON11: -1.0907865 | OO11: -0.025752973 | OP11: -1.1831178 | OQ11: -2.6056001 | OR11: -4.0925388 | OS11: -1.2499852 | OT11: -1.0223303 | OU11: -0.16201284 | OV11: -1.077575 | OW11: -2.8192735 | OX11: -2.0675985 | OY11: -1.1742653 | OZ11: 0.45351665 | PA11: -1.3040156 | PB11: -0.36268924 | PC11: -0.34543006 | PD11: -1.1531602 | PE11: -2.6860222 | PF11: -3.1968318 | PG11: -3.8014264 | PH11: -4.2529862 | PI11: -1.9001582 | PJ11: -2.18944 | PK11: -3.4573545 | PL11: -1.386572 | PM11: -2.1603181 | PN11: -1.4207732 | PO11: 0.11775074 | PP11: -1.8256366 | PQ11: -2.7272401 | PR11: -1.7286287 | PS11: -1.5432763 | PT11: -1.2114895 | PU11: -3.7036219 | PV11: -1.2534525 | PX11: -2.4031162 | PY11: -0.27597678 | PZ11: 1.2725961 | QA11: -1.9578499 | QB11: -1.8214984 | QC11: -3.5127015 | QD11: -2.7535025 | QE11: -3.1800456 | QF11: -3.1390054 | QG11: -0.42383473 | QH11: -3.88475 | QI11: -3.2649375 | QJ11: 0.61244368 | QK11: -1.1332976 | QL11: -0.55809074 | QM11: -0.098462081 | QN11: -1.3682488 | QO11: -1.1003538 | QP11: -1.9964265 | QQ11: 0.036448461 | QR11: -1.7753448 | QS11: -1.9114647 | QT11: -1.1975141 | QU11: -2.0132577 | QV11: -0.93858102 | QW11: 2.0815144 | QX11: -2.0187577 | QY11: -1.0039636 | QZ11: -0.5281445 | RA11: -1.7116887 | RB11: -1.3864278 | RC11: 0.065068676 | RD11: -1.8347282 | RE11: -0.89997315 | RF11: -1.1314472 | RG11: -1.3321581 | RH11: -1.701289 | RI11: -0.11017116 | RJ11: -2.4753928 | RK11: -1.6581985 | RL11: 1.4613494 | RM11: -0.63510043 | RN11: 1.5932896 | RO11: -0.16059922 | RP11: -0.90206146 | RQ11: 1.8988668 | RR11: 1.7836306 | RS11: -0.020739867 | RT11: -3.9000693 | RU11: -3.5490869 | RV11: -3.5983171 | RW11: -4.0619992 | RX11: -4.7901884 | RY11: -6.576093 | RZ11: -0.31092169 | SA11: -0.5621205 | SB11: -1.0502936 | SC11: -0.28885087 | SD11: -3.5466002 | SE11: -0.71985936 | SF11: -3.0535388 | SG11: -2.7963583 | SH11: -2.8758171 | SI11: -3.2103801 | SJ11: -2.667254 | SK11: -2.3406623 | SL11: -1.134352 | SM11: 0.058428474 | SN11: -1.664887 | SO11: -1.0045872 | SP11: -1.1671628 | SQ11: -0.23699924 | SR11: -2.3382271 | SS11: -1.848643 | ST11: -1.667746 | SU11: -1.7710457 | SV11: -1.9782286 | SW11: -3.1007893 | SX11: -2.1939783 | SY11: -2.0889946 | SZ11: -2.9984842 | TA11: -2.5143057 | TB11: -2.3724615 | TC11: -4.0181438 | TD11: -2.4983852 | TE11: 0.81772951 | TF11: -3.1532983 | TG11: -2.0729558 | TH11: -3.1816876 | TI11: -4.6366325 | TJ11: -3.233674 | TK11: -2.8554376 | TL11: -2.2275362 | TM11: -1.6878674 | TN11: -2.2128559 | TO11: -2.4484372 | TP11: -1.7955622 | TQ11: -2.4938624 | TR11: -1.6383342 | TS11: -2.1358158 | TT11: -2.4814394 | TU11: -3.5299225
A12: =A11+0.01 -> 0.07 | B12: -2.4737913 | C12: -2.5382763 | D12: -1.5568649 | E12: -2.7472207 | F12: -1.8835471 | G12: -2.8059173 | H12: -0.73980931 | I12: 1.1434688 | J12: 0.11343487 | K12: -0.45406818 | L12: -0.10918144 | M12: -0.0086484954 | N12: -1.9785867 | O12: -0.79069447 | P12: 1.1387369 | Q12: -2.2871168 | T12: -2.0525286 | U12: -0.959339 | V12: -2.7246355 | W12: -1.8296815 | X12: -2.9088876 | Y12: -0.66957942 | Z12: -2.1792399 | AA12: -3.6507445 | AB12: -5.0555039 | AC12: -4.1022526 | AD12: -2.1249701 | AE12: -0.84021412 | AF12: 2.8875989 | AG12: 3.821458 | AH12: 1.3641152 | AI12: 3.7322345 | AJ12: 3.5802337 | AK12: 4.2393031 | AL12: -0.3564712 | AM12: -0.55765812 | AN12: -1.6538397 | AO12: -0.94173643 | AP12: -0.87250338 | AQ12: -0.60544133 | AR12: -1.4110641 | AS12: -1.8365755 | AT12: -0.57511458 | AU12: -2.3502499 | AV12: -2.5492348 | AW12: -2.3214301 | AX12: -1.0795087 | AY12: 0.33500471 | AZ12: -0.70121189 | BA12: -2.3299293 | BB12: -0.2492419 | BC12: -2.2469232 | BD12: -1.5321877 | BE12: -1.905638 | BF12: -4.8112512 | BG12: -1.7916697 | BH12: -2.2046072 | BI12: -2.2310476 | BJ12: -3.6527393 | BK12: -3.1217391 | BL12: -2.6935657 | BM12: -3.0140559 | BN12: -2.8484159 | BP12: -1.4689579 | BQ12: -1.5920125 | BR12: -1.7861098 | BS12: -0.80428379 | BT12: -1.5542619 | BU12: -1.693312 | BV12: -5.4396411 | BW12: -3.0236976 | BX12: -3.039222 | BY12: -5.0456602 | BZ12: -2.3619839 | CA12: -2.4441859 | CB12: -1.5690144 | CC12: -1.5808533 | CD12: -1.1832473 | CE12: -1.424045 | CF12: -0.48396693 | CH12: 0.10086748 | CI12: -1.0937955 | CJ12: -1.6925783 | CK12: -0.59349106 | CL12: -0.78240137 | CM12: -0.56206503 | CN12: 0.3768227 | CO12: -0.41646765 | CP12: -1.7987097 | CQ12: -1.7624773 | CR12: 0.61827956 | CS12: -1.5013193 | CT12: -1.1371078 | CU12: -1.0974207 | CV12: -1.3959933 | CW12: -2.4967604 | CX12: -1.2237318 | CY12: -1.5090684 | CZ12: -0.86174039 | DA12: -0.79633785 | DB12: -1.8723063 | DC12: -1.5578821 | DD12: -1.9704631 | DE12: -1.3303811 | DF12: 0.19288709 | DG12: 1.4178487 | DH12: 0.340136 | DI12: 0.46842634 | DJ12: -0.55518566 | DK12: -0.49757177 | DL12: -2.5268065 | DM12: -3.2900248 | DN12: -2.3188495 | DO12: -1.1238742 | DP12: -2.8429681 | DQ12: -1.8865779 | DR12: -1.7819654 | DS12: 0.28841775 | DT12: -2.4899683 | DU12: -3.4648563 | DV12: -2.2909146 | DW12: -3.5103802 | DX12: -0.94950979 | DY12: -0.24759606 | DZ12: -0.85030419 | EA12: -1.182495 | EB12: -0.52463972 | EC12: 0.078141494 | ED12: -0.34451202 | EE12: -2.0349931 | EF12: 0.05943136 | EG12: -0.44324263 | EH12: -0.71557817 | EI12: -1.9381418 | EJ12: 5.2285358 | EK12: 2.8583643 | EL12: 3.4038896 | EM12: 4.9131278 | EN12: 2.6353562 | EO12: 3.4666347 | EP12: 0.015672514 | EQ12: 0.45682645 | ER12: -3.1414331 | ES12: -0.71581328 | ET12: -1.2714891 | EU12: 0.91338758 | EV12: -0.45118342 | EW12: -1.0147833 | EX12: -1.4870047 | EY12: -1.3503593 | EZ12: -1.4813107 | FA12: -1.6558783 | FB12: -1.3269824 | FC12: 0.10091913 | FD12: -2.6433377 | FE12: -0.820782 | FF12: -0.54861412 | FG12: -2.8816084 | FH12: -1.1721391 | FI12: 0.40195612 | FJ12: -3.1607853 | FK12: -1.5941468 | FL12: -2.3793199 | FM12: -0.67976924 | FN12: -5.281897 | FO12: -4.3405777 | FP12: -4.7382884 | FQ12: -3.8185218 | FR12: -6.7452944 | FS12: -5.3242179 | FT12: -3.9150613 | FU12: -2.6409176 | FV12: -5.0966011 | FW12: -4.0266897 | FX12: -3.5656207 | FY12: -1.3005041 | FZ12: -6.1626761 | GA12: -5.866112 | GB12: -5.2513324 | GC12: -3.9659868 | GD12: -5.1586333 | GE12: -6.4092734 | GF12: -8.1635533 | GG12: -7.6748527 | GH12: -7.7578439 | GI12: -5.9894163 | GJ12: -6.3695491 | GK12: -6.235011 | GL12: -7.2290275 | GM12: -6.7839445 | GN12: -6.6078796 | GO12: -6.0723291 | GP12: -7.0342271 | GQ12: -4.3463207 | GR12: -2.7689113 | GS12: -4.7779966 | GT12: -3.5521359 | GU12: -5.4880528 | GV12: -5.3396535 | GW12: -4.1587185 | GX12: -5.6863133 | GY12: -4.6376753 | GZ12: -6.0371954 | HA12: -3.9170801 | HB12: -4.6941038 | HC12: -3.3897892 | HD12: -3.7016442 | HE12: -3.5557146 | HF12: -3.8262699 | HG12: -1.8507348 | HH12: -2.8226794 | HI12: -4.5084078 | HJ12: -1.6781388 | HK12: -0.84907157 | HL12: -1.8991715 | HM12: -1.0155096 | HN12: -2.22308 | HO12: -1.5045218 | HP12: -3.3948321 | HQ12: -3.5037119 | HR12: -1.8432031 | HS12: -2.1569562 | HT12: -1.9599145 | HU12: -1.5997245 | HV12: -1.6031483 | HW12: -2.9083531 | HX12: -0.63348859 | HY12: -0.58056224 | HZ12: -1.6949368 | IA12: -1.222633 | IB12: -0.36205459 | IC12: -2.2709012 | ID12: -2.5632137 | IE12: -1.4847719 | IF12: -2.4393578 | IG12: -2.1320093 | IH12: -1.5349834 | II12: -1.485006 | IJ12: -0.69169639 | IK12: -1.1012668 | IL12: 0.22132159 | IM12: -0.24523094 | IN12: -0.91525466 | IO12: -1.5594733 | IP12: -2.0895879 | IQ12: -1.2238237 | IR12: -0.12311616 | IS12: -1.7173763 | IT12: -1.3528743 | IU12: -1.8518774 | IV12: -1.6975158 | IW12: -0.89252112 | IX12: -0.69504968 | IY12: -0.97080469 | IZ12: 0.41650186 | JA12: -0.19470808 | JB12: 3.8213148 | JC12: 1.4879605 | JD12: -0.29054324 | JE12: 0.83230876 | JF12: -0.8939913 | JG12: -0.62880017 | JH12: 0.50425333 | JI12: 0.46226435 | JJ12: -0.53113803 | JK12: -0.17135892 | JL12: -1.8683038 | JM12: -1.045617 | JN12: -1.7070285 | JO12: -2.5345541 | JP12: -1.2710282 | JQ12: -1.1638035 | JR12: -1.7924007 | JS12: -1.9526327 | JT12: -2.8436124 | JU12: -4.0876565 | JV12: -1.7473156 | JW12: -1.9920622 | JX12: -0.39714361 | JY12: -1.160979 | JZ12: -0.28851401 | KA12: -0.35958139 | KB12: -0.2580724 | KC12: 0.03462245 | KD12: -1.077112 | KE12: -0.69913644 | KF12: -1.8544493 | KG12: -1.9656406 | KH12: -1.9035106 | KI12: -1.9386187 | KJ12: -3.0379724 | KK12: -4.6149658 | KL12: -3.2872005 | KM12: -3.9277114 | KN12: -3.0203931 | KO12: -4.166504 | KP12: -1.5020079 | KQ12: -1.5611038 | KR12: -0.55719438 | KS12: -1.9483572 | KT12: -0.54454215 | KU12: -1.6140135 | KV12: -1.4514528 | KW12: -0.59169367 | KX12: -0.89904451 | KY12: -1.2981352 | KZ12: -0.98450512 | LA12: -0.86743399 | LB12: -2.1398443 | LC12: -1.2062833 | LD12: -1.6960613 | LE12: -2.6344361 | LF12: -1.8982966 | LG12: -2.12633 | LH12: -2.3108444 | LI12: -1.7681915 | LJ12: -1.4102398 | LK12: -2.0605723 | LL12: -3.3439721 | LM12: -1.6205707 | LN12: -3.8238261 | LO12: -2.819021 | LP12: -1.5079498 | LQ12: -2.7268839 | LR12: -2.7620617 | LS12: -1.6393685 | LT12: -4.2044395 | LU12: -2.6110843 | LV12: -2.9270896 | LW12: -2.4966222 | LX12: -1.9820236 | LY12: -2.075822 | LZ12: -1.3504457 | MA12: -1.9231741 | MB12: -1.0381856 | MC12: -1.1564729 | MD12: -2.4459198 | ME12: -2.7762934 | MF12: -2.2607089 | MG12: -1.458019 | MH12: -3.7912574 | MI12: -0.39985634 | ML12: -1.8156571 | MM12: -3.0792324 | MN12: -0.71213661 | MO12: -1.5993564 | MP12: -0.78074841 | MQ12: -0.64531523 | MR12: -1.2018629 | MS12: -2.0382895 | MT12: -4.4948149 | MU12: -3.790267 | MV12: -2.7156917 | MW12: -3.6521556 | MX12: -3.6643623 | MY12: -2.9605421 | MZ12: -0.98838343 | NA12: -2.1060443 | NB12: -3.0319584 | NC12: -1.7875807 | ND12: -2.5776087 | NE12: -1.2592907 | NF12: -3.5970192 | NG12: -1.2533901 | NH12: -2.4196414 | NI12: -1.8492421 | NJ12: -1.2289742 | NK12: 1.2923547 | NL12: -1.302782 | NM12: -1.6565506 | NN12: 0.38199095 | NO12: -1.4475678 | NP12: -0.43742027 | NQ12: -0.40951636 | NR12: -1.4531251 | NS12: -0.61123526 | NT12: -0.30594016 | NU12: -2.6057701 | NV12: -0.55943572 | NW12: -0.3982676 | NX12: -1.244976 | NY12: -1.7872769 | NZ12: -2.4368744 | OA12: -2.1249783 | OB12: 0.7981379 | OC12: -0.62191506 | OD12: -2.5337685 | OE12: -1.2695133 | OF12: -0.77663386 | OG12: -0.060446348 | OH12: -2.6899476 | OI12: -1.7354401 | OJ12: -2.5518744 | OK12: -2.2358685 | OL12: -3.5108316 | OM12: -1.9611103 | ON12: -1.0541449 | OO12: 0.2683467 | OP12: -0.68410444 | OQ12: -2.5339593 | OR12: -3.8472448 | OS12: -1.2665234 | OT12: -0.80048336 | OU12: 0.25019898 | OV12: -0.83097803 | OW12: -2.33472 | OX12: -1.8022526 | OY12: -1.1551514 | OZ12: 0.95943585 | PA12: -1.2248418 | PB12: 0.12752332 | PC12: -0.04656749 | PD12: -0.9105785 | PE12: -2.6840441 | PF12: -2.7088459 | PG12: -3.6261361 | PH12: -3.5623198 | PI12: -1.5629621 | PJ12: -2.312439 | PK12: -3.1722507 | PL12: -1.3527739 | PM12: -1.9010371 | PN12: -0.8067753 | PO12: 0.71731795 | PP12: -1.2214056 | PQ12: -2.4158502 | PR12: -1.4373001 | PS12: -1.8019687 | PT12: -0.75450743 | PU12: -3.575874 | PV12: -1.0644479 | PX12: -2.171343 | PY12: 0.037306682 | PZ12: 1.7859544 | QA12: -1.4142737 | QB12: -1.515888 | QC12: -3.1227998 | QD12: -3.242741 | QE12: -3.0217827 | QF12: -2.8849318 | QG12: -0.31640263 | QH12: -3.6980333 | QI12: -3.0160472 | QJ12: 0.72204413 | QK12: -0.95294878 | QL12: -0.027076944 | QM12: 0.18048232 | QN12: -1.101794 | QO12: -0.8147375 | QP12: -1.6581654 | QQ12: 0.5888443 | QR12: -1.6617116 | QS12: -1.253075 | QT12: -0.96446527 | QU12: -1.6721477 | QV12: -0.73281015 | QW12: 2.4971134 | QX12: -1.436247 | QY12: -0.62616309 | QZ12: -0.018875545 | RA12: -1.1457626 | RB12: -1.2791235 | RC12: 0.49402225 | RD12: -1.507687 | RE12: -0.45882233 | RF12: -0.56111216 | RG12: -1.0351075 | RH12: -1.2740049 | RI12: 0.31138949 | RJ12: -1.988445 | RK12: -1.1911067 | RL12: 1.7019744 | RM12: -0.30776167 | RN12: 1.8977319 | RO12: 0.24060868 | RP12: -0.45012251 | RQ12: 2.2943636 | RR12: 2.1869229 | RS12: 0.30940912 | RT12: -4.1637236 | RU12: -3.3575996 | RV12: -3.8963858 | RW12: -3.8919575 | RX12: -4.3207009 | RY12: -6.4943126 | RZ12: -0.1700029 | SA12: -0.39218453 | SB12: -1.0512957 | SC12: -0.50786753 | SD12: -3.0776741 | SE12: -0.69749146 | SF12: -2.7940712 | SG12: -2.7511868 | SH12: -2.3517278 | SI12: -3.4861065 | SJ12: -2.8116031 | SK12: -2.3575378 | SL12: -1.1250128 | SM12: 0.16632714 | SN12: -1.6661557 | SO12: -1.00677 | SP12: -1.3622463 | SQ12: -0.32653442 | SR12: -2.4258425 | SS12: -2.0344545 | ST12: -1.406875 | SU12: -2.0217414 | SV12: -1.7271507 | SW12: -3.3115896 | SX12: -2.3082857 | SY12: -2.0351284 | SZ12: -3.0104792 | TA12: -2.2048411 | TB12: -2.6435164 | TC12: -3.7410461 | TD12: -1.8702962 | TE12: 1.566272 | TF12: -3.0141415 | TG12: -1.8080919 | TH12: -2.9142806 | TI12: -4.4815363 | TJ12: -2.9887462 | TK12: -2.322438 | TL12: -2.056843 | TM12: -1.72624 | TN12: -2.0757763 | TO12: -2.2141372 | TP12: -1.8084927 | TQ12: -2.1530086 | TR12: -1.2398541 | TS12: -1.8812226 | TT12: -2.6394716 | TU12: -3.5769602
A13: =A12+0.01 -> 0.08 | B13: -2.0550113 | C13: -2.2152778 | D13: -1.3773144 | E13: -2.3544262 | F13: -1.4894777 | G13: -2.4687594 | H13: -0.55784515 | I13: 1.8012924 | J13: 0.6253188 | K13: -0.26874786 | L13: 0.30896681 | M13: 0.084812524 | N13: -1.3154693 | O13: -0.11502767 | P13: 1.9009589 | Q13: -1.7108884 | T13: -1.4731429 | U13: -0.45430337 | V13: -2.1850851 | W13: -1.3803956 | X13: -2.5512496 | Y13: -0.028730363 | Z13: -2.0179062 | AA13: -2.9637771 | AB13: -4.6166359 | AC13: -3.4330054 | AD13: -1.4352266 | AE13: -0.15099589 | AF13: 2.102779 | AG13: 3.1726451 | AH13: 1.4391224 | AI13: 3.4872602 | AJ13: 3.9388101 | AK13: 3.4875505 | AL13: 0.15107708 | AM13: -0.17811668 | AN13: -1.2820764 | AO13: -0.41506103 | AP13: -0.16702101 | AQ13: -0.029045273 | AR13: -0.76648859 | AS13: -1.3518078 | AT13: 0.11856182 | AU13: -1.899764 | AV13: -2.2539295 | AW13: -1.8526523 | AX13: -0.6376064 | AY13: 0.7450685 | AZ13: -0.18646621 | BA13: -1.8364583 | BB13: 0.35482033 | BC13: -1.9053571 | BD13: -0.69096445 | BE13: -1.084852 | BF13: -4.2021252 | BG13: -1.0294335 | BH13: -1.4776943 | BI13: -1.7007255 | BJ13: -3.0074225 | BK13: -2.4493851 | BL13: -1.9604269 | BM13: -2.3402401 | BN13: -2.1694774 | BP13: -0.80545259 | BQ13: -1.0032448 | BR13: -1.2683463 | BS13: -0.39591688 | BT13: -0.88685758 | BU13: -0.9647796 | BV13: -4.6079052 | BW13: -2.3053607 | BX13: -2.2925854 | BY13: -4.1523091 | BZ13: -2.0981833 | CA13: -1.6936497 | CB13: -1.1445394 | CC13: -0.97289865 | CD13: -0.87659901 | CE13: -0.6586502 | CF13: -0.27863893 | CH13: 0.79545247 | CI13: -0.61822411 | CJ13: -1.0201304 | CK13: -0.032196802 | CL13: -0.21891087 | CM13: -0.18004606 | CN13: 1.0972939 | CO13: 0.42172671 | CP13: -1.3818834 | CQ13: -1.0586744 | CR13: 1.3491315 | CS13: -1.0024033 | CT13: -0.63974878 | CU13: -0.40346995 | CV13: -0.80964706 | CW13: -1.6761144 | CX13: -0.48971455 | CY13: -0.78341812 | CZ13: -0.29055484 | DA13: -0.11968566 | DB13: -1.0824399 | DC13: -0.85634815 | DD13: -1.30487 | DE13: -0.56039903 | DF13: 0.73072405 | DG13: 2.1673538 | DH13: 0.96552383 | DI13: 1.2662045 | DJ13: 0.011041492 | DK13: 0.011702496 | DL13: -1.8008636 | DM13: -2.5424426 | DN13: -1.3898626 | DO13: 0.017779957 | DP13: -1.8905082 | DQ13: -0.94589761 | DR13: -1.0465616 | DS13: 1.396525 | DT13: -1.1847231 | DU13: -2.36408 | DV13: -1.0669791 | DW13: -2.2828055 | DX13: -0.59509917 | DY13: 0.65233399 | DZ13: -0.21851263 | EA13: -0.51828828 | EB13: 0.24090437 | EC13: 0.65945951 | ED13: 0.5718441 | EE13: -1.2269205 | EF13: 1.1760182 | EG13: 0.34130818 | EH13: 0.35316694 | EI13: -1.1649536 | EJ13: 5.9131338 | EK13: 3.4111516 | EL13: 4.0152418 | EM13: 5.7420273 | EN13: 3.2383882 | EO13: 3.9225426 | EP13: 1.118247 | EQ13: 1.5353294 | ER13: -2.3292706 | ES13: 0.40753314 | ET13: -0.23868413 | EU13: 1.722675 | EV13: 0.2820648 | EW13: -0.065932888 | EX13: -0.5062325 | EY13: -0.81553081 | EZ13: -0.63118258 | FA13: -0.81559265 | FB13: -0.20577433 | FC13: 1.2429658 | FD13: -1.6036558 | FE13: 0.14862689 | FF13: 0.40306853 | FG13: -2.1253414 | FH13: -0.60531821 | FI13: 0.65091385 | FJ13: -2.5404828 | FK13: -0.96823097 | FL13: -1.7609663 | FM13: -0.14529363 | FN13: -4.4181715 | FO13: -3.489771 | FP13: -3.9478823 | FQ13: -3.1144086 | FR13: -5.8954879 | FS13: -4.3420179 | FT13: -3.3772517 | FU13: -2.004045 | FV13: -4.4721944 | FW13: -3.3400159 | FX13: -2.5240412 | FY13: -2.9830601 | FZ13: -5.2915442 | GA13: -5.3799157 | GB13: -4.5155848 | GC13: -3.1995572 | GD13: -4.0314668 | GE13: -5.5794625 | GF13: -8.185691 | GG13: -7.1699698 | GH13: -6.6285461 | GI13: -5.2510157 | GJ13: -6.7182311 | GK13: -5.7257198 | GL13: -7.6017281 | GM13: -6.114377 | GN13: -6.2511546 | GO13: -5.5898726 | GP13: -6.6085 | GQ13: -4.0926401 | GR13: -2.2191264 | GS13: -4.0244153 | GT13: -3.0991837 | GU13: -4.9690208 | GV13: -4.5281735 | GW13: -3.4513273 | GX13: -5.1040221 | GY13: -3.8415549 | GZ13: -5.288547 | HA13: -3.0099035 | HB13: -4.0895855 | HC13: -2.5505724 | HD13: -3.0550023 | HE13: -2.7929502 | HF13: -3.0299786 | HG13: -1.1475271 | HH13: -2.0486479 | HI13: -3.8193046 | HJ13: -1.050262 | HK13: -0.24415592 | HL13: -1.1017864 | HM13: -0.46687171 | HN13: -1.3706699 | HO13: -0.98843126 | HP13: -2.578898 | HQ13: -2.9165368 | HR13: -1.1666045 | HS13: -1.4079311 | HT13: -1.3585451 | HU13: -1.1913256 | HV13: -1.0550052 | HW13: -2.1964864 | HX13: -0.056893047 | HY13: 0.065073549 | HZ13: -1.3801143 | IA13: -0.65766192 | IB13: -0.21642177 | IC13: -1.8638299 | ID13: -1.8745165 | IE13: -0.9433666 | IF13: -1.9387165 | IG13: -1.6275312 | IH13: -0.74587986 | II13: -0.6812194 | IJ13: -0.036353984 | IK13: -0.67287112 | IL13: 0.6945265 | IM13: 0.12554412 | IN13: -0.36274534 | IO13: -1.3170648 | IP13: -1.460982 | IQ13: -0.69836257 | IR13: 0.4449936 | IS13: -1.3798582 | IT13: -1.2715229 | IU13: -1.5016915 | IV13: -1.2608849 | IW13: -0.67002983 | IX13: -0.46233814 | IY13: -0.4859377 | IZ13: 1.0344887 | JA13: 0.6113089 | JB13: 4.4743579 | JC13: 2.1141502 | JD13: 0.48038197 | JE13: 1.3160757 | JF13: -0.61920976 | JG13: -0.048564848 | JH13: 0.80735371 | JI13: 0.82848042 | JJ13: -0.045125983 | JK13: 0.23912456 | JL13: -1.4234694 | JM13: -0.50371732 | JN13: -1.1213361 | JO13: -1.8492568 | JP13: -0.58392584 | JQ13: -0.71137975 | JR13: -1.115867 | JS13: -1.1723292 | JT13: -2.0730007 | JU13: -3.586581 | JV13: -1.0496016 | JW13: -1.4019025 | JX13: 0.11956232 | JY13: -0.51262281 | JZ13: 0.27710775 | KA13: 0.28714882 | KB13: 0.035343748 | KC13: 0.44492177 | KD13: -0.43514575 | KE13: 0.044401625 | KF13: -1.1628932 | KG13: -1.0551037 | KH13: -1.2366839 | KI13: -1.4252479 | KJ13: -2.5133153 | KK13: -3.7905645 | KL13: -2.7043416 | KM13: -3.1482991 | KN13: -2.2032299 | KO13: -3.377959 | KP13: -0.87632635 | KQ13: -0.98187322 | KR13: -0.064092333 | KS13: -1.333916 | KT13: 0.11367782 | KU13: -1.060412 | KV13: -0.98867447 | KW13: -0.17485629 | KX13: -0.34385146 | KY13: -0.78057874 | KZ13: -0.19074251 | LA13: -0.29613129 | LB13: -1.5432729 | LC13: -0.63692886 | LD13: -1.0718831 | LE13: -2.0189744 | LF13: -1.2592366 | LG13: -1.3631843 | LH13: -1.7227236 | LI13: -1.3210468 | LJ13: -0.99387701 | LK13: -1.6902636 | LL13: -2.5509842 | LM13: -1.0054754 | LN13: -3.0206242 | LO13: -2.0344201 | LP13: -0.67321209 | LQ13: -1.8124642 | LR13: -1.9493247 | LS13: -0.98596662 | LT13: -3.0982894 | LU13: -1.6165086 | LV13: -2.0288881 | LW13: -1.6184936 | LX13: -0.98134122 | LY13: -1.3203342 | LZ13: -0.32040453 | MA13: -1.389353 | MB13: -0.26563222 | MC13: -0.41853021 | MD13: -1.6912923 | ME13: -2.1359284 | MF13: -1.565852 | MG13: -0.57720199 | MH13: -2.9889752 | MI13: 0.38574693 | ML13: -0.99275681 | MM13: -2.6822478 | MN13: 0.2461648 | MO13: -0.77618221 | MP13: 0.18302095 | MQ13: 0.086361073 | MR13: -0.50064412 | MS13: -0.96340679 | MT13: -3.5582998 | MU13: -3.3130162 | MV13: -2.08526 | MW13: -2.9026943 | MX13: -2.7854288 | MY13: -1.9249769 | MZ13: -0.045935688 | NA13: -1.1840998 | NB13: -2.1384666 | NC13: -0.9846608 | ND13: -1.7586785 | NE13: -0.25679345 | NF13: -2.8763795 | NG13: -0.65362801 | NH13: -1.8097035 | NI13: -1.1328838 | NJ13: -0.28852334 | NK13: 2.4267717 | NL13: -0.30729394 | NM13: -1.0912696 | NN13: 1.5103223 | NO13: -0.51132001 | NP13: -0.056403819 | NQ13: 0.30532953 | NR13: -0.83290129 | NS13: 0.1663114 | NT13: 0.37753551 | NU13: -2.0708056 | NV13: -0.045810935 | NW13: 0.31459868 | NX13: -0.71400811 | NY13: -1.2313229 | NZ13: -1.6838341 | OA13: -1.4478198 | OB13: 1.4258908 | OC13: 0.25390395 | OD13: -1.9919335 | OE13: -0.58429368 | OF13: -0.30689263 | OG13: 0.52477724 | OH13: -2.2714284 | OI13: -1.3112473 | OJ13: -2.3205436 | OK13: -1.8901341 | OL13: -3.0265701 | OM13: -1.8189097 | ON13: -0.81308007 | OO13: 0.79443066 | OP13: -0.053672546 | OQ13: -2.2101666 | OR13: -3.264475 | OS13: -0.87163017 | OT13: -0.37981388 | OU13: 0.7570829 | OV13: -0.38199479 | OW13: -1.7067017 | OX13: -1.2991252 | OY13: -0.90345615 | OZ13: 1.6533135 | PA13: -0.96769016 | PB13: 0.75384798 | PC13: 0.49672438 | PD13: -0.48437409 | PE13: -2.3063352 | PF13: -2.0212443 | PG13: -3.399245 | PH13: -2.8375484 | PI13: -0.99832655 | PJ13: -2.2256584 | PK13: -2.6885372 | PL13: -1.1729895 | PM13: -1.5155222 | PN13: -0.059564228 | PO13: 1.4866644 | PP13: -0.44721836 | PQ13: -1.9814423 | PR13: -0.94557956 | PS13: -1.3537727 | PT13: -0.15303881 | PU13: -3.0486399 | PV13: -0.54727858 | PX13: -1.785187 | PY13: 0.43320393 | PZ13: 2.4177571 | QA13: -0.71999622 | QB13: -1.3505253 | QC13: -2.5947745 | QD13: -2.7150824 | QE13: -2.520306 | QF13: -2.4914113 | QG13: 0.13360651 | QH13: -3.2987518 | QI13: -2.7828114 | QJ13: 1.062703 | QK13: -0.63918965 | QL13: 0.56262994 | QM13: 0.65819352 | QN13: -0.78562056 | QO13: -0.17194868 | QP13: -1.2591005 | QQ13: 1.2446639 | QR13: -1.2089472 | QS13: -0.51452744 | QT13: -0.51582177 | QU13: -1.1969724 | QV13: -0.19212311 | QW13: 2.7073417 | QX13: -0.7040638 | QY13: -0.01306878 | QZ13: 0.50197312 | RA13: -0.52882592 | RB13: -1.0402536 | RC13: 1.0821064 | RD13: -0.98188733 | RE13: 0.059992197 | RF13: 0.12907899 | RG13: -0.55192982 | RH13: -0.87144815 | RI13: 0.90092366 | RJ13: -1.3797493 | RK13: -0.77729609 | RL13: 2.2029198 | RM13: 0.2221656 | RN13: 2.4107278 | RO13: 0.77718282 | RP13: 0.10248344 | RQ13: 2.8607432 | RR13: 2.8256295 | RS13: 0.76786818 | RT13: -3.9263389 | RU13: -2.8689187 | RV13: -3.6547803 | RW13: -3.6203195 | RX13: -3.7055245 | RY13: -6.2859207 | RZ13: 0.065034708 | SA13: -0.12336209 | SB13: -0.62485034 | SC13: -0.36815565 | SD13: -2.4884144 | SE13: -0.34222614 | SF13: -2.3986437 | SG13: -2.4294502 | SH13: -1.6829043 | SI13: -3.4445639 | SJ13: -2.7116905 | SK13: -2.0805826 | SL13: -0.97839599 | SM13: 0.16948295 | SN13: -1.3464666 | SO13: -0.77067104 | SP13: -1.0637704 | SQ13: 0.10017027 | SR13: -2.0944309 | SS13: -1.8200809 | ST13: -0.8622224 | SU13: -1.8473495 | SV13: -1.5229792 | SW13: -3.0583135 | SX13: -2.1140393 | SY13: -1.5865802 | SZ13: -2.8220856 | TA13: -1.9467491 | TB13: -2.4443709 | TC13: -3.4241363 | TD13: -1.0825296 | TE13: 2.1730247 | TF13: -2.7549328 | TG13: -1.3432857 | TH13: -2.5866684 | TI13: -4.1387209 | TJ13: -2.5825629 | TK13: -1.5638608 | TL13: -1.7596384 | TM13: -1.5130864 | TN13: -1.7816463 | TO13: -1.6508647 | TP13: -1.6990553 | TQ13: -1.6890456 | TR13: -0.80449471 | TS13: -1.6537117 | TT13: -2.6256331 | TU13: -3.4926343
A14: =A13+0.01 -> 0.09 | B14: -1.535883 | C14: -1.725202 | D14: -1.0266666 | E14: -1.9132434 | F14: -0.97078668 | G14: -2.0481853 | H14: -0.45310855 | I14: 2.4948803 | J14: 1.2252667 | K14: 0.033488427 | L14: 0.97165655 | M14: 0.29196687 | N14: -0.5979066 | O14: 0.61738241 | P14: 2.5948683 | Q14: -1.090298 | T14: -0.71812703 | U14: 0.13974927 | V14: -1.6733997 | W14: -0.83574405 | X14: -2.0663126 | Y14: 0.67437753 | Z14: -1.1144036 | AA14: -2.1858528 | AB14: -4.0088721 | AC14: -2.7479845 | AD14: -0.7204319 | AE14: 0.60225045 | AF14: 2.5451877 | AG14: 3.1141148 | AH14: 2.1630923 | AI14: 3.7563671 | AJ14: 3.4043408 | AK14: 3.4849905 | AL14: 0.77452172 | AM14: 0.38499556 | AN14: -0.77292454 | AO14: 0.14544255 | AP14: 0.36455807 | AQ14: 0.60848791 | AR14: -0.036972944 | AS14: -0.76151697 | AT14: 0.97685747 | AU14: -1.2544798 | AV14: -1.6840751 | AW14: -1.3164628 | AX14: -0.10542396 | AY14: 1.2033169 | AZ14: 0.21699038 | BA14: -1.2588195 | BB14: 0.99255289 | BC14: -1.4061251 | BD14: 0.27272682 | BE14: -0.16644091 | BF14: -3.5265928 | BG14: -0.16376364 | BH14: -0.56971397 | BI14: -1.034736 | BJ14: -2.1409579 | BK14: -1.5963474 | BL14: -1.0675301 | BM14: -1.5673719 | BN14: -1.3514471 | BP14: -0.011890246 | BQ14: -0.28290507 | BR14: -0.57965844 | BS14: 0.18904313 | BT14: -0.050648542 | BU14: -0.069171077 | BV14: -3.5219154 | BW14: -1.4729178 | BX14: -1.4452629 | BY14: -2.9718731 | BZ14: -1.5077553 | CA14: -0.77801496 | CB14: -0.43534178 | CC14: -0.25792999 | CD14: -0.19731865 | CE14: 0.31821285 | CF14: 0.46526317 | CH14: 1.6088863 | CI14: -0.019091094 | CJ14: -0.22199911 | CK14: 0.70947476 | CL14: 0.36264304 | CM14: 0.3662966 | CN14: 1.8841898 | CO14: 1.3624353 | CP14: -0.77062799 | CQ14: -0.2314195 | CR14: 2.079766 | CS14: -0.30585463 | CT14: -0.0033897622 | CU14: 0.4233167 | CV14: -0.035649461 | CW14: -0.69421877 | CX14: 0.41030924 | CY14: 0.08148237 | CZ14: 0.38372752 | DA14: 0.66246679 | DB14: -0.23786543 | DC14: 0.071473797 | DD14: -0.53709542 | DE14: 0.33879329 | DF14: 1.5257659 | DG14: 3.0465819 | DH14: 1.7048975 | DI14: 2.1817431 | DJ14: 0.75091056 | DK14: 0.71931119 | DL14: -0.95843138 | DM14: -1.5968629 | DN14: -0.42949257 | DO14: 1.2256479 | DP14: -0.67911705 | DQ14: 0.13632498 | DR14: -0.15939137 | DS14: 2.6388122 | DT14: 0.16404726 | DU14: -1.2087887 | DV14: 0.19733087 | DW14: -1.0007276 | DX14: 0.11037274 | DY14: 1.6808621 | DZ14: 0.63793423 | EA14: 0.26328439 | EB14: 1.1990812 | EC14: 1.4419284 | ED14: 1.5589878 | EE14: -0.18552153 | EF14: 2.3119407 | EG14: 1.1043256 | EH14: 1.4276187 | EI14: -0.23675562 | EJ14: 6.7387442 | EK14: 4.1594821 | EL14: 4.8070569 | EM14: 6.6714733 | EN14: 3.9857823 | EO14: 4.5276308 | EP14: 2.2498761 | EQ14: 2.673709 | ER14: -1.3463546 | ES14: 1.5863044 | ET14: 0.96314196 | EU14: 2.7548432 | EV14: 1.1788542 | EW14: 0.99084709 | EX14: 0.57967167 | EY14: -0.078583935 | EZ14: 0.2942843 | FA14: 0.16946828 | FB14: 1.0101642 | FC14: 2.4811926 | FD14: -0.45747194 | FE14: 1.1678659 | FF14: 1.478031 | FG14: -1.2013028 | FH14: 0.095581855 | FI14: 1.2257279 | FJ14: -1.599107 | FK14: -0.25386756 | FL14: -0.94950752 | FM14: -1.3402427 | FN14: -3.361075 | FO14: -2.6160711 | FP14: -3.0796991 | FQ14: -2.3690723 | FR14: -4.791547 | FS14: -3.139096 | FT14: -2.7779099 | FU14: -1.2389562 | FV14: -3.6995177 | FW14: -2.5670898 | FX14: -1.7829508 | FY14: -3.3175095 | FZ14: -4.3669362 | GA14: -4.4624549 | GB14: -3.759256 | GC14: -2.0899725 | GD14: -2.9924685 | GE14: -4.3620425 | GF14: -7.3074333 | GG14: -6.4841205 | GH14: -5.7782609 | GI14: -4.4703596 | GJ14: -6.9061652 | GK14: -5.0215749 | GL14: -6.838086 | GM14: -5.302491 | GN14: -5.6530629 | GO14: -4.9766073 | GP14: -5.9737709 | GQ14: -4.7221161 | GR14: -1.4905484 | GS14: -3.0783652 | GT14: -2.2720714 | GU14: -4.2501917 | GV14: -3.9084741 | GW14: -2.585556 | GX14: -4.3783818 | GY14: -2.8788471 | GZ14: -4.3698255 | HA14: -2.0322544 | HB14: -3.2760454 | HC14: -1.6444812 | HD14: -2.266097 | HE14: -1.8384399 | HF14: -2.1132111 | HG14: -0.24906504 | HH14: -1.0680423 | HI14: -2.9210476 | HJ14: -0.30789783 | HK14: 0.49076753 | HL14: -0.13378835 | HM14: 0.24536097 | HN14: -0.52672586 | HO14: -0.35834497 | HP14: -1.6732825 | HQ14: -2.1593854 | HR14: -0.46490042 | HS14: -0.56290064 | HT14: -0.68591157 | HU14: -0.66659033 | HV14: -0.38878836 | HW14: -1.3896608 | HX14: 0.6409207 | HY14: 0.93951038 | HZ14: -0.8958447 | IA14: 0.064489406 | IB14: 0.050462246 | IC14: -1.3546837 | ID14: -1.0291508 | IE14: -0.27632965 | IF14: -1.2944641 | IG14: -0.97779868 | IH14: 0.15544002 | II14: 0.19183471 | IJ14: 0.73973701 | IK14: -0.020555409 | IL14: 1.1896094 | IM14: 0.68448267 | IN14: 0.30161007 | IO14: -0.89945095 | IP14: -0.6347003 | IQ14: -0.059590796 | IR14: 1.0925451 | IS14: -0.72958307 | IT14: -1.0190234 | IU14: -0.91060369 | IV14: -0.68693403 | IW14: -0.23851357 | IX14: -0.027308489 | IY14: 0.11864076 | IZ14: 1.7701559 | JA14: 1.474161 | JB14: 5.2699197 | JC14: 2.8535012 | JD14: 1.3457803 | JE14: 1.8703662 | JF14: -0.22263653 | JG14: 0.60713114 | JH14: 1.3128373 | JI14: 1.206578 | JJ14: 0.5410175 | JK14: 0.84513963 | JL14: -0.88946457 | JM14: 0.18778667 | JN14: -0.41301337 | JO14: -1.1575362 | JP14: 0.19286423 | JQ14: -0.14474855 | JR14: -0.32765667 | JS14: -0.29937576 | JT14: -1.2310547 | JU14: -2.9818812 | JV14: -0.26381546 | JW14: -0.60915591 | JX14: 0.68028567 | JY14: 0.19376041 | JZ14: 0.93338706 | KA14: 0.99056549 | KB14: 0.49695822 | KC14: 0.93847369 | KD14: 0.28177143 | KE14: 0.91694702 | KF14: -0.30755292 | KG14: -0.028626807 | KH14: -0.49885062 | KI14: -0.75034077 | KJ14: -1.7524298 | KK14: -2.8726897 | KL14: -1.958087 | KM14: -2.2500794 | KN14: -1.3284496 | KO14: -2.4589907 | KP14: -0.37616126 | KQ14: -0.28043414 | KR14: 0.52738969 | KS14: -0.59185853 | KT14: 0.88322441 | KU14: -0.39103801 | KV14: -0.33574919 | KW14: 0.37792428 | KX14: 0.30335975 | KY14: -0.1370365 | KZ14: 0.61380899 | LA14: 0.44951713 | LB14: -0.81612518 | LC14: 0.15389231 | LD14: -0.39515569 | LE14: -1.2132087 | LF14: -0.45166206 | LG14: -0.52784516 | LH14: -0.97848601 | LI14: -0.71242324 | LJ14: -0.42124597 | LK14: -1.2257682 | LL14: -1.7523749 | LM14: -0.23307703 | LN14: -2.0863636 | LO14: -0.88017159 | LP14: 0.22854854 | LQ14: -0.37003177 | LR14: -0.95649743 | LS14: -0.14212109 | LT14: -1.8901479 | LU14: -0.54267621 | LV14: -1.0016222 | LW14: -0.61864 | LX14: 0.080810583 | LY14: -0.51248994 | LZ14: 0.7926191 | MA14: -0.57929911 | MB14: 0.59356444 | MC14: 0.52579107 | MD14: -0.84481874 | ME14: -1.4013209 | MF14: -0.72620349 | MG14: 0.46263201 | MH14: -2.0592488 | MI14: 1.3486803 | ML14: -0.031027631 | MM14: -1.9360909 | MN14: 1.1764456 | MO14: 0.19957479 | MP14: 1.2300097 | MQ14: 1.1356697 | MR14: 0.41040984 | MS14: 0.13676046 | MT14: -2.465637 | MU14: -2.4097173 | MV14: -1.3367649 | MW14: -2.0263444 | MX14: -1.851109 | MY14: -0.76244516 | MZ14: 0.93963831 | NA14: -0.18925779 | NB14: -1.1155254 | NC14: -0.059749992 | ND14: -0.82577263 | NE14: 0.89772047 | NF14: -1.9454492 | NG14: 0.077873242 | NH14: -0.93272424 | NI14: -0.34485884 | NJ14: 0.80570303 | NK14: 3.5633287 | NL14: 0.71900856 | NM14: -0.2654573 | NN14: 2.669052 | NO14: 0.53196307 | NP14: 0.3831153 | NQ14: 1.0351338 | NR14: -0.097396948 | NS14: 0.92072576 | NT14: 1.2108573 | NU14: -1.3786265 | NV14: 0.47553638 | NW14: 1.0699868 | NX14: -0.012559431 | NY14: -0.50530203 | NZ14: -0.771853 | OA14: -0.67900509 | OB14: 2.1059445 | OC14: 1.2604351 | OD14: -1.2843838 | OE14: 0.22709553 | OF14: 0.30666938 | OG14: 1.2061864 | OH14: -1.7616599 | OI14: -0.47568245 | OJ14: -1.8646561 | OK14: -1.352954 | OL14: -2.3670955 | OM14: -1.486965 | ON14: -0.43419345 | OO14: 1.4119339 | OP14: 0.69714038 | OQ14: -1.7099165 | OR14: -2.4409154 | OS14: -0.35192812 | OT14: 0.22211499 | OU14: 1.3938496 | OV14: 0.17110043 | OW14: -0.85979033 | OX14: -0.57505113 | OY14: -0.48922962 | OZ14: 2.455466 | PA14: -0.59665938 | PB14: 1.4896813 | PC14: 1.1820803 | PD14: 0.15831185 | PE14: -1.7258769 | PF14: -1.2083289 | PG14: -2.919536 | PH14: -1.9325815 | PI14: -0.40559775 | PJ14: -1.6496418 | PK14: -2.0443157 | PL14: -0.75883447 | PM14: -0.94919044 | PN14: 0.7635522 | PO14: 2.3863383 | PP14: 0.31483462 | PQ14: -1.3796294 | PR14: -0.40501095 | PS14: -0.8887321 | PT14: 0.51924713 | PU14: -2.4253683 | PV14: 0.040680386 | PX14: -1.2428935 | PY14: 0.91387613 | PZ14: 3.0732751 | QA14: 0.067021475 | QB14: -0.94801661 | QC14: -1.9905549 | QD14: -2.0585586 | QE14: -1.8941124 | QF14: -1.9864626 | QG14: 0.83898112 | QH14: -2.7939415 | QI14: -2.3173476 | QJ14: 1.5583004 | QK14: -0.20313714 | QL14: 1.2146656 | QM14: 1.2924169 | QN14: -0.18032365 | QO14: 0.42278365 | QP14: -0.72377149 | QQ14: 1.9967601 | QR14: -0.6574419 | QS14: 0.32273895 | QT14: 0.15840489 | QU14: -0.62741407 | QV14: 0.45551284 | QW14: 3.2576595 | QX14: 0.070920669 | QY14: 0.74192579 | QZ14: 1.1527704 | RA14: 0.24228247 | RB14: -0.63048324 | RC14: 1.8312422 | RD14: -0.28270541 | RE14: 0.74595323 | RF14: 0.87693153 | RG14: 0.07929064 | RH14: -0.25690997 | RI14: 1.5591115 | RJ14: -0.63910051 | RK14: -0.082903866 | RL14: 2.7897971 | RM14: 0.84446452 | RN14: 2.9490433 | RO14: 1.4464602 | RP14: 0.71126345 | RQ14: 3.4869785 | RR14: 3.4334248 | RS14: 1.3292132 | RT14: -3.6967279 | RU14: -2.0800078 | RV14: -3.3872072 | RW14: -3.2028356 | RX14: -2.9846273 | RY14: -5.6919987 | RZ14: 0.5678572 | SA14: 0.30944205 | SB14: -0.12750317 | SC14: -0.029979623 | SD14: -1.7690461 | SE14: 0.071431652 | SF14: -1.9245103 | SG14: -2.0023135 | SH14: -0.84719276 | SI14: -3.2484371 | SJ14: -2.5869206 | SK14: -1.787814 | SL14: -0.45143692 | SM14: 0.41690816 | SN14: -1.1009801 | SO14: -0.18995672 | SP14: -0.61577069 | SQ14: 0.63311726 | SR14: -1.462716 | SS14: -1.4545874 | ST14: -0.47320194 | SU14: -1.4022908 | SV14: -0.95492679 | SW14: -2.6757411 | SX14: -1.6869915 | SY14: -1.203433 | SZ14: -2.3130028 | TA14: -1.5234187 | TB14: -2.3185228 | TC14: -3.0225772 | TD14: -0.12836013 | TE14: 2.9732745 | TF14: -2.2812751 | TG14: -0.70280929 | TH14: -2.0755018 | TI14: -3.6834048 | TJ14: -1.8761017 | TK14: -0.70946383 | TL14: -1.2780918 | TM14: -1.1735807 | TN14: -1.36696 | TO14: -1.0521376 | TP14: -1.1965754 | TQ14: -1.0472102 | TR14: -0.13821718 | TS14: -1.1693618 | TT14: -2.48761 | TU14: -3.243024
A15: =A14+0.01 -> 0.1 | B15: -0.8905761 | C15: -1.1969948 | D15: -0.79529995 | E15: -1.3408052 | F15: -0.35771667 | G15: -1.5768375 | H15: -0.1633854 | I15: 3.1923927 | J15: 1.905972 | K15: 0.69136173 | L15: 1.6424262 | M15: 0.87991889 | N15: 0.083690541 | O15: 1.3825274 | P15: 3.3444339 | Q15: -0.41202812 | T15: 0.046902001 | U15: 0.77766424 | V15: -1.0519966 | W15: -0.011812917 | X15: -1.4507903 | Y15: 1.3728061 | Z15: -0.40477794 | AA15: -1.3483204 | AB15: -3.3646843 | AC15: -1.9833921 | AD15: 0.048218262 | AE15: 1.3654692 | AF15: 3.100529 | AG15: 3.7279793 | AH15: 2.7612122 | AI15: 4.2337307 | AJ15: 3.7064277 | AK15: 3.9879375 | AL15: 1.6422792 | AM15: 1.0321782 | AN15: -0.23604096 | AO15: 0.85734026 | AP15: 0.98077537 | AQ15: 1.3198931 | AR15: 0.72088913 | AS15: -0.079106039 | AT15: 1.7728635 | AU15: -0.65276053 | AV15: -0.89907402 | AW15: -0.7505267 | AX15: 0.53703296 | AY15: 1.7228399 | AZ15: 0.67389839 | BA15: -0.6085833 | BB15: 1.6608747 | BC15: -0.86148548 | BD15: 1.2791055 | BE15: 0.84943252 | BF15: -2.6796951 | BG15: 0.75619662 | BH15: 0.34606856 | BI15: -0.19721321 | BJ15: -1.1750653 | BK15: -0.70001649 | BL15: -0.084869412 | BM15: -0.67472592 | BN15: -0.41507934 | BP15: 0.82096224 | BQ15: 0.51885938 | BR15: 0.23640728 | BS15: 0.92848671 | BT15: 0.81478417 | BU15: 0.86039 | BV15: -2.6442364 | BW15: -0.52335297 | BX15: -0.46477633 | BY15: -1.8131816 | BZ15: -0.90901664 | CA15: 0.18462744 | CB15: 0.2722833 | CC15: 0.64608037 | CD15: 0.53821092 | CE15: 1.2099556 | CF15: 1.0813365 | CH15: 2.5824781 | CI15: 0.62888999 | CJ15: 0.56645947 | CK15: 1.4954544 | CL15: 1.028427 | CM15: 0.96719334 | CN15: 2.8140106 | CO15: 2.3332168 | CP15: -0.1020033 | CQ15: 0.63029108 | CR15: 2.9366965 | CS15: 0.56522134 | CT15: 0.72615301 | CU15: 1.3286411 | CV15: 0.89606932 | CW15: 0.29454312 | CX15: 1.4809385 | CY15: 0.98987117 | CZ15: 1.2551276 | DA15: 1.6061109 | DB15: 0.73829966 | DC15: 1.0615954 | DD15: 0.29681678 | DE15: 1.3862633 | DF15: 2.3522628 | DG15: 3.9828219 | DH15: 2.533073 | DI15: 3.0613837 | DJ15: 1.5787072 | DK15: 1.5378829 | DL15: -0.053112835 | DM15: -0.50058366 | DN15: 0.56469116 | DO15: 2.3885012 | DP15: 0.4766785 | DQ15: 1.2936827 | DR15: 0.83458815 | DS15: 3.9263385 | DT15: 1.5504463 | DU15: 0.030557615 | DV15: 1.4034081 | DW15: 0.19335131 | DX15: 0.81845288 | DY15: 2.7953164 | DZ15: 1.5672102 | EA15: 1.2185979 | EB15: 2.258244 | EC15: 2.4288284 | ED15: 2.5692019 | EE15: 0.94918777 | EF15: 3.4151789 | EG15: 2.1058288 | EH15: 2.4667709 | EI15: 0.79806344 | EJ15: 7.6535566 | EK15: 5.0456466 | EL15: 5.638186 | EM15: 7.6762472 | EN15: 4.9036965 | EO15: 5.2729613 | EP15: 3.2948844 | EQ15: 3.8126733 | ER15: -0.1378067 | ES15: 2.9666162 | ET15: 2.1495974 | EU15: 3.941685 | EV15: 2.1348764 | EW15: 2.1062724 | EX15: 1.6572554 | EY15: 0.80589138 | EZ15: 1.3826745 | FA15: 1.1372359 | FB15: 2.1812265 | FC15: 3.6118694 | FD15: 0.88274109 | FE15: 2.330546 | FF15: 2.5368019 | FG15: -0.2215224 | FH15: 0.88792068 | FI15: 1.9457568 | FJ15: -0.71329427 | FK15: 0.79441167 | FL15: 0.035129659 | FM15: -0.81849833 | FN15: -2.2703539 | FO15: -1.4857756 | FP15: -2.2108306 | FQ15: -1.502708 | FR15: -3.6185371 | FS15: -1.7164945 | FT15: -1.8012981 | FU15: -0.36094207 | FV15: -2.7086267 | FW15: -1.7230017 | FX15: -0.82564451 | FY15: -2.5388934 | FZ15: -3.3777072 | GA15: -3.6954414 | GB15: -2.6236665 | GC15: -1.2082913 | GD15: -2.2411139 | GE15: -3.4851053 | GF15: -6.6072795 | GG15: -5.3293186 | GH15: -4.8056117 | GI15: -3.5482679 | GJ15: -6.8612599 | GK15: -4.1857156 | GL15: -5.9671223 | GM15: -4.431371 | GN15: -4.8906726 | GO15: -4.1852623 | GP15: -5.1898149 | GQ15: -3.8840437 | GR15: -0.68702608 | GS15: -2.0829038 | GT15: -1.1894272 | GU15: -3.1096821 | GV15: -3.0075382 | GW15: -1.5949567 | GX15: -3.5508112 | GY15: -1.809954 | GZ15: -3.4415636 | HA15: -1.0205236 | HB15: -2.4356652 | HC15: -0.64494688 | HD15: -1.3638453 | HE15: -0.88935552 | HF15: -1.0874188 | HG15: 0.72172754 | HH15: -0.29311703 | HI15: -1.9423968 | HJ15: 0.63123069 | HK15: 1.2726721 | HL15: 0.9229149 | HM15: 1.031851 | HN15: 0.32582002 | HO15: 0.35279385 | HP15: -0.7423676 | HQ15: -1.341799 | HR15: 0.33637432 | HS15: 0.36253694 | HT15: 0.089781666 | HU15: -0.054883432 | HV15: 0.33238326 | HW15: -0.48102315 | HX15: 1.4021835 | HY15: 1.7844009 | HZ15: -0.29324464 | IA15: 0.76562935 | IB15: 0.43632936 | IC15: -0.75302716 | ID15: -0.067865968 | IE15: 0.43790302 | IF15: -0.57760354 | IG15: -0.18721872 | IH15: 1.1068796 | II15: 1.0981439 | IJ15: 1.6125551 | IK15: 0.77637579 | IL15: 1.9587137 | IM15: 1.3048591 | IN15: 1.0720836 | IO15: -0.39434978 | IP15: 0.26153471 | IQ15: 0.65418701 | IR15: 1.7917264 | IS15: 0.037466705 | IT15: -0.61652948 | IU15: -0.21418561 | IV15: 0.079855296 | IW15: 0.30361903 | IX15: 0.58427742 | IY15: 0.80182747 | IZ15: 2.5565599 | JA15: 2.3676799 | JB15: 6.1183583 | JC15: 3.675046 | JD15: 2.2586768 | JE15: 2.5938034 | JF15: 0.30162315 | JG15: 1.3569209 | JH15: 1.8818105 | JI15: 1.7455824 | JJ15: 1.2037124 | JK15: 1.5581315 | JL15: -0.28852331 | JM15: 1.0097731 | JN15: 0.44251374 | JO15: -0.34966304 | JP15: 1.1602698 | JQ15: 0.47606996 | JR15: 0.57733011 | JS15: 0.61350293 | JT15: -0.35229335 | JU15: -2.1364427 | JV15: 0.60582963 | JW15: 0.36397504 | JX15: 1.4494922 | JY15: 1.0417067 | JZ15: 1.6615887 | KA15: 1.7600963 | KB15: 1.1020174 | KC15: 1.5696921 | KD15: 1.0665389 | KE15: 1.887423 | KF15: 0.59064069 | KG15: 0.96993843 | KH15: 0.32641246 | KI15: 0.040947366 | KJ15: -0.91949141 | KK15: -1.8939099 | KL15: -1.1139247 | KM15: -1.2538746 | KN15: -0.41313364 | KO15: -1.4433719 | KP15: 0.42553867 | KQ15: 0.58969629 | KR15: 1.1901204 | KS15: 0.26334359 | KT15: 1.7451742 | KU15: 0.35945335 | KV15: 0.40070784 | KW15: 0.99194793 | KX15: 1.0497527 | KY15: 0.60566726 | KZ15: 1.402462 | LA15: 1.261175 | LB15: 0.039004302 | LC15: 0.99770079 | LD15: 0.43357844 | LE15: -0.30275249 | LF15: 0.35671969 | LG15: 0.36363987 | LH15: -0.14754939 | LI15: 0.094039279 | LJ15: 0.27621267 | LK15: -0.64106676 | LL15: -0.88078009 | LM15: 0.58360361 | LN15: -0.88508999 | LO15: 0.15137988 | LP15: 1.1799167 | LQ15: 0.8799993 | LR15: -0.018050873 | LS15: 0.64394403 | LT15: -0.742941 | LU15: 0.60978663 | LV15: 0.057756975 | LW15: 0.43495006 | LX15: 1.1573258 | LY15: 0.40658551 | LZ15: 1.9329923 | MA15: 0.30359198 | MB15: 1.5140665 | MC15: 1.507442 | MD15: 0.13376879 | ME15: -0.58114176 | MF15: 0.20158748 | MG15: 1.4543068 | MH15: -1.0884825 | MI15: 2.2340021 | ML15: 1.0205553 | MM15: -1.0500564 | MN15: 2.3263314 | MO15: 1.273365 | MP15: 2.3387719 | MQ15: 2.1365697 | MR15: 1.4107104 | MS15: 1.2258019 | MT15: -1.3986173 | MU15: -1.4879974 | MV15: -0.5213863 | MW15: -1.0074697 | MX15: -0.80804455 | MY15: 0.53848746 | MZ15: 1.9104134 | NA15: 0.85426987 | NB15: -0.043769214 | NC15: 0.89126776 | ND15: 0.23727873 | NE15: 2.0730927 | NF15: -0.91594179 | NG15: 0.88789084 | NH15: -0.0052786827 | NI15: 0.54828285 | NJ15: 1.9651071 | NK15: 4.7067443 | NL15: 1.8598027 | NM15: 0.72636548 | NN15: 3.790831 | NO15: 1.7218796 | NP15: 0.96329964 | NQ15: 1.8480904 | NR15: 0.71335828 | NS15: 1.9075823 | NT15: 2.0721332 | NU15: -0.58729021 | NV15: 1.1254117 | NW15: 1.8417937 | NX15: 0.76383644 | NY15: 0.28074465 | NZ15: 0.17203903 | OA15: 0.23814368 | OB15: 2.9693247 | OC15: 2.2260432 | OD15: -0.48703403 | OE15: 1.1028728 | OF15: 1.0313402 | OG15: 1.9862708 | OH15: -1.1848124 | OI15: 0.2788524 | OJ15: -1.2242972 | OK15: -0.68255856 | OL15: -1.4712141 | OM15: -0.87022076 | ON15: 0.095022213 | OO15: 2.166167 | OP15: 1.4793811 | OQ15: -1.0747089 | OR15: -1.5863971 | OS15: 0.38032499 | OT15: 0.97706419 | OU15: 2.3075107 | OV15: 0.80642446 | OW15: 0.014437243 | OX15: 0.28999934 | OY15: 0.12070479 | OZ15: 3.3299506 | PA15: 0.016268045 | PB15: 2.3759779 | PC15: 2.0075597 | PD15: 1.0120094 | PE15: -0.96565616 | PF15: -0.27808473 | PG15: -2.3552101 | PH15: -0.9606265 | PI15: 0.28960062 | PJ15: -0.94200236 | PK15: -1.3712628 | PL15: -0.18065753 | PM15: -0.22109812 | PN15: 1.6371643 | PO15: 3.2485822 | PP15: 1.3261162 | PQ15: -0.68411589 | PR15: 0.32807292 | PS15: -0.21075185 | PT15: 1.1085405 | PU15: -1.72322 | PV15: 0.72409117 | PX15: -0.53725052 | PY15: 1.5067397 | PZ15: 3.8848659 | QA15: 0.9553242 | QB15: -0.3200354 | QC15: -1.2798405 | QD15: -1.3735881 | QE15: -1.19562 | QF15: -1.3837375 | QG15: 1.5772774 | QH15: -2.1844379 | QI15: -2.0242531 | QJ15: 2.1095132 | QK15: 0.43163757 | QL15: 2.0060456 | QM15: 1.9920253 | QN15: 0.34868243 | QO15: 1.1303051 | QP15: -0.040375262 | QQ15: 2.8451071 | QR15: -0.012608019 | QS15: 1.2505278 | QT15: 0.78843947 | QU15: 0.027046281 | QV15: 1.1991264 | QW15: 3.9315898 | QX15: 0.96967384 | QY15: 1.4947077 | QZ15: 1.9032094 | RA15: 1.0991192 | RB15: -0.1342303 | RC15: 2.6224655 | RD15: 0.47963079 | RE15: 1.4864174 | RF15: 1.7497645 | RG15: 0.71336791 | RH15: 0.45930082 | RI15: 2.2629128 | RJ15: 0.19373967 | RK15: 0.65310391 | RL15: 3.4488622 | RM15: 1.5277766 | RN15: 3.6895525 | RO15: 2.2089732 | RP15: 1.4148002 | RQ15: 4.2140463 | RR15: 4.2274767 | RS15: 1.952001 | RT15: -3.0461053 | RU15: -1.4276213 | RV15: -2.9750857 | RW15: -2.6402984 | RX15: -2.1829287 | RY15: -5.0070403 | RZ15: 1.1599375 | SA15: 0.79887439 | SB15: 0.46274439 | SC15: 0.3922553 | SD15: -1.0034006 | SE15: 0.54128965 | SF15: -1.3587814 | SG15: -1.624817 | SH15: 0.035098982 | SI15: -2.8582352 | SJ15: -2.2854941 | SK15: -1.3319048 | SL15: 0.29901052 | SM15: 0.79871064 | SN15: -0.63756204 | SO15: 0.43129753 | SP15: 0.018570728 | SQ15: 1.2338037 | SR15: -0.75407757 | SS15: -0.87380745 | ST15: 0.24044021 | SU15: -0.84962222 | SV15: -0.51681346 | SW15: -2.0788666 | SX15: -1.2604845 | SY15: -0.5257482 | SZ15: -1.7730156 | TA15: -0.97571437 | TB15: -1.8929878 | TC15: -2.3250129 | TD15: 0.86704649 | TE15: 3.7769884 | TF15: -1.7119485 | TG15: 0.004124184 | TH15: -1.6019709 | TI15: -3.0880033 | TJ15: -1.1783684 | TK15: 0.16912813 | TL15: -0.65156972 | TM15: -0.7692673 | TN15: -0.81836841 | TO15: -0.35710644 | TP15: -0.73678469 | TQ15: -0.30406461 | TR15: 0.53184972 | TS15: -0.58497621 | TT15: -2.1523146 | TU15: -2.7638896
A16: =A15+0.01 -> 0.11 | B16: -0.23174186 | C16: -0.62111514 | D16: -0.26579173 | E16: -0.64645092 | F16: 0.2849922 | G16: -1.0918515 | H16: 0.45754053 | I16: 3.8803646 | J16: 2.3780165 | K16: 1.3766935 | L16: 2.2584419 | M16: 1.4980446 | N16: 0.79748306 | O16: 2.0273585 | P16: 4.047232 | Q16: 0.30849636 | T16: 0.7580933 | U16: 1.4843619 | V16: -0.43960141 | W16: 0.680983 | X16: -0.7672849 | Y16: 2.2400928 | Z16: 0.3149187 | AA16: -0.53674773 | AB16: -2.6522896 | AC16: -1.2416598 | AD16: 0.86007616 | AE16: 2.1294081 | AF16: 3.6424087 | AG16: 4.3457544 | AH16: 3.4462275 | AI16: 4.8322513 | AJ16: 4.3316407 | AK16: 4.4751193 | AL16: 2.2525472 | AM16: 1.7907515 | AN16: 0.36627572 | AO16: 1.488511 | AP16: 1.6342534 | AQ16: 2.0317362 | AR16: 1.473462 | AS16: 0.550264 | AT16: 2.6277561 | AU16: 0.017098982 | AV16: -0.31115406 | AW16: -0.082169852 | AX16: 1.056887 | AY16: 2.2806146 | AZ16: 1.2124217 | BA16: 0.068232048 | BB16: 2.3680888 | BC16: -0.28188368 | BD16: 2.544212 | BE16: 1.8855505 | BF16: -1.6270608 | BG16: 1.716988 | BH16: 1.3026977 | BI16: 0.72407309 | BJ16: -0.2623791 | BK16: 0.19707281 | BL16: 0.89632305 | BM16: 0.25065742 | BN16: 0.56872279 | BP16: 1.7202787 | BQ16: 1.4163885 | BR16: 1.0909659 | BS16: 1.7632759 | BT16: 1.9636949 | BU16: 1.8116379 | BV16: -1.5557738 | BW16: 0.35511018 | BX16: 0.57570284 | BY16: -0.34447444 | BZ16: -0.26200738 | CA16: 1.1330064 | CB16: 1.1160321 | CC16: 1.5272439 | CD16: 1.3654898 | CE16: 2.2905673 | CF16: 1.7410673 | CH16: 3.4635385 | CI16: 1.4108525 | CJ16: 1.4935358 | CK16: 2.3503851 | CL16: 1.7934982 | CM16: 1.6108857 | CN16: 3.7653711 | CO16: 3.4359004 | CP16: 0.75289081 | CQ16: 1.6978389 | CR16: 3.7745755 | CS16: 1.4283124 | CT16: 1.5473822 | CU16: 2.2753487 | CV16: 1.872798 | CW16: 1.4316952 | CX16: 2.5826977 | CY16: 2.0026287 | CZ16: 2.0680081 | DA16: 2.5346552 | DB16: 1.7156852 | DC16: 2.0479944 | DD16: 1.2096536 | DE16: 2.4828358 | DF16: 3.2880153 | DG16: 4.8836344 | DH16: 3.4564231 | DI16: 4.0103838 | DJ16: 2.6058852 | DK16: 2.4186397 | DL16: 1.1368414 | DM16: 0.70595189 | DN16: 1.5768662 | DO16: 3.6212253 | DP16: 1.5393746 | DQ16: 2.4564722 | DR16: 1.7866812 | DS16: 5.0409462 | DT16: 2.683963 | DU16: 1.3868079 | DV16: 2.6220159 | DW16: 1.3811217 | DX16: 1.4547754 | DY16: 4.0156147 | DZ16: 2.4809391 | EA16: 2.2312731 | EB16: 3.3054487 | EC16: 3.4257269 | ED16: 3.6652891 | EE16: 2.0432306 | EF16: 4.5657781 | EG16: 3.1215762 | EH16: 3.4823456 | EI16: 1.8221967 | EJ16: 8.5272969 | EK16: 6.0982904 | EL16: 6.4903011 | EM16: 8.8188114 | EN16: 5.8700814 | EO16: 6.1071325 | EP16: 4.3590224 | EQ16: 5.0249275 | ER16: 1.1315132 | ES16: 4.1881683 | ET16: 3.2079779 | EU16: 5.1346203 | EV16: 3.0648015 | EW16: 3.24927 | EX16: 2.7259967 | EY16: 1.8008773 | EZ16: 2.4562901 | FA16: 2.1289752 | FB16: 3.3398419 | FC16: 4.6212891 | FD16: 2.0103109 | FE16: 3.380436 | FF16: 3.5721904 | FG16: 0.87736974 | FH16: 0.098548883 | FI16: 2.7845149 | FJ16: 0.73339119 | FK16: 1.7371974 | FL16: 1.0321741 | FM16: 0.07270839 | FN16: -1.2067623 | FO16: -0.43703197 | FP16: -1.0568015 | FQ16: -0.8476418 | FR16: -2.4378893 | FS16: -0.68376849 | FT16: -0.88309937 | FU16: 0.5520555 | FV16: -1.724824 | FW16: -0.72221462 | FX16: -0.037407717 | FY16: -1.5957008 | FZ16: -2.1306553 | GA16: -2.4448915 | GB16: -1.4534238 | GC16: -0.20478365 | GD16: -1.1554761 | GE16: -2.1693469 | GF16: -5.7940375 | GG16: -4.2448475 | GH16: -3.878209 | GI16: -2.6204378 | GJ16: -6.5555633 | GK16: -3.2419287 | GL16: -4.9345124 | GM16: -3.3070644 | GN16: -4.0476261 | GO16: -3.1977248 | GP16: -4.3406315 | GQ16: -3.0015093 | GR16: 0.1270934 | GS16: -1.0834657 | GT16: -0.18471837 | GU16: -1.9738358 | GV16: -1.7379229 | GW16: -0.55622811 | GX16: -2.7084803 | GY16: -0.8521468 | GZ16: -2.3829384 | HA16: -0.0070443735 | HB16: -1.5920948 | HC16: 0.49502065 | HD16: -0.54719948 | HE16: 0.15136321 | HF16: -0.060717025 | HG16: 1.6827789 | HH16: 0.6800647 | HI16: -1.1085484 | HJ16: 1.5327567 | HK16: 2.1578685 | HL16: 2.035146 | HM16: 2.1304355 | HN16: 1.25903 | HO16: 1.2321205 | HP16: 0.27505787 | HQ16: -0.5256633 | HR16: 1.1385469 | HS16: 1.2167327 | HT16: 0.86116018 | HU16: 0.62155894 | HV16: 1.3191614 | HW16: 0.73133809 | HX16: 2.2335488 | HY16: 2.6637224 | HZ16: 0.3776964 | IA16: 1.5210486 | IB16: 0.94341511 | IC16: -0.011842644 | ID16: 0.90524289 | IE16: 1.2162351 | IF16: 0.1333178 | IG16: 0.6973542 | IH16: 2.0560822 | II16: 1.991702 | IJ16: 2.5680151 | IK16: 1.6993194 | IL16: 2.7657664 | IM16: 2.0431414 | IN16: 1.8983163 | IO16: 0.21177296 | IP16: 1.2320837 | IQ16: 1.4912247 | IR16: 2.5486479 | IS16: 0.9047947 | IT16: -0.068930595 | IU16: 0.66493326 | IV16: 0.91861251 | IW16: 0.91548139 | IX16: 1.3247923 | IY16: 1.5884601 | IZ16: 3.4453397 | JA16: 3.3656459 | JB16: 7.0449052 | JC16: 4.4861432 | JD16: 3.1221458 | JE16: 3.4108329 | JF16: 0.87517646 | JG16: 2.1810847 | JH16: 2.5411139 | JI16: 2.4225486 | JJ16: 2.0308529 | JK16: 2.2895445 | JL16: 0.37521128 | JM16: 1.8202268 | JN16: 1.3378805 | JO16: 0.50117596 | JP16: 2.0476388 | JQ16: 1.1433971 | JR16: 1.4637216 | JS16: 1.5662358 | JT16: 0.54552338 | JU16: -1.2152943 | JV16: 1.4820025 | JW16: 1.2146003 | JX16: 2.2609743 | JY16: 1.9272604 | JZ16: 2.4276294 | KA16: 2.5924138 | KB16: 1.7923616 | KC16: 2.2784049 | KD16: 1.9596216 | KE16: 2.8005314 | KF16: 1.5494984 | KG16: 2.0130448 | KH16: 1.2038963 | KI16: 0.90760673 | KJ16: 0.038552507 | KK16: -0.88260431 | KL16: -0.17205422 | KM16: -0.29350356 | KN16: 0.52815154 | KO16: -0.3806046 | KP16: 1.1867326 | KQ16: 1.4876371 | KR16: 2.0242454 | KS16: 1.1782205 | KT16: 2.6126989 | KU16: 1.2447075 | KV16: 1.1766072 | KW16: 1.723595 | KX16: 1.8663211 | KY16: 1.4711684 | KZ16: 2.3542931 | LA16: 2.1202474 | LB16: 0.91661821 | LC16: 1.88074 | LD16: 1.302715 | LE16: 0.6576768 | LF16: 1.2377363 | LG16: 1.2690043 | LH16: 0.77288535 | LI16: 0.95902149 | LJ16: 1.0772825 | LK16: 0.014356459 | LL16: 0.0015286731 | LM16: 1.3385242 | LN16: 0.18036123 | LO16: 1.2537505 | LP16: 2.1359692 | LQ16: 1.9642574 | LR16: 1.0396116 | LS16: 1.6008044 | LT16: 0.43917158 | LU16: 1.7788676 | LV16: 1.1075457 | LW16: 1.4499162 | LX16: 2.3080932 | LY16: 1.3332205 | LZ16: 3.1630332 | MA16: 1.3112593 | MB16: 2.4449919 | MC16: 2.486463 | MD16: 1.1497254 | ME16: 0.29884787 | MF16: 1.1781266 | MG16: 2.401007 | MH16: -0.062488089 | MI16: 3.0733267 | ML16: 2.2735671 | MM16: -0.041508718 | MN16: 3.3715378 | MO16: 2.3840116 | MP16: 3.4764894 | MQ16: 3.1599052 | MR16: 2.4491569 | MS16: 2.3621894 | MT16: -0.36096528 | MU16: -0.55409878 | MV16: 0.39248069 | MW16: 0.04695903 | MX16: 0.30493038 | MY16: 1.8031949 | MZ16: 2.9792323 | NA16: 1.9452983 | NB16: 1.061714 | NC16: 1.9249311 | ND16: 1.3267199 | NE16: 3.1820826 | NF16: 0.16717975 | NG16: 1.7889527 | NH16: 0.89702345 | NI16: 1.5847068 | NJ16: 3.1610383 | NK16: 5.7820376 | NL16: 2.9594731 | NM16: 1.8409061 | NN16: 4.9208487 | NO16: 2.9253031 | NP16: 1.5799753 | NQ16: 2.6561913 | NR16: 1.634426 | NS16: 2.7124658 | NT16: 3.1034837 | NU16: 0.34456178 | NV16: 1.8181728 | NW16: 2.6257837 | NX16: 1.5917429 | NY16: 1.1017924 | NZ16: 1.0662792 | OA16: 1.2055809 | OB16: 3.8657392 | OC16: 3.3698565 | OD16: 0.47328875 | OE16: 2.2424856 | OF16: 2.0879464 | OG16: 2.8312719 | OH16: -0.49946963 | OI16: 1.1350131 | OJ16: -0.4808093 | OK16: 0.068411325 | OL16: -0.5917353 | OM16: -0.10249668 | ON16: 0.76905909 | OO16: 3.1156116 | OP16: 2.2612921 | OQ16: -0.31138349 | OR16: -0.52951909 | OS16: 1.3835604 | OT16: 1.8059892 | OU16: 3.3035164 | OV16: 1.5292634 | OW16: 0.93727835 | OX16: 1.2312873 | OY16: 0.85830659 | OZ16: 4.4341814 | PA16: 0.82508547 | PB16: 3.4600555 | PC16: 2.8740593 | PD16: 1.9289806 | PE16: 0.022578578 | PF16: 0.71172659 | PG16: -1.7164021 | PH16: 0.074595677 | PI16: 1.0135272 | PJ16: -0.15604138 | PK16: -0.55174983 | PL16: 0.55891275 | PM16: 0.63957936 | PN16: 2.5947911 | PO16: 4.1523118 | PP16: 2.4229205 | PQ16: 0.22746399 | PR16: 1.0864607 | PS16: 0.55206569 | PT16: 2.0091099 | PU16: -0.81358847 | PV16: 1.5741047 | PX16: 0.15907874 | PY16: 2.1165588 | PZ16: 4.6083286 | QA16: 1.906564 | QB16: 0.32860557 | QC16: -0.59113772 | QD16: -0.59705057 | QE16: -0.47384573 | QF16: -0.74957568 | QG16: 2.3229922 | QH16: -1.4598267 | QI16: -1.3498567 | QJ16: 2.6519761 | QK16: 1.1163549 | QL16: 2.8051312 | QM16: 2.6930002 | QN16: 1.0004923 | QO16: 1.9105133 | QP16: 0.68706033 | QQ16: 3.6999617 | QR16: 0.71762183 | QS16: 2.1648142 | QT16: 1.5483385 | QU16: 0.75134116 | QV16: 1.939232 | QW16: 4.6363491 | QX16: 1.8975047 | QY16: 2.3060874 | QZ16: 2.6539698 | RA16: 1.9834391 | RB16: 0.4538872 | RC16: 3.4480231 | RD16: 1.2881451 | RE16: 2.4854646 | RF16: 2.6615301 | RG16: 1.3955833 | RH16: 1.2158524 | RI16: 3.0555416 | RJ16: 1.0978064 | RK16: 1.450375 | RL16: 4.1412764 | RM16: 2.2664495 | RN16: 4.4630276 | RO16: 2.9998937 | RP16: 2.3860407 | RQ16: 4.9624058 | RR16: 5.0459116 | RS16: 2.7957528 | RT16: -2.3230638 | RU16: -0.8216691 | RV16: -2.5147882 | RW16: -1.7701986 | RX16: -1.328456 | RY16: -4.2295035 | RZ16: 1.8465253 | SA16: 1.3547235 | SB16: 1.1361102 | SC16: 0.97488389 | SD16: -0.16892749 | SE16: 1.1930187 | SF16: -0.64759739 | SG16: -1.1253584 | SH16: 0.99763647 | SI16: -2.3028524 | SJ16: -1.9040567 | SK16: -0.77120613 | SL16: 0.97463019 | SM16: 1.317962 | SN16: 0.19768685 | SO16: 1.1924833 | SP16: 0.59396085 | SQ16: 1.850888 | SR16: -0.088108851 | SS16: -0.25980859 | ST16: 0.94743643 | SU16: -0.23489193 | SV16: 0.21202564 | SW16: -1.5827311 | SX16: -0.70880939 | SY16: 0.22412545 | SZ16: -1.0752293 | TA16: -0.32464047 | TB16: -1.4069869 | TC16: -1.7064984 | TD16: 1.8453197 | TE16: 4.4800142 | TF16: -0.95322751 | TG16: 0.792246 | TH16: -0.90114848 | TI16: -2.4103218 | TJ16: -0.38886709 | TK16: 0.97864581 | TL16: -0.035227287 | TM16: -0.19457415 | TN16: -0.1862888 | TO16: 0.21844861 | TP16: -0.24800668 | TQ16: 0.45041066 | TR16: 1.1465151 | TS16: 0.020783813 | TT16: -1.7219524 | TU16: -2.2693292
A17: =A16+0.01 -> 0.12 | B17: 0.48317521 | C17: -0.0055456698 | D17: 0.44166847 | E17: -0.20757176 | F17: 0.88104291 | G17: -0.51862439 | H17: 1.1360444 | I17: 4.473557 | J17: 2.9109731 | K17: 2.066456 | L17: 3.0192497 | M17: 1.9710565 | N17: 1.4043265 | O17: 2.6947734 | P17: 4.6715812 | Q17: 0.98679123 | T17: 1.4034637 | U17: 2.1230125 | V17: 0.35428703 | W17: 1.3459034 | X17: 0.19309939 | Y17: 2.9211808 | Z17: 0.95469563 | AA17: 0.31385808 | AB17: -1.8893773 | AC17: -0.5129797 | AD17: 1.6189561 | AE17: 2.8297166 | AF17: 4.2173396 | AG17: 5.0078172 | AH17: 4.1497503 | AI17: 5.3876169 | AJ17: 4.9024074 | AK17: 5.0480173 | AL17: 2.9066811 | AM17: 2.4212715 | AN17: 1.0175175 | AO17: 2.1745303 | AP17: 2.3062929 | AQ17: 2.6992107 | AR17: 2.1807114 | AS17: 1.1972204 | AT17: 3.467836 | AU17: 0.71946718 | AV17: 0.37786291 | AW17: 0.59750804 | AX17: 1.5170209 | AY17: 2.7121051 | AZ17: 1.7492118 | BA17: 0.78630002 | BB17: 3.2022207 | BC17: 0.29476709 | BD17: 3.6502617 | BE17: 2.9195928 | BF17: -0.75382251 | BG17: 2.939521 | BH17: 2.3561965 | BI17: 1.7782054 | BJ17: 0.80303846 | BK17: 1.2207284 | BL17: 1.9033524 | BM17: 1.2593551 | BN17: 1.6623519 | BP17: 2.6626013 | BQ17: 2.3157346 | BR17: 1.9914143 | BS17: 2.6524037 | BT17: 2.9212672 | BU17: 2.7973901 | BV17: -0.31294382 | BW17: 1.2744767 | BX17: 1.6339336 | BY17: 0.93113093 | BZ17: 0.51651445 | CA17: 2.0782359 | CB17: 2.0863804 | CC17: 2.4282575 | CD17: 2.1980554 | CE17: 3.2627254 | CF17: 2.4461022 | CH17: 4.4142449 | CI17: 2.2608637 | CJ17: 2.44234 | CK17: 3.1974788 | CL17: 2.6052516 | CM17: 2.3995499 | CN17: 4.7237241 | CO17: 4.566271 | CP17: 1.6001729 | CQ17: 2.8415141 | CR17: 4.7180458 | CS17: 2.3536122 | CT17: 2.4603438 | CU17: 3.3136049 | CV17: 2.95215 | CW17: 2.6135989 | CX17: 3.8086428 | CY17: 3.0458645 | CZ17: 2.9267056 | DA17: 3.5063166 | DB17: 2.6838671 | DC17: 3.0461056 | DD17: 2.150057 | DE17: 3.5109769 | DF17: 4.1490495 | DG17: 5.8771161 | DH17: 4.3643672 | DI17: 4.8892458 | DJ17: 3.6121565 | DK17: 3.3561292 | DL17: 2.3120241 | DM17: 1.9508372 | DN17: 2.6288708 | DO17: 4.9054092 | DP17: 2.5760958 | DQ17: 3.4680301 | DR17: 2.7419487 | DS17: 6.183226 | DT17: 3.7269489 | DU17: 2.6953757 | DV17: 3.7681343 | DW17: 2.6370453 | DX17: 2.2293088 | DY17: 4.9976948 | DZ17: 3.4182308 | EA17: 3.1008406 | EB17: 4.3575239 | EC17: 4.293826 | ED17: 4.6624092 | EE17: 3.181487 | EF17: 5.5434698 | EG17: 4.099092 | EH17: 4.41344 | EI17: 2.9173127 | EJ17: 9.3543318 | EK17: 7.1615385 | EL17: 7.4116606 | EM17: 9.9154603 | EN17: 6.949501 | EO17: 7.0200875 | EP17: 5.3966581 | EQ17: 6.2185309 | ER17: 2.3830243 | ES17: 5.3926415 | ET17: 4.2203727 | EU17: 6.4670812 | EV17: 3.9809103 | EW17: 4.3308285 | EX17: 3.7568993 | EY17: 2.7816658 | EZ17: 3.5344548 | FA17: 3.0470648 | FB17: 4.3420401 | FC17: 5.6671325 | FD17: 3.1290939 | FE17: 4.3971855 | FF17: 4.4483229 | FG17: 1.9956342 | FH17: 1.0434017 | FI17: 3.6570903 | FJ17: 1.6661484 | FK17: 2.9254641 | FL17: 2.0440053 | FM17: 1.2384689 | FN17: -0.1864442 | FO17: 0.49832958 | FP17: -0.053204265 | FQ17: 0.0074390829 | FR17: -1.3431262 | FS17: 0.4697267 | FT17: 0.027191329 | FU17: 1.6557165 | FV17: -0.87843191 | FW17: 0.19172143 | FX17: 0.68814431 | FY17: -0.55459484 | FZ17: -0.9941796 | GA17: -1.5884581 | GB17: -0.39282593 | GC17: 1.134845 | GD17: -0.055301685 | GE17: -0.95250457 | GF17: -4.8112252 | GG17: -3.2124604 | GH17: -2.9057452 | GI17: -1.620918 | GJ17: -6.0249105 | GK17: -2.3219945 | GL17: -3.9306628 | GM17: -2.3299145 | GN17: -3.1625515 | GO17: -2.4221007 | GP17: -3.3494263 | GQ17: -2.1198459 | GR17: 1.1745716 | GS17: -0.012890177 | GT17: 1.109546 | GU17: -1.1723337 | GV17: -0.54095929 | GW17: 0.28227913 | GX17: -1.5829986 | GY17: 0.42050487 | GZ17: -1.3975391 | HA17: 1.0888847 | HB17: -0.61346109 | HC17: 1.4371281 | HD17: 0.70424743 | HE17: 1.0081137 | HF17: 0.85267613 | HG17: 2.85399 | HH17: 2.0301183 | HI17: -0.11787536 | HJ17: 2.3842182 | HK17: 2.9806318 | HL17: 3.0527809 | HM17: 3.0979015 | HN17: 2.1961456 | HO17: 2.1307429 | HP17: 1.2472118 | HQ17: 0.34639042 | HR17: 1.9702578 | HS17: 2.0985198 | HT17: 1.6847092 | HU17: 1.3599933 | HV17: 2.1948737 | HW17: 1.7513538 | HX17: 3.0387513 | HY17: 3.585885 | HZ17: 1.1006658 | IA17: 2.315135 | IB17: 1.4573847 | IC17: 0.76814647 | ID17: 1.8971701 | IE17: 2.0105853 | IF17: 0.95931965 | IG17: 1.651055 | IH17: 2.9836269 | II17: 2.8390932 | IJ17: 3.5330935 | IK17: 2.646832 | IL17: 3.5338976 | IM17: 2.8090306 | IN17: 2.7628646 | IO17: 0.93079343 | IP17: 2.1853385 | IQ17: 2.3471507 | IR17: 3.3233666 | IS17: 1.7640707 | IT17: 0.61518092 | IU17: 1.4733288 | IV17: 1.7001278 | IW17: 1.65775 | IX17: 2.2056356 | IY17: 2.3868866 | IZ17: 4.3321069 | JA17: 4.2844867 | JB17: 7.8643037 | JC17: 5.252805 | JD17: 3.9479981 | JE17: 4.2438706 | JF17: 1.5077717 | JG17: 2.9278405 | JH17: 3.2733471 | JI17: 3.0655827 | JJ17: 2.8147673 | JK17: 3.046919 | JL17: 1.0704085 | JM17: 2.6443275 | JN17: 2.1475564 | JO17: 1.2856669 | JP17: 3.0370538 | JQ17: 1.8772661 | JR17: 2.3832837 | JS17: 2.4960508 | JT17: 1.3348923 | JU17: -0.27852046 | JV17: 2.3831646 | JW17: 2.0838547 | JX17: 3.099186 | JY17: 2.8721423 | JZ17: 3.2597822 | KA17: 3.3944426 | KB17: 2.4982703 | KC17: 2.9831347 | KD17: 2.819336 | KE17: 3.7046865 | KF17: 2.4559909 | KG17: 2.9829789 | KH17: 2.0667342 | KI17: 1.8402613 | KJ17: 0.88196216 | KK17: 0.04645108 | KL17: 0.72481945 | KM17: 0.66357513 | KN17: 1.4656476 | KO17: 0.67081979 | KP17: 1.8594645 | KQ17: 2.3791522 | KR17: 2.8627061 | KS17: 2.1189642 | KT17: 3.5005885 | KU17: 2.1174444 | KV17: 2.0292603 | KW17: 2.4895755 | KX17: 2.7370886 | KY17: 2.3290638 | KZ17: 3.2440403 | LA17: 2.9878087 | LB17: 1.8647006 | LC17: 2.7857142 | LD17: 2.2380878 | LE17: 1.6008694 | LF17: 2.1210883 | LG17: 2.0806418 | LH17: 1.6973616 | LI17: 1.850559 | LJ17: 1.9189352 | LK17: 0.72215415 | LL17: 0.94974202 | LM17: 2.0553998 | LN17: 1.3268236 | LO17: 2.4218498 | LP17: 3.1271615 | LQ17: 3.0817748 | LR17: 2.0055755 | LS17: 2.4640024 | LT17: 1.7094693 | LU17: 2.8735566 | LV17: 2.1804811 | LW17: 2.5280947 | LX17: 3.3932176 | LY17: 2.2780643 | LZ17: 4.3309105 | MA17: 2.3319324 | MB17: 3.4472317 | MC17: 3.4562129 | MD17: 2.2195371 | ME17: 1.2791358 | MF17: 2.1744699 | MG17: 3.3550173 | MH17: 0.96964354 | MI17: 3.934097 | ML17: 3.3837813 | MM17: 0.92897095 | MN17: 4.4160471 | MO17: 3.5149104 | MP17: 4.4753979 | MQ17: 4.1248746 | MR17: 3.5644041 | MS17: 3.4258986 | MT17: 0.73392767 | MU17: 0.41419998 | MV17: 1.4090842 | MW17: 1.1451926 | MX17: 1.3951922 | MY17: 3.0302876 | MZ17: 3.8935455 | NA17: 2.9736808 | NB17: 2.219357 | NC17: 3.1113329 | ND17: 2.3672611 | NE17: 4.2815526 | NF17: 1.1946775 | NG17: 2.7436841 | NH17: 1.9250044 | NI17: 2.595347 | NJ17: 4.3647459 | NK17: 6.7862425 | NL17: 4.0232624 | NM17: 2.9864596 | NN17: 6.0214167 | NO17: 4.0765969 | NP17: 2.3054279 | NQ17: 3.4463778 | NR17: 2.7233535 | NS17: 3.5416355 | NT17: 3.9662365 | NU17: 1.3219485 | NV17: 2.5360244 | NW17: 3.4282944 | NX17: 2.4729237 | NY17: 2.0180006 | NZ17: 2.082043 | OA17: 2.1753106 | OB17: 4.7514925 | OC17: 4.2847671 | OD17: 1.4931262 | OE17: 3.2558363 | OF17: 2.9901872 | OG17: 3.8116949 | OH17: 0.22467515 | OI17: 2.0346929 | OJ17: 0.31138114 | OK17: 0.8240924 | OL17: 0.48992795 | OM17: 0.7971097 | ON17: 1.5189697 | OO17: 3.855975 | OP17: 3.0104131 | OQ17: 0.53844121 | OR17: 0.4732843 | OS17: 2.2373567 | OT17: 2.6866124 | OU17: 4.2552928 | OV17: 2.3018151 | OW17: 2.1952276 | OX17: 2.2287968 | OY17: 1.7055061 | OZ17: 5.3978466 | PA17: 1.674259 | PB17: 4.5202275 | PC17: 3.7894572 | PD17: 2.9064827 | PE17: 1.0085325 | PF17: 1.7606562 | PG17: -1.0741753 | PH17: 0.96677233 | PI17: 1.7874178 | PJ17: 0.6968779 | PK17: 0.39240867 | PL17: 1.3899659 | PM17: 1.4343344 | PN17: 3.5319923 | PO17: 5.0562572 | PP17: 3.2963753 | PQ17: 1.0938385 | PR17: 1.9163842 | PS17: 1.3730405 | PT17: 2.9443036 | PU17: 0.19224289 | PV17: 2.3398683 | PX17: 0.94726246 | PY17: 2.8121281 | PZ17: 5.4352509 | QA17: 2.9006721 | QB17: 1.0568739 | QC17: 0.22334362 | QD17: 0.20591549 | QE17: 0.32899205 | QF17: -0.089582665 | QG17: 3.091396 | QH17: -0.70341504 | QI17: -0.72152328 | QJ17: 3.3318377 | QK17: 1.89439 | QL17: 3.6500467 | QM17: 3.4970483 | QN17: 1.7490416 | QO17: 2.6988505 | QP17: 1.4285593 | QQ17: 4.6156239 | QR17: 1.5110965 | QS17: 3.0878209 | QT17: 2.369842 | QU17: 1.5024831 | QV17: 2.6613729 | QW17: 5.3700854 | QX17: 2.8345707 | QY17: 3.1827404 | QZ17: 3.3888998 | RA17: 2.8934062 | RB17: 1.136031 | RC17: 4.3509508 | RD17: 2.0960433 | RE17: 3.3941154 | RF17: 3.5804257 | RG17: 2.1777077 | RH17: 1.9497631 | RI17: 3.8145486 | RJ17: 2.0148628 | RK17: 2.2657202 | RL17: 4.7864907 | RM17: 3.0566202 | RN17: 5.2371143 | RO17: 3.9319057 | RP17: 3.2562606 | RQ17: 5.7445905 | RR17: 5.9037809 | RS17: 3.8108466 | RT17: -1.5292098 | RU17: -0.01192131 | RV17: -1.8916575 | RW17: -1.0589011 | RX17: -0.47217895 | RY17: -3.3827281 | RZ17: 2.5266377 | SA17: 2.0395384 | SB17: 1.9045271 | SC17: 1.4460248 | SD17: 0.67330102 | SE17: 1.8753426 | SF17: 0.11433276 | SG17: -0.47126904 | SH17: 1.8994998 | SI17: -1.7612583 | SJ17: -1.5022037 | SK17: -0.14300442 | SL17: 1.7667797 | SM17: 2.0238464 | SN17: 0.80943582 | SO17: 2.039213 | SP17: 1.3210187 | SQ17: 2.4974009 | SR17: 0.63577591 | SS17: 0.38791355 | ST17: 1.7302795 | SU17: 0.4433705 | SV17: 0.92292888 | SW17: -0.84502959 | SX17: -0.062182632 | SY17: 0.82368084 | SZ17: -0.15930213 | TA17: 0.35202642 | TB17: -0.73782498 | TC17: -0.94080384 | TD17: 2.8417602 | TE17: 5.1498405 | TF17: -0.099145502 | TG17: 1.608663 | TH17: -0.16308319 | TI17: -1.5964164 | TJ17: 0.42635659 | TK17: 1.705482 | TL17: 0.6300976 | TM17: 0.43039056 | TN17: 0.52140119 | TO17: 1.0569989 | TP17: 0.39405861 | TQ17: 1.2688719 | TR17: 1.8789629 | TS17: 0.63415179 | TT17: -1.2681908 | TU17: -1.7333553
... A105: =A104+0.01 -> 1 | B105: -0.68282819 | C105: 1.0943689 | D105: 0.29822814 | E105: -0.79955453 | F105: -0.89441407 | G105: -1.8566483 | H105: 3.3801999 | I105: 3.2539675 | J105: 2.3236568 | K105: 3.0771892 | L105: 1.5242945 | M105: 5.1146436 | N105: -2.6926041 | O105: -1.3043151 | P105: 1.5218866 | Q105: -0.5694918 | T105: 0.64768928 | U105: 0.96538329 | V105: 0.044626713 | W105: 0.81650025 | X105: -0.21739922 | Y105: -0.7681393 | Z105: -2.0398889 | AA105: -2.6317348 | AB105: -2.793992 | AC105: -1.336998 | AD105: -3.5745032 | AE105: -1.1618761 | AF105: 10.453967 | AG105: 11.846589 | AH105: 8.223856 | AI105: -1.116671 | AJ105: 12.108822 | AK105: 11.299607 | AL105: 1.9023601 | AM105: 0.71682388 | AN105: 1.3966235 | AO105: 0.072262101 | AP105: 1.0100167 | AQ105: -0.37754685 | AR105: 1.0696846 | AS105: -0.13301198 | AT105: 0.4727895 | AU105: 0.42608771 | AV105: 0.35127693 | AW105: -0.20130773 | AX105: 0.68592757 | AY105: 1.3981397 | AZ105: 0.70750159 | BA105: 1.1556051 | BB105: -2.9382761 | BC105: 0.019646835 | BD105: -1.9433436 | BE105: -1.5533639 | BF105: -2.4324219 | BG105: 0.11779852 | BH105: -0.18444563 | BI105: 0.021291662 | BJ105: 0.54393864 | BK105: -0.60398108 | BL105: -0.59178668 | BM105: -0.92442709 | BN105: -0.48582965 | BP105: 0.64393276 | BQ105: 2.439667 | BR105: 4.4556646 | BS105: 0.12661391 | BT105: 1.7994767 | BU105: 2.1763501 | BV105: 0.036361605 | BW105: -0.2780996 | BX105: -1.0747457 | BY105: -3.8945527 | BZ105: 0.73583692 | CA105: -1.7257804 | CB105: 1.3070589 | CC105: 0.95818287 | CD105: 0.072417974 | CE105: 0.99931163 | CF105: 0.12348743 | CH105: 2.3280084 | CI105: 1.7222569 | CJ105: 2.4647615 | CK105: 1.1187021 | CL105: 1.532742 | CM105: 2.6085777 | CN105: 3.0912039 | CO105: 1.0303859 | CP105: -0.19085822 | CQ105: 1.958627 | CR105: 0.7396189 | CS105: 2.0789864 | CT105: 0.471093 | CU105: 1.4323629 | CV105: -0.063528299 | CW105: 0.81305933 | CX105: 0.45034075 | CY105: 1.2717242 | CZ105: 2.9905515 | DA105: 2.3315091 | DB105: 0.99818027 | DC105: 1.2650532 | DD105: 1.528048 | DE105: 0.86095548 | DF105: 2.5247822 | DG105: 0.9718852 | DH105: 4.0052209 | DI105: 1.4038724 | DJ105: 0.22703032 | DK105: 1.9073442 | DL105: 0.55188656 | DM105: -1.0174257 | DN105: 0.014227592 | DO105: -0.50697982 | DP105: -0.1910961 | DQ105: -0.48061776 | DR105: -2.9776211 | DS105: -2.4704359 | DT105: -1.888436 | DU105: -0.38315424 | DV105: -3.2098494 | DW105: -1.3564034 | DX105: 1.925957 | DY105: -0.064077631 | DZ105: 1.1308217 | EA105: 1.3929974 | EB105: 2.9825168 | EC105: 1.514974 | ED105: -0.70591003 | EE105: -0.3847518 | EF105: -2.047718 | EG105: -1.3191174 | EH105: -3.3236425 | EI105: -1.9933649 | EJ105: 3.4258149 | EK105: 5.4572148 | EL105: 8.5194588 | EM105: 9.1060181 | EN105: 8.9351616 | EO105: 5.9636874 | EP105: 0.13571855 | EQ105: -0.72373402 | ER105: 2.1178415 | ES105: -1.4718283 | ET105: -1.9792539 | EU105: -1.3538779 | EV105: -0.36781463 | EW105: 0.94480187 | EX105: -0.93550521 | EY105: 1.4382881 | EZ105: -0.26017964 | FA105: -1.6198601 | FB105: -2.7850075 | FC105: -1.1959431 | FD105: -4.9550428 | FE105: -0.25266501 | FF105: -0.7913956 | FG105: 1.0442808 | FH105: 2.1844351 | FI105: 4.8473082 | FJ105: 3.9084194 | FK105: 2.429724 | FL105: 2.0947392 | FM105: 3.584358 | FN105: -0.4594714 | FO105: -4.9526839 | FP105: -2.0952275 | FQ105: -1.4188683 | FR105: -4.5262895 | FS105: -1.585626 | FT105: 1.1000878 | FU105: -0.60511291 | FV105: 1.6605167 | FW105: 2.9984879 | FX105: 1.4578929 | FY105: 7.2028642 | FZ105: 0.90464425 | GA105: -2.3005519 | GB105: 0.030429481 | GC105: 0.75691187 | GD105: 1.8973887 | GE105: 0.78339231 | GF105: -2.562233 | GG105: -0.59460872 | GH105: -2.7219062 | GI105: -0.47380674 | GJ105: -0.10099132 | GK105: -3.123857 | GL105: 1.2782001 | GM105: 2.2523429 | GN105: 6.118516 | GO105: 0.48570618 | GP105: 1.046568 | GQ105: 0.85457033 | GR105: 3.2358849 | GS105: 1.6572779 | GT105: -0.96805257 | GU105: -1.2065558 | GV105: 1.0709283 | GW105: -0.34120631 | GX105: -2.3963938 | GY105: -1.516852 | GZ105: -2.3983028 | HA105: -2.2569761 | HB105: -4.4489913 | HC105: -1.9990263 | HD105: 2.0035002 | HE105: 7.3920903 | HF105: 1.5117379 | HG105: 1.8978846 | HH105: -1.0057867 | HI105: 0.83503294 | HJ105: 2.5265937 | HK105: 1.7313095 | HL105: 0.88375014 | HM105: 5.1482463 | HN105: 2.9291499 | HO105: 2.0389159 | HP105: 0.7328499 | HQ105: 1.1232798 | HR105: 0.92159069 | HS105: 2.1661251 | HT105: 2.9449482 | HU105: -1.5348002 | HV105: 4.7761488 | HW105: 1.3639903 | HX105: 1.66759 | HY105: 2.8156955 | HZ105: 2.6639955 | IA105: 2.1739738 | IB105: 1.5893114 | IC105: 1.7756674 | ID105: 1.07506 | IE105: 1.2628378 | IF105: 1.927297 | IG105: 0.32298374 | IH105: -0.24765389 | II105: -0.36398253 | IJ105: 0.8805095 | IK105: 0.38773054 | IL105: 1.076194 | IM105: 0.22172442 | IN105: 1.7821589 | IO105: 1.0355281 | IP105: 3.9285545 | IQ105: 4.0079131 | IR105: 2.9017403 | IS105: 3.2035542 | IT105: 1.2700021 | IU105: 1.6476635 | IV105: 2.7076054 | IW105: 3.930917 | IX105: 2.240732 | IY105: 3.2859676 | IZ105: 0.31478688 | JA105: 2.3426697 | JB105: 3.6952877 | JC105: 4.5293479 | JD105: 3.3351097 | JE105: 3.4410448 | JF105: 3.0615942 | JG105: 0.57542771 | JH105: 3.2791147 | JI105: 0.52739179 | JJ105: 3.1829388 | JK105: 2.5408556 | JL105: -1.6341263 | JM105: -0.32262337 | JN105: 0.70247853 | JO105: -1.067899 | JP105: -3.5871747 | JQ105: -1.698806 | JR105: -0.47509319 | JS105: -2.465483 | JT105: -0.59784132 | JU105: -3.2164414 | JV105: -2.5756271 | JW105: -0.96160173 | JX105: 1.7313097 | JY105: 0.97069347 | JZ105: 2.469326 | KA105: 2.7310567 | KB105: 1.0242385 | KC105: 1.9942036 | KD105: -0.90222192 | KE105: -0.77235484 | KF105: 0.02198902 | KG105: -0.038273994 | KH105: -0.72910887 | KI105: -1.7656759 | KJ105: -2.3583713 | KK105: -1.8907856 | KL105: -3.2108779 | KM105: -4.1829028 | KN105: -4.705555 | KO105: -3.4772964 | KP105: 0.81854439 | KQ105: 0.62891155 | KR105: 0.62903255 | KS105: 0.11102092 | KT105: -0.5144192 | KU105: 1.2938608 | KV105: 1.8437835 | KW105: -0.84096915 | KX105: -0.30973244 | KY105: 0.36331058 | KZ105: -0.43844578 | LA105: 0.38219491 | LB105: -1.09398 | LC105: 0.41683388 | LD105: -0.73341268 | LE105: 0.14435066 | LF105: -0.78341746 | LG105: 0.050491694 | LH105: -0.57341385 | LI105: -0.0089221681 | LJ105: 0.61153895 | LK105: -1.0204427 | LL105: -1.6473308 | LM105: -0.27040726 | LN105: -3.7257249 | LO105: -4.3982682 | LP105: 0.80243295 | LQ105: -4.4932761 | LR105: -3.1677997 | LS105: -2.1794107 | LT105: -2.7430868 | LU105: -3.5479608 | LV105: -3.2339902 | LW105: -1.768746 | LX105: -1.8537699 | LY105: 1.4551044 | LZ105: -0.2442975 | MA105: -1.739997 | MB105: -3.5687449 | MC105: -1.4541264 | MD105: -1.787343 | ME105: 7.9418144 | MF105: -3.8512049 | MG105: -3.4281013 | MH105: -3.1788025 | MI105: -3.8759408 | ML105: 1.0267814 | MM105: -6.9958463 | MN105: 0.84138936 | MO105: -2.8947575 | MP105: -1.5408909 | MQ105: 0.45427272 | MR105: -0.94345474 | MS105: 2.520052 | MT105: -1.929703 | MU105: -0.46929467 | MV105: -0.92984366 | MW105: 0.46790466 | MX105: -1.1059854 | MY105: -1.1338701 | MZ105: -0.63514853 | NA105: -0.98598379 | NB105: -2.8428466 | NC105: -0.57293904 | ND105: -2.5993314 | NE105: -1.6804154 | NF105: -1.5391729 | NG105: -1.0138144 | NH105: -2.7604768 | NI105: -1.4647871 | NJ105: -1.4040382 | NK105: -4.8720245 | NL105: -0.49032804 | NM105: 0.22050244 | NN105: 3.8722286 | NO105: -0.053959478 | NP105: 2.7487042 | NQ105: -0.67366123 | NR105: 2.6233792 | NS105: 1.1551018 | NT105: 2.2696147 | NU105: 1.9981173 | NV105: 2.7634642 | NW105: -0.67367393 | NX105: 2.5729666 | NY105: 1.3778638 | NZ105: 0.36880529 | OA105: 1.9981173 | OB105: 3.4342897 | OC105: 3.2371883 | OD105: 3.190655 | OE105: 2.9121928 | OF105: 4.9658999 | OG105: 5.0796165 | OH105: 1.8990326 | OI105: 1.194639 | OJ105: 0.5129512 | OK105: 3.0386782 | OL105: 1.5431386 | OM105: 2.2479823 | ON105: 3.4225638 | OO105: -1.558311 | OP105: 4.199605 | OQ105: 1.3977643 | OR105: 2.0898113 | OS105: 1.8077112 | OT105: 3.6534233 | OU105: 3.9743769 | OV105: 4.8019104 | OW105: 2.6548917 | OX105: 3.2216618 | OY105: 2.3259864 | OZ105: 2.4566758 | PA105: 3.335861 | PB105: 3.3482873 | PC105: 4.9509087 | PD105: 2.8641531 | PE105: 4.8915477 | PF105: 0.027978338 | PG105: 2.8292854 | PH105: 1.1041377 | PI105: 0.99242759 | PJ105: 2.4968505 | PK105: 0.42365375 | PL105: 4.3385549 | PM105: 2.8800826 | PN105: 3.5599463 | PO105: 3.2095442 | PP105: 4.7425203 | PQ105: 2.7017148 | PR105: 0.39417097 | PS105: 0.76612145 | PT105: 1.7694067 | PU105: 2.720983 | PV105: 0.7750448 | PX105: 1.1948742 | PY105: 2.0165966 | PZ105: 0.1733672 | QA105: 0.19095799 | QB105: -0.28509244 | QC105: -1.4475722 | QD105: 2.1758001 | QE105: 1.4477723 | QF105: -0.13806221 | QG105: 0.66672587 | QH105: 0.55913824 | QI105: 1.55663 | QJ105: 1.9629058 | QK105: 1.9294392 | QL105: 0.56644231 | QM105: 0.60856831 | QN105: 0.70226234 | QO105: 1.983586 | QP105: 0.82078201 | QQ105: 2.4723654 | QR105: 2.2791746 | QS105: 0.43769449 | QT105: 1.3169109 | QU105: 0.14613427 | QV105: 2.8257842 | QW105: 3.7707245 | QX105: 5.2150779 | QY105: 5.9376225 | QZ105: 3.4628673 | RA105: 2.3640823 | RB105: 1.0840322 | RC105: 1.8879437 | RD105: 2.3320196 | RE105: 2.5886769 | RF105: 2.5325625 | RG105: 1.0436592 | RH105: 0.88987803 | RI105: 0.5656215 | RJ105: 1.7843029 | RK105: 0.86306828 | RL105: 1.5165766 | RM105: 2.1314178 | RN105: 5.1234369 | RO105: 3.7419007 | RP105: 3.3090742 | RQ105: 3.7973986 | RR105: 4.6373129 | RS105: 2.7950399 | RT105: 3.3753355 | RU105: 2.4376907 | RV105: 0.017463906 | RW105: 1.3763247 | RX105: 2.908659 | RY105: 1.4846269 | RZ105: 5.0133386 | SA105: 4.7769284 | SB105: 3.2461939 | SC105: 4.9800501 | SD105: 4.119473 | SE105: 4.0954332 | SF105: 0.99767494 | SG105: 4.9570794 | SH105: 2.3469841 | SI105: 2.3148267 | SJ105: 3.6803706 | SK105: 1.8635504 | SL105: 4.2936926 | SM105: 2.1767919 | SN105: 4.3772826 | SO105: 4.158113 | SP105: 3.3530762 | SQ105: 2.8403318 | SR105: 3.4548452 | SS105: 4.5975423 | ST105: 5.2882328 | SU105: 3.7127998 | SV105: 3.3098755 | SW105: 0.26646671 | SX105: 2.8541124 | SY105: 1.4873255 | SZ105: 2.2960038 | TA105: 3.0134904 | TB105: 3.1050782 | TC105: 3.3923826 | TD105: -3.3399723 | TE105: 3.7142355 | TF105: 1.209426 | TG105: 1.4022435 | TH105: 0.9109537 | TI105: 0.99074876 | TJ105: 3.0000403 | TK105: 3.0885973 | TL105: 3.0667903 | TM105: 4.5810919 | TN105: 1.7847329 | TO105: -0.11752818 | TP105: 3.1789274 | TQ105: 3.8084648 | TR105: 3.2761846 | TS105: 1.9974933 | TT105: 3.2913606 | TU105: 3.2515829

Sheet Session averages
A1: Participant | B1: Participant 1 | K1: Participant 2 | T1: Participant 3 | AC1: Participant 4 | AL1: Participant 5 | AU1: Participant 6 | BD1: Participant 7 | BM1: Participant 8 | BV1: Participant 9 | CE1: Participant 10 | CP1: All participants
A2: Day | B2: Day 1 | E2: Day 2 | H2: Day 3 | K2: Day 1 | N2: Day 2 | Q2: Day 3 | T2: Day 1 | W2: Day 2 | Z2: Day 3 | AC2: Day 1 | AF2: Day 2 | AI2: Day 3 | AL2: Day 1 | AO2: Day 2 | AR2: Day 3 | AU2: Day 1 | AX2: Day 2 | BA2: Day 3 | BD2: Day 1 | BG2: Day 2 | BJ2: Day 3 | BM2: Day 1 | BP2: Day 2 | BS2: Day 3 | BV2: Day 1 | BY2: Day 2 | CB2: Day 3 | CE2: Day 1 | CH2: Day 2 | CK2: Day 3 | CP2: All Days
A3: Assessor | B3: A1 | C3: A2 | D3: A3 | E3: A1 | F3: A2 | G3: A3 | H3: A1 | I3: A2 | J3: A3 | K3: A1 | L3: A2 | M3: A3 | N3: A1 | O3: A2 | P3: A3 | Q3: A1 | R3: A2 | S3: A3 | T3: A1 | U3: A2 | V3: A3 | W3: A1 | X3: A2 | Y3: A3 | Z3: A1 | AA3: A2 | AB3: A3 | AC3: A1 | AD3: A2 | AE3: A3 | AF3: A1 | AG3: A2 | AH3: A3 | AI3: A1 | AJ3: A2 | AK3: A3 | AL3: A1 | AM3: A2 | AN3: A3 | AO3: A1 | AP3: A2 | AQ3: A3 | AR3: A1 | AS3: A2 | AT3: A3 | AU3: A1 | AV3: A2 | AW3: A3 | AX3: A1 | AY3: A2 | AZ3: A3 | BA3: A1 | BB3: A2 | BC3: A3 | BD3: A1 | BE3: A2 | BF3: A3 | BG3: A1 | BH3: A2 | BI3: A3 | BJ3: A1 | BK3: A2 | BL3: A3 | BM3: A1 | BN3: A2 | BO3: A3 | BP3: A1 | BQ3: A2 | BR3: A3 | BS3: A1 | BT3: A2 | BU3: A3 | BV3: A1 | BW3: A2 | BX3: A3 | BY3: A1 | BZ3: A2 | CA3: A3 | CB3: A1 | CC3: A2 | CD3: A3 | CE3: A1 | CF3: A2 | CG3: A3 | CH3: A1 | CI3: A2 | CJ3: A3 | CK3: A1 | CL3: A2 | CM3: A3 | CP3: A1 | CQ3: A2 | CR3: A3
A4: Trial | B4: mean | C4: mean | D4: mean | E4: mean | F4: mean | G4: mean | H4: mean | I4: mean | J4: mean | K4: mean | L4: mean | M4: mean | N4: mean | O4: mean | P4: mean | Q4: mean | R4: mean | S4: mean | T4: mean | U4: mean | V4: mean | W4: mean | X4: mean | Y4: mean | Z4: mean | AA4: mean | AB4: mean | AC4: mean | AD4: mean | AE4: mean | AF4: mean | AG4: mean | AH4: mean | AI4: mean | AJ4: mean | AK4: mean | AL4: mean | AM4: mean | AN4: mean | AO4: mean | AP4: mean | AQ4: mean | AR4: mean | AS4: mean | AT4: mean | AU4: mean | AV4: mean | AW4: mean | AX4: mean | AY4: mean | AZ4: mean | BA4: mean | BB4: mean | BC4: mean | BD4: mean | BE4: mean | BF4: mean | BG4: mean | BH4: mean | BI4: mean | BJ4: mean | BK4: mean | BL4: mean | BM4: mean | BN4: mean | BO4: mean | BP4: mean | BQ4: mean | BR4: mean | BS4: mean | BT4: mean | BU4: mean | BV4: mean | BW4: mean | BX4: mean | BY4: mean | BZ4: mean | CA4: mean | CB4: mean | CC4: mean | CD4: mean | CE4: mean | CF4: mean | CG4: mean | CH4: mean | CI4: mean | CJ4: mean | CK4: mean | CL4: mean | CM4: mean | CP4: mean | CQ4: mean | CR4: mean
A5: =0 -> 0 | B5: =AVERAGE('Raw data'!B5:G5) -> -0.25376885 | C5: =AVERAGE('Raw data'!H5:M5) -> 1.8378664 | D5: =AVERAGE('Raw data'!N5:S5) -> -1.8278543 | E5: =AVERAGE('Raw data'!T5:Y5) -> -0.61405737 | F5: =AVERAGE('Raw data'!Z5:AE5) -> -3.0087569 | G5: =AVERAGE('Raw data'!AF5:AK5) -> 9.1817737 | H5: =AVERAGE('Raw data'!AL5:AQ5) -> 0.35457959 | I5: =AVERAGE('Raw data'!AR5:AW5) -> -1.2840445 | J5: =AVERAGE('Raw data'!AX5:BC5) -> -0.16268261 | K5: =AVERAGE('Raw data'!BD5:BI5) -> -1.2865174 | L5: =AVERAGE('Raw data'!BJ5:BO5) -> -1.7278739 | M5: =AVERAGE('Raw data'!BP5:BU5) -> 0.27352056 | N5: =AVERAGE('Raw data'!BV5:CA5) -> -2.1471755 | O5: =AVERAGE('Raw data'!CB5:CG5) -> 0.17595094 | P5: =AVERAGE('Raw data'!CH5:CM5) -> 0.5123442 | Q5: =AVERAGE('Raw data'!CN5:CS5) -> 0.47570618 | R5: =AVERAGE('Raw data'!CT5:CY5) -> -0.58315067 | S5: =AVERAGE('Raw data'!CZ5:DE5) -> -0.13442731 | T5: =AVERAGE('Raw data'!DF5:DK5) -> 1.4821751 | U5: =AVERAGE('Raw data'!DL5:DQ5) -> -1.5643073 | V5: =AVERAGE('Raw data'!DR5:DW5) -> -3.2015073 | W5: =AVERAGE('Raw data'!DX5:EC5) -> -0.015061711 | X5: =AVERAGE('Raw data'!ED5:EI5) -> -2.051896 | Y5: =AVERAGE('Raw data'!EJ5:EO5) -> 3.7679132 | Z5: =AVERAGE('Raw data'!EP5:EU5) -> -1.2939835 | AA5: =AVERAGE('Raw data'!EV5:FA5) -> -0.78629747 | AB5: =AVERAGE('Raw data'!FB5:FG5) -> -3.0736776 | AC5: =AVERAGE('Raw data'!FH5:FM5) -> 3.9105879 | AD5: =AVERAGE('Raw data'!FN5:FS5) -> -4.3027862 | AE5: =AVERAGE('Raw data'!FT5:FY5) -> -0.31199682 | AF5: =AVERAGE('Raw data'!FZ5:GE5) -> -1.7717968 | AG5: =AVERAGE('Raw data'!GF5:GK5) -> -3.1742549 | AH5: =AVERAGE('Raw data'!GL5:GQ5) -> -0.32724352 | AI5: =AVERAGE('Raw data'!GR5:GW5) -> -2.0506632 | AJ5: =AVERAGE('Raw data'!GX5:HC5) -> -2.9976075 | AK5: =AVERAGE('Raw data'!HD5:HI5) -> -1.132235 | AL5: =AVERAGE('Raw data'!HJ5:HO5) -> 0.73034408 | AM5: =AVERAGE('Raw data'!HP5:HU5) -> -0.54244555 | AN5: =AVERAGE('Raw data'!HV5:IA5) -> 1.3579419 | AO5: =AVERAGE('Raw data'!IB5:IG5) -> 0.63184098 | AP5: =AVERAGE('Raw data'!IH5:IM5) -> 0.18800399 | AQ5: =AVERAGE('Raw data'!IN5:IS5) -> 1.5525026 | AR5: =AVERAGE('Raw data'!IT5:IY5) -> 2.4198879 | AS5: =AVERAGE('Raw data'!IZ5:JE5) -> 1.5188799 | AT5: =AVERAGE('Raw data'!JF5:JK5) -> 1.3355829 | AU5: =AVERAGE('Raw data'!JL5:JQ5) -> -1.5125923 | AV5: =AVERAGE('Raw data'!JR5:JW5) -> -2.4127131 | AW5: =AVERAGE('Raw data'!JX5:KC5) -> 0.45963184 | AX5: =AVERAGE('Raw data'!KD5:KI5) -> -1.5298867 | AY5: =AVERAGE('Raw data'!KJ5:KO5) -> -3.7029325 | AZ5: =AVERAGE('Raw data'!KP5:KU5) -> 0.33052097 | BA5: =AVERAGE('Raw data'!KV5:LA5) -> -0.21231647 | BB5: =AVERAGE('Raw data'!LB5:LG5) -> -1.8124933 | BC5: =AVERAGE('Raw data'!LH5:LM5) -> -1.3877746 | BD5: =AVERAGE('Raw data'!LN5:LS5) -> -2.4020394 | BE5: =AVERAGE('Raw data'!LT5:LY5) -> -3.0792378 | BF5: =AVERAGE('Raw data'!LZ5:ME5) -> -1.7575077 | BG5: =AVERAGE('Raw data'!MF5:MK5) -> -1.8388639 | BH5: =AVERAGE('Raw data'!ML5:MQ5) -> -0.85500048 | BI5: =AVERAGE('Raw data'!MR5:MW5) -> -2.0582702 | BJ5: =AVERAGE('Raw data'!MX5:NC5) -> -3.1233325 | BK5: =AVERAGE('Raw data'!ND5:NI5) -> -1.4531759 | BL5: =AVERAGE('Raw data'!NJ5:NO5) -> -1.6766219 | BM5: =AVERAGE('Raw data'!NP5:NU5) -> 0.93447365 | BN5: =AVERAGE('Raw data'!NV5:OA5) -> 0.73603697 | BO5: =AVERAGE('Raw data'!OB5:OG5) -> 2.5880906 | BP5: =AVERAGE('Raw data'!OH5:OM5) -> 0.97387242 | BQ5: =AVERAGE('Raw data'!ON5:OS5) -> 0.97350626 | BR5: =AVERAGE('Raw data'!OT5:OY5) -> 1.8171168 | BS5: =AVERAGE('Raw data'!OZ5:PE5) -> 3.3471562 | BT5: =AVERAGE('Raw data'!PF5:PK5) -> -0.14541867 | BU5: =AVERAGE('Raw data'!PL5:PQ5) -> 1.5127539 | BV5: =AVERAGE('Raw data'!PR5:PW5) -> 0.50999521 | BW5: =AVERAGE('Raw data'!PX5:QC5) -> -0.40308076 | BX5: =AVERAGE('Raw data'!QD5:QI5) -> 0.2680221 | BY5: =AVERAGE('Raw data'!QJ5:QO5) -> 0.63558481 | BZ5: =AVERAGE('Raw data'!QP5:QU5) -> -0.25611657 | CA5: =AVERAGE('Raw data'!QV5:RA5) -> 0.73745174 | CB5: =AVERAGE('Raw data'!RB5:RG5) -> 0.89548839 | CC5: =AVERAGE('Raw data'!RH5:RM5) -> 0.44104214 | CD5: =AVERAGE('Raw data'!RN5:RS5) -> 3.3846773 | CE5: =AVERAGE('Raw data'!RT5:RY5) -> 1.3341094 | CF5: =AVERAGE('Raw data'!RZ5:SE5) -> 3.7667015 | CG5: =AVERAGE('Raw data'!SF5:SK5) -> 1.9745542 | CH5: =AVERAGE('Raw data'!SL5:SQ5) -> 2.9490261 | CI5: =AVERAGE('Raw data'!SR5:SW5) -> 2.2448834 | CJ5: =AVERAGE('Raw data'!SX5:TC5) -> 1.7740797 | CK5: =AVERAGE('Raw data'!TD5:TI5) -> 0.12559638 | CL5: =AVERAGE('Raw data'!TJ5:TO5) -> 1.239453 | CM5: =AVERAGE('Raw data'!TP5:TU5) -> 2.1631824 | CP5: =AVERAGE(B5,E5,H5,K5,N5,Q5,T5,W5,Z5,AC5,AF5,AI5,AL5,AO5,AR5,AU5,AX5,BA5,BD5,BD5,BD5,BG5,BJ5,BM5,BP5,BS5,BV5,BY5,CB5,CE5,CH5,CK5) -> -0.098303432 | CQ5: =AVERAGE(C5,F5,I5,L5,O5,R5,U5,X5,AA5,AD5,AG5,AJ5,AM5,AP5,AS5,AV5,AY5,BB5,BE5,BE5,BE5,BH5,BK5,BN5,BQ5,BT5,BW5,BZ5,CC5,CF5,CI5,CL5) -> -0.91186691 | CR5: =AVERAGE(D5,G5,J5,M5,P5,S5,V5,Y5,AB5,AE5,AH5,AK5,AN5,AQ5,AT5,AW5,AZ5,BC5,BF5,BF5,BF5,BI5,BL5,BO5,BR5,BU5,BX5,CA5,CD5,CG5,CJ5,CM5) -> 0.45077645
A6: =A5+0.01 -> 0.01 | B6: =AVERAGE('Raw data'!B6:G6) -> -1.0380279 | C6: =AVERAGE('Raw data'!H6:M6) -> 1.1970444 | D6: =AVERAGE('Raw data'!N6:S6) -> -2.1554957 | E6: =AVERAGE('Raw data'!T6:Y6) -> -1.2760422 | F6: =AVERAGE('Raw data'!Z6:AE6) -> -3.4581355 | G6: =AVERAGE('Raw data'!AF6:AK6) -> 7.8062414 | H6: =AVERAGE('Raw data'!AL6:AQ6) -> -0.42490783 | I6: =AVERAGE('Raw data'!AR6:AW6) -> -1.8853218 | J6: =AVERAGE('Raw data'!AX6:BC6) -> -0.72144451 | K6: =AVERAGE('Raw data'!BD6:BI6) -> -2.1454599 | L6: =AVERAGE('Raw data'!BJ6:BO6) -> -2.5850838 | M6: =AVERAGE('Raw data'!BP6:BU6) -> -0.59453146 | N6: =AVERAGE('Raw data'!BV6:CA6) -> -3.1313501 | O6: =AVERAGE('Raw data'!CB6:CG6) -> -0.61638638 | P6: =AVERAGE('Raw data'!CH6:CM6) -> -0.2355213 | Q6: =AVERAGE('Raw data'!CN6:CS6) -> -0.38160797 | R6: =AVERAGE('Raw data'!CT6:CY6) -> -1.1855409 | S6: =AVERAGE('Raw data'!CZ6:DE6) -> -1.0517275 | T6: =AVERAGE('Raw data'!DF6:DK6) -> 0.67340284 | U6: =AVERAGE('Raw data'!DL6:DQ6) -> -2.5857154 | V6: =AVERAGE('Raw data'!DR6:DW6) -> -3.9926204 | W6: =AVERAGE('Raw data'!DX6:EC6) -> -0.65216883 | X6: =AVERAGE('Raw data'!ED6:EI6) -> -2.5850419 | Y6: =AVERAGE('Raw data'!EJ6:EO6) -> 3.523379 | Z6: =AVERAGE('Raw data'!EP6:EU6) -> -1.8774008 | AA6: =AVERAGE('Raw data'!EV6:FA6) -> -1.607487 | AB6: =AVERAGE('Raw data'!FB6:FG6) -> -3.497739 | AC6: =AVERAGE('Raw data'!FH6:FM6) -> 2.4240894 | AD6: =AVERAGE('Raw data'!FN6:FS6) -> -5.3223783 | AE6: =AVERAGE('Raw data'!FT6:FY6) -> -1.4120053 | AF6: =AVERAGE('Raw data'!FZ6:GE6) -> -3.2444141 | AG6: =AVERAGE('Raw data'!GF6:GK6) -> -4.4822819 | AH6: =AVERAGE('Raw data'!GL6:GQ6) -> -2.0292112 | AI6: =AVERAGE('Raw data'!GR6:GW6) -> -3.2899577 | AJ6: =AVERAGE('Raw data'!GX6:HC6) -> -4.1537011 | AK6: =AVERAGE('Raw data'!HD6:HI6) -> -2.1796996 | AL6: =AVERAGE('Raw data'!HJ6:HO6) -> -0.43057097 | AM6: =AVERAGE('Raw data'!HP6:HU6) -> -1.6270768 | AN6: =AVERAGE('Raw data'!HV6:IA6) -> 0.10524829 | AO6: =AVERAGE('Raw data'!IB6:IG6) -> -0.34310517 | AP6: =AVERAGE('Raw data'!IH6:IM6) -> -0.54624273 | AQ6: =AVERAGE('Raw data'!IN6:IS6) -> 0.56853374 | AR6: =AVERAGE('Raw data'!IT6:IY6) -> 1.303022 | AS6: =AVERAGE('Raw data'!IZ6:JE6) -> 0.83658113 | AT6: =AVERAGE('Raw data'!JF6:JK6) -> 0.61132451 | AU6: =AVERAGE('Raw data'!JL6:JQ6) -> -1.8868314 | AV6: =AVERAGE('Raw data'!JR6:JW6) -> -2.9500933 | AW6: =AVERAGE('Raw data'!JX6:KC6) -> -0.19948356 | AX6: =AVERAGE('Raw data'!KD6:KI6) -> -2.0386582 | AY6: =AVERAGE('Raw data'!KJ6:KO6) -> -4.2178177 | AZ6: =AVERAGE('Raw data'!KP6:KU6) -> -0.40603585 | BA6: =AVERAGE('Raw data'!KV6:LA6) -> -0.80166241 | BB6: =AVERAGE('Raw data'!LB6:LG6) -> -2.2681187 | BC6: =AVERAGE('Raw data'!LH6:LM6) -> -1.9734246 | BD6: =AVERAGE('Raw data'!LN6:LS6) -> -3.1985326 | BE6: =AVERAGE('Raw data'!LT6:LY6) -> -3.8217149 | BF6: =AVERAGE('Raw data'!LZ6:ME6) -> -2.4390642 | BG6: =AVERAGE('Raw data'!MF6:MK6) -> -2.5520298 | BH6: =AVERAGE('Raw data'!ML6:MQ6) -> -1.5428124 | BI6: =AVERAGE('Raw data'!MR6:MW6) -> -2.9539989 | BJ6: =AVERAGE('Raw data'!MX6:NC6) -> -3.6096138 | BK6: =AVERAGE('Raw data'!ND6:NI6) -> -2.1880261 | BL6: =AVERAGE('Raw data'!NJ6:NO6) -> -2.0830231 | BM6: =AVERAGE('Raw data'!NP6:NU6) -> -0.10057018 | BN6: =AVERAGE('Raw data'!NV6:OA6) -> -0.25538737 | BO6: =AVERAGE('Raw data'!OB6:OG6) -> 1.2377312 | BP6: =AVERAGE('Raw data'!OH6:OM6) -> -0.15830797 | BQ6: =AVERAGE('Raw data'!ON6:OS6) -> 0.18078561 | BR6: =AVERAGE('Raw data'!OT6:OY6) -> 0.7640202 | BS6: =AVERAGE('Raw data'!OZ6:PE6) -> 2.0631983 | BT6: =AVERAGE('Raw data'!PF6:PK6) -> -1.2598134 | BU6: =AVERAGE('Raw data'!PL6:PQ6) -> 0.34631308 | BV6: =AVERAGE('Raw data'!PR5:PW5) -> 0.50999521 | BW6: =AVERAGE('Raw data'!PX6:QC6) -> -0.9136627 | BX6: =AVERAGE('Raw data'!QD6:QI6) -> -0.77684131 | BY6: =AVERAGE('Raw data'!QJ6:QO6) -> 0.15132501 | BZ6: =AVERAGE('Raw data'!QP6:QU6) -> -0.88222089 | CA6: =AVERAGE('Raw data'!QV6:RA6) -> 0.092668899 | CB6: =AVERAGE('Raw data'!RB6:RG6) -> 0.096701083 | CC6: =AVERAGE('Raw data'!RH6:RM6) -> -0.2717203 | CD6: =AVERAGE('Raw data'!RN6:RS6) -> 2.3789201 | CE6: =AVERAGE('Raw data'!RT6:RY6) -> -0.48257812 | CF6: =AVERAGE('Raw data'!RZ6:SE6) -> 2.2697486 | CG6: =AVERAGE('Raw data'!SF6:SK6) -> 0.54304562 | CH6: =AVERAGE('Raw data'!SL6:SQ6) -> 2.0609555 | CI6: =AVERAGE('Raw data'!SR6:SW6) -> 0.95651402 | CJ6: =AVERAGE('Raw data'!SX6:TC6) -> 0.54229079 | CK6: =AVERAGE('Raw data'!TD6:TI6) -> -0.91183903 | CL6: =AVERAGE('Raw data'!TJ6:TO6) -> -0.050916986 | CM6: =AVERAGE('Raw data'!TP6:TU6) -> 0.77506223 | CP6: =AVERAGE(B6,E6,H6,K6,N6,Q6,T6,W6,Z6,AC6,AF6,AI6,AL6,AO6,AR6,AU6,AX6,BA6,BD6,BD6,BD6,BG6,BJ6,BM6,BP6,BS6,BV6,BY6,CB6,CE6,CH6,CK6) -> -0.9715629 | CQ6: =AVERAGE(C6,F6,I6,L6,O6,R6,U6,X6,AA6,AD6,AG6,AJ6,AM6,AP6,AS6,AV6,AY6,BB6,BE6,BE6,BE6,BH6,BK6,BN6,BQ6,BT6,BW6,BZ6,CC6,CF6,CI6,CL6) -> -1.7332954 | CR6: =AVERAGE(D6,G6,J6,M6,P6,S6,V6,Y6,AB6,AE6,AH6,AK6,AN6,AQ6,AT6,AW6,AZ6,BC6,BF6,BF6,BF6,BI6,BL6,BO6,BR6,BU6,BX6,CA6,CD6,CG6,CJ6,CM6) -> -0.44641303
A7: =A6+0.01 -> 0.02 | B7: =AVERAGE('Raw data'!B7:G7) -> -1.6561713 | C7: =AVERAGE('Raw data'!H7:M7) -> 0.70062477 | D7: =AVERAGE('Raw data'!N7:S7) -> -2.4399876 | E7: =AVERAGE('Raw data'!T7:Y7) -> -1.816861 | F7: =AVERAGE('Raw data'!Z7:AE7) -> -3.7964416 | G7: =AVERAGE('Raw data'!AF7:AK7) -> 6.8378814 | H7: =AVERAGE('Raw data'!AL7:AQ7) -> -1.0032796 | I7: =AVERAGE('Raw data'!AR7:AW7) -> -2.3590829 | J7: =AVERAGE('Raw data'!AX7:BC7) -> -1.1582591 | K7: =AVERAGE('Raw data'!BD7:BI7) -> -2.8216891 | L7: =AVERAGE('Raw data'!BJ7:BO7) -> -3.3289315 | M7: =AVERAGE('Raw data'!BP7:BU7) -> -1.3620972 | N7: =AVERAGE('Raw data'!BV7:CA7) -> -3.7220878 | O7: =AVERAGE('Raw data'!CB7:CG7) -> -1.1956173 | P7: =AVERAGE('Raw data'!CH7:CM7) -> -0.94777571 | Q7: =AVERAGE('Raw data'!CN7:CS7) -> -1.090043 | R7: =AVERAGE('Raw data'!CT7:CY7) -> -1.852496 | S7: =AVERAGE('Raw data'!CZ7:DE7) -> -1.8577309 | T7: =AVERAGE('Raw data'!DF7:DK7) -> 0.0035303281 | U7: =AVERAGE('Raw data'!DL7:DQ7) -> -3.2715204 | V7: =AVERAGE('Raw data'!DR7:DW7) -> -4.4805914 | W7: =AVERAGE('Raw data'!DX7:EC7) -> -1.1342932 | X7: =AVERAGE('Raw data'!ED7:EI7) -> -2.8686846 | Y7: =AVERAGE('Raw data'!EJ7:EO7) -> 3.1317993 | Z7: =AVERAGE('Raw data'!EP7:EU7) -> -2.2681709 | AA7: =AVERAGE('Raw data'!EV7:FA7) -> -2.1080007 | AB7: =AVERAGE('Raw data'!FB7:FG7) -> -3.6880791 | AC7: =AVERAGE('Raw data'!FH7:FM7) -> 1.1647503 | AD7: =AVERAGE('Raw data'!FN7:FS7) -> -5.9670939 | AE7: =AVERAGE('Raw data'!FT7:FY7) -> -2.3884813 | AF7: =AVERAGE('Raw data'!FZ7:GE7) -> -4.4355574 | AG7: =AVERAGE('Raw data'!GF7:GK7) -> -5.4963633 | AH7: =AVERAGE('Raw data'!GL7:GQ7) -> -3.2357824 | AI7: =AVERAGE('Raw data'!GR7:GW7) -> -4.0392217 | AJ7: =AVERAGE('Raw data'!GX7:HC7) -> -5.0740316 | AK7: =AVERAGE('Raw data'!HD7:HI7) -> -3.3102195 | AL7: =AVERAGE('Raw data'!HJ7:HO7) -> -1.3441361 | AM7: =AVERAGE('Raw data'!HP7:HU7) -> -2.4832581 | AN7: =AVERAGE('Raw data'!HV7:IA7) -> -0.82521725 | AO7: =AVERAGE('Raw data'!IB7:IG7) -> -1.1093404 | AP7: =AVERAGE('Raw data'!IH7:IM7) -> -1.0951189 | AQ7: =AVERAGE('Raw data'!IN7:IS7) -> -0.38968486 | AR7: =AVERAGE('Raw data'!IT7:IY7) -> 0.37216619 | AS7: =AVERAGE('Raw data'!IZ7:JE7) -> 0.36750965 | AT7: =AVERAGE('Raw data'!JF7:JK7) -> 0.09402076 | AU7: =AVERAGE('Raw data'!JL7:JQ7) -> -2.251494 | AV7: =AVERAGE('Raw data'!JR7:JW7) -> -3.2962289 | AW7: =AVERAGE('Raw data'!JX7:KC7) -> -0.64107955 | AX7: =AVERAGE('Raw data'!KD7:KI7) -> -2.4166993 | AY7: =AVERAGE('Raw data'!KJ7:KO7) -> -4.6159744 | AZ7: =AVERAGE('Raw data'!KP7:KU7) -> -1.1682697 | BA7: =AVERAGE('Raw data'!KV7:LA7) -> -1.2652315 | BB7: =AVERAGE('Raw data'!LB7:LG7) -> -2.6309817 | BC7: =AVERAGE('Raw data'!LH7:LM7) -> -2.3440486 | BD7: =AVERAGE('Raw data'!LN7:LS7) -> -3.6729426 | BE7: =AVERAGE('Raw data'!LT7:LY7) -> -4.3097329 | BF7: =AVERAGE('Raw data'!LZ7:ME7) -> -2.9005982 | BG7: =AVERAGE('Raw data'!MF7:MK7) -> -3.0838564 | BH7: =AVERAGE('Raw data'!ML7:MQ7) -> -2.1226271 | BI7: =AVERAGE('Raw data'!MR7:MW7) -> -3.5837611 | BJ7: =AVERAGE('Raw data'!MX7:NC7) -> -3.9581002 | BK7: =AVERAGE('Raw data'!ND7:NI7) -> -2.7438478 | BL7: =AVERAGE('Raw data'!NJ7:NO7) -> -2.3735739 | BM7: =AVERAGE('Raw data'!NP7:NU7) -> -0.84875522 | BN7: =AVERAGE('Raw data'!NV7:OA7) -> -1.2533087 | BO7: =AVERAGE('Raw data'!OB7:OG7) -> 0.26997163 | BP7: =AVERAGE('Raw data'!OH7:OM7) -> -0.92028497 | BQ7: =AVERAGE('Raw data'!ON7:OS7) -> -0.53218501 | BR7: =AVERAGE('Raw data'!OT7:OY7) -> 0.033412272 | BS7: =AVERAGE('Raw data'!OZ7:PE7) -> 1.0085525 | BT7: =AVERAGE('Raw data'!PF7:PK7) -> -2.0377578 | BU7: =AVERAGE('Raw data'!PL7:PQ7) -> -0.53073263 | BV7: =AVERAGE('Raw data'!PR6:PW6) -> -0.31265998 | BW7: =AVERAGE('Raw data'!PX7:QC7) -> -1.3423126 | BX7: =AVERAGE('Raw data'!QD7:QI7) -> -1.504329 | BY7: =AVERAGE('Raw data'!QJ7:QO7) -> -0.37014975 | BZ7: =AVERAGE('Raw data'!QP7:QU7) -> -1.3604702 | CA7: =AVERAGE('Raw data'!QV7:RA7) -> -0.34355569 | CB7: =AVERAGE('Raw data'!RB7:RG7) -> -0.49662734 | CC7: =AVERAGE('Raw data'!RH7:RM7) -> -0.79747992 | CD7: =AVERAGE('Raw data'!RN7:RS7) -> 1.6781649 | CE7: =AVERAGE('Raw data'!RT7:RY7) -> -1.9276686 | CF7: =AVERAGE('Raw data'!RZ7:SE7) -> 0.9058737 | CG7: =AVERAGE('Raw data'!SF7:SK7) -> -0.63115826 | CH7: =AVERAGE('Raw data'!SL7:SQ7) -> 1.2696624 | CI7: =AVERAGE('Raw data'!SR7:SW7) -> -0.09440674 | CJ7: =AVERAGE('Raw data'!SX7:TC7) -> -0.57455978 | CK7: =AVERAGE('Raw data'!TD7:TI7) -> -1.7534352 | CL7: =AVERAGE('Raw data'!TJ7:TO7) -> -1.10703 | CM7: =AVERAGE('Raw data'!TP7:TU7) -> -0.39139808 | CP7: =AVERAGE(B7,E7,H7,K7,N7,Q7,T7,W7,Z7,AC7,AF7,AI7,AL7,AO7,AR7,AU7,AX7,BA7,BD7,BD7,BD7,BG7,BJ7,BM7,BP7,BS7,BV7,BY7,CB7,CE7,CH7,CK7) -> -1.6639369 | CQ7: =AVERAGE(C7,F7,I7,L7,O7,R7,U7,X7,AA7,AD7,AG7,AJ7,AM7,AP7,AS7,AV7,AY7,BB7,BE7,BE7,BE7,BH7,BK7,BN7,BQ7,BT7,BW7,BZ7,CC7,CF7,CI7,CL7) -> -2.3683263 | CR7: =AVERAGE(D7,G7,J7,M7,P7,S7,V7,Y7,AB7,AE7,AH7,AK7,AN7,AQ7,AT7,AW7,AZ7,BC7,BF7,BF7,BF7,BI7,BL7,BO7,BR7,BU7,BX7,CA7,CD7,CG7,CJ7,CM7) -> -1.1508412
A8: =A7+0.01 -> 0.03 | B8: =AVERAGE('Raw data'!B8:G8) -> -2.1564969 | C8: =AVERAGE('Raw data'!H8:M8) -> 0.28056172 | D8: =AVERAGE('Raw data'!N8:S8) -> -2.4602017 | E8: =AVERAGE('Raw data'!T8:Y8) -> -2.1738807 | F8: =AVERAGE('Raw data'!Z8:AE8) -> -3.9895618 | G8: =AVERAGE('Raw data'!AF8:AK8) -> 5.4129937 | H8: =AVERAGE('Raw data'!AL8:AQ8) -> -1.350107 | I8: =AVERAGE('Raw data'!AR8:AW8) -> -2.5927775 | J8: =AVERAGE('Raw data'!AX8:BC8) -> -1.4382409 | K8: =AVERAGE('Raw data'!BD8:BI8) -> -3.2755674 | L8: =AVERAGE('Raw data'!BJ8:BO8) -> -3.7458022 | M8: =AVERAGE('Raw data'!BP8:BU8) -> -1.8608547 | N8: =AVERAGE('Raw data'!BV8:CA8) -> -4.274045 | O8: =AVERAGE('Raw data'!CB8:CG8) -> -1.5835188 | P8: =AVERAGE('Raw data'!CH8:CM8) -> -1.2264978 | Q8: =AVERAGE('Raw data'!CN8:CS8) -> -1.4423943 | R8: =AVERAGE('Raw data'!CT8:CY8) -> -2.2528567 | S8: =AVERAGE('Raw data'!CZ8:DE8) -> -2.2654914 | T8: =AVERAGE('Raw data'!DF8:DK8) -> -0.38752473 | U8: =AVERAGE('Raw data'!DL8:DQ8) -> -3.5709334 | V8: =AVERAGE('Raw data'!DR8:DW8) -> -4.6090293 | W8: =AVERAGE('Raw data'!DX8:EC8) -> -1.4907775 | X8: =AVERAGE('Raw data'!ED8:EI8) -> -2.9419097 | Y8: =AVERAGE('Raw data'!EJ8:EO8) -> 3.03409 | Z8: =AVERAGE('Raw data'!EP8:EU8) -> -2.4109822 | AA8: =AVERAGE('Raw data'!EV8:FA8) -> -2.4052722 | AB8: =AVERAGE('Raw data'!FB8:FG8) -> -3.7282135 | AC8: =AVERAGE('Raw data'!FH8:FM8) -> 0.14911485 | AD8: =AVERAGE('Raw data'!FN8:FS8) -> -6.3098428 | AE8: =AVERAGE('Raw data'!FT8:FY8) -> -3.1368939 | AF8: =AVERAGE('Raw data'!FZ8:GE8) -> -5.0501394 | AG8: =AVERAGE('Raw data'!GF8:GK8) -> -6.2369777 | AH8: =AVERAGE('Raw data'!GL8:GQ8) -> -4.3619829 | AI8: =AVERAGE('Raw data'!GR8:GW8) -> -4.6946799 | AJ8: =AVERAGE('Raw data'!GX8:HC8) -> -5.6637188 | AK8: =AVERAGE('Raw data'!HD8:HI8) -> -4.041274 | AL8: =AVERAGE('Raw data'!HJ8:HO8) -> -1.9213751 | AM8: =AVERAGE('Raw data'!HP8:HU8) -> -2.9716366 | AN8: =AVERAGE('Raw data'!HV8:IA8) -> -1.5121592 | AO8: =AVERAGE('Raw data'!IB8:IG8) -> -1.6937753 | AP8: =AVERAGE('Raw data'!IH8:IM8) -> -1.4263422 | AQ8: =AVERAGE('Raw data'!IN8:IS8) -> -1.095358 | AR8: =AVERAGE('Raw data'!IT8:IY8) -> -0.33180966 | AS8: =AVERAGE('Raw data'!IZ8:JE8) -> 0.096383982 | AT8: =AVERAGE('Raw data'!JF8:JK8) -> -0.33012344 | AU8: =AVERAGE('Raw data'!JL8:JQ8) -> -2.4248102 | AV8: =AVERAGE('Raw data'!JR8:JW8) -> -3.4976044 | AW8: =AVERAGE('Raw data'!JX8:KC8) -> -0.92769318 | AX8: =AVERAGE('Raw data'!KD8:KI8) -> -2.6554667 | AY8: =AVERAGE('Raw data'!KJ8:KO8) -> -4.8130835 | AZ8: =AVERAGE('Raw data'!KP8:KU8) -> -1.6292377 | BA8: =AVERAGE('Raw data'!KV8:LA8) -> -1.6029526 | BB8: =AVERAGE('Raw data'!LB8:LG8) -> -2.8561595 | BC8: =AVERAGE('Raw data'!LH8:LM8) -> -2.6055847 | BD8: =AVERAGE('Raw data'!LN8:LS8) -> -4.0269202 | BE8: =AVERAGE('Raw data'!LT8:LY8) -> -4.4676897 | BF8: =AVERAGE('Raw data'!LZ8:ME8) -> -3.1058625 | BG8: =AVERAGE('Raw data'!MF8:MK8) -> -3.3292368 | BH8: =AVERAGE('Raw data'!ML8:MQ8) -> -2.432766 | BI8: =AVERAGE('Raw data'!MR8:MW8) -> -3.8941996 | BJ8: =AVERAGE('Raw data'!MX8:NC8) -> -4.2028409 | BK8: =AVERAGE('Raw data'!ND8:NI8) -> -3.1797598 | BL8: =AVERAGE('Raw data'!NJ8:NO8) -> -2.4370535 | BM8: =AVERAGE('Raw data'!NP8:NU8) -> -1.3652729 | BN8: =AVERAGE('Raw data'!NV8:OA8) -> -1.7908453 | BO8: =AVERAGE('Raw data'!OB8:OG8) -> -0.51101905 | BP8: =AVERAGE('Raw data'!OH8:OM8) -> -1.6032801 | BQ8: =AVERAGE('Raw data'!ON8:OS8) -> -1.1658595 | BR8: =AVERAGE('Raw data'!OT8:OY8) -> -0.75895653 | BS8: =AVERAGE('Raw data'!OZ8:PE8) -> 0.17812842 | BT8: =AVERAGE('Raw data'!PF8:PK8) -> -2.702583 | BU8: =AVERAGE('Raw data'!PL8:PQ8) -> -1.1819989 | BV8: =AVERAGE('Raw data'!PR7:PW7) -> -1.0967006 | BW8: =AVERAGE('Raw data'!PX8:QC8) -> -1.6111331 | BX8: =AVERAGE('Raw data'!QD8:QI8) -> -2.2264953 | BY8: =AVERAGE('Raw data'!QJ8:QO8) -> -0.62551789 | BZ8: =AVERAGE('Raw data'!QP8:QU8) -> -1.6619967 | CA8: =AVERAGE('Raw data'!QV8:RA8) -> -0.677872 | CB8: =AVERAGE('Raw data'!RB8:RG8) -> -0.96548909 | CC8: =AVERAGE('Raw data'!RH8:RM8) -> -1.131347 | CD8: =AVERAGE('Raw data'!RN8:RS8) -> 1.1644732 | CE8: =AVERAGE('Raw data'!RT8:RY8) -> -3.0388506 | CF8: =AVERAGE('Raw data'!RZ8:SE8) -> 0.02582273 | CG8: =AVERAGE('Raw data'!SF8:SK8) -> -1.6346113 | CH8: =AVERAGE('Raw data'!SL8:SQ8) -> 0.40715871 | CI8: =AVERAGE('Raw data'!SR8:SW8) -> -0.96982021 | CJ8: =AVERAGE('Raw data'!SX8:TC8) -> -1.4033325 | CK8: =AVERAGE('Raw data'!TD8:TI8) -> -2.3055804 | CL8: =AVERAGE('Raw data'!TJ8:TO8) -> -1.8269261 | CM8: =AVERAGE('Raw data'!TP8:TU8) -> -1.2389064 | CP8: =AVERAGE(B8,E8,H8,K8,N8,Q8,T8,W8,Z8,AC8,AF8,AI8,AL8,AO8,AR8,AU8,AX8,BA8,BD8,BD8,BD8,BG8,BJ8,BM8,BP8,BS8,BV8,BY8,CB8,CE8,CH8,CK8) -> -2.1629973 | CQ8: =AVERAGE(C8,F8,I8,L8,O8,R8,U8,X8,AA8,AD8,AG8,AJ8,AM8,AP8,AS8,AV8,AY8,BB8,BE8,BE8,BE8,BH8,BK8,BN8,BQ8,BT8,BW8,BZ8,CC8,CF8,CI8,CL8) -> -2.7603542 | CR8: =AVERAGE(D8,G8,J8,M8,P8,S8,V8,Y8,AB8,AE8,AH8,AK8,AN8,AQ8,AT8,AW8,AZ8,BC8,BF8,BF8,BF8,BI8,BL8,BO8,BR8,BU8,BX8,CA8,CD8,CG8,CJ8,CM8) -> -1.6531035
A9: =A8+0.01 -> 0.04 | B9: =AVERAGE('Raw data'!B9:G9) -> -2.4698581 | C9: =AVERAGE('Raw data'!H9:M9) -> -0.10864648 | D9: =AVERAGE('Raw data'!N9:S9) -> -2.3370023 | E9: =AVERAGE('Raw data'!T9:Y9) -> -2.3543973 | F9: =AVERAGE('Raw data'!Z9:AE9) -> -3.961802 | G9: =AVERAGE('Raw data'!AF9:AK9) -> 4.0815361 | H9: =AVERAGE('Raw data'!AL9:AQ9) -> -1.4922728 | I9: =AVERAGE('Raw data'!AR9:AW9) -> -2.6823492 | J9: =AVERAGE('Raw data'!AX9:BC9) -> -1.5607719 | K9: =AVERAGE('Raw data'!BD9:BI9) -> -3.4244802 | L9: =AVERAGE('Raw data'!BJ9:BO9) -> -3.9657254 | M9: =AVERAGE('Raw data'!BP9:BU9) -> -2.1540081 | N9: =AVERAGE('Raw data'!BV9:CA9) -> -4.4543887 | O9: =AVERAGE('Raw data'!CB9:CG9) -> -1.8162051 | P9: =AVERAGE('Raw data'!CH9:CM9) -> -1.3224512 | Q9: =AVERAGE('Raw data'!CN9:CS9) -> -1.6062987 | R9: =AVERAGE('Raw data'!CT9:CY9) -> -2.3660955 | S9: =AVERAGE('Raw data'!CZ9:DE9) -> -2.381784 | T9: =AVERAGE('Raw data'!DF9:DK9) -> -0.58650521 | U9: =AVERAGE('Raw data'!DL9:DQ9) -> -3.7169417 | V9: =AVERAGE('Raw data'!DR9:DW9) -> -4.4029174 | W9: =AVERAGE('Raw data'!DX9:EC9) -> -1.6072127 | X9: =AVERAGE('Raw data'!ED9:EI9) -> -2.7845358 | Y9: =AVERAGE('Raw data'!EJ9:EO9) -> 3.0964289 | Z9: =AVERAGE('Raw data'!EP9:EU9) -> -2.4107165 | AA9: =AVERAGE('Raw data'!EV9:FA9) -> -2.4715469 | AB9: =AVERAGE('Raw data'!FB9:FG9) -> -3.450957 | AC9: =AVERAGE('Raw data'!FH9:FM9) -> -0.55704407 | AD9: =AVERAGE('Raw data'!FN9:FS9) -> -6.470901 | AE9: =AVERAGE('Raw data'!FT9:FY9) -> -3.4253784 | AF9: =AVERAGE('Raw data'!FZ9:GE9) -> -5.6701345 | AG9: =AVERAGE('Raw data'!GF9:GK9) -> -6.737194 | AH9: =AVERAGE('Raw data'!GL9:GQ9) -> -5.1237862 | AI9: =AVERAGE('Raw data'!GR9:GW9) -> -5.0677859 | AJ9: =AVERAGE('Raw data'!GX9:HC9) -> -5.8109309 | AK9: =AVERAGE('Raw data'!HD9:HI9) -> -4.3050526 | AL9: =AVERAGE('Raw data'!HJ9:HO9) -> -2.202076 | AM9: =AVERAGE('Raw data'!HP9:HU9) -> -3.1945075 | AN9: =AVERAGE('Raw data'!HV9:IA9) -> -1.8829175 | AO9: =AVERAGE('Raw data'!IB9:IG9) -> -2.0820079 | AP9: =AVERAGE('Raw data'!IH9:IM9) -> -1.5767892 | AQ9: =AVERAGE('Raw data'!IN9:IS9) -> -1.4876475 | AR9: =AVERAGE('Raw data'!IT9:IY9) -> -0.92178403 | AS9: =AVERAGE('Raw data'!IZ9:JE9) -> 0.035835319 | AT9: =AVERAGE('Raw data'!JF9:JK9) -> -0.53838468 | AU9: =AVERAGE('Raw data'!JL9:JQ9) -> -2.5015263 | AV9: =AVERAGE('Raw data'!JR9:JW9) -> -3.4451956 | AW9: =AVERAGE('Raw data'!JX9:KC9) -> -1.0722614 | AX9: =AVERAGE('Raw data'!KD9:KI9) -> -2.675374 | AY9: =AVERAGE('Raw data'!KJ9:KO9) -> -4.8329339 | AZ9: =AVERAGE('Raw data'!KP9:KU9) -> -1.9002272 | BA9: =AVERAGE('Raw data'!KV9:LA9) -> -1.7269996 | BB9: =AVERAGE('Raw data'!LB9:LG9) -> -2.9010667 | BC9: =AVERAGE('Raw data'!LH9:LM9) -> -2.7177687 | BD9: =AVERAGE('Raw data'!LN9:LS9) -> -4.0050696 | BE9: =AVERAGE('Raw data'!LT9:LY9) -> -4.4455102 | BF9: =AVERAGE('Raw data'!LZ9:ME9) -> -3.0518512 | BG9: =AVERAGE('Raw data'!MF9:MK9) -> -3.2823381 | BH9: =AVERAGE('Raw data'!ML9:MQ9) -> -2.5446749 | BI9: =AVERAGE('Raw data'!MR9:MW9) -> -4.1613179 | BJ9: =AVERAGE('Raw data'!MX9:NC9) -> -4.0904007 | BK9: =AVERAGE('Raw data'!ND9:NI9) -> -3.2922867 | BL9: =AVERAGE('Raw data'!NJ9:NO9) -> -2.3558524 | BM9: =AVERAGE('Raw data'!NP9:NU9) -> -1.557675 | BN9: =AVERAGE('Raw data'!NV9:OA9) -> -2.0989736 | BO9: =AVERAGE('Raw data'!OB9:OG9) -> -1.0023604 | BP9: =AVERAGE('Raw data'!OH9:OM9) -> -2.2156156 | BQ9: =AVERAGE('Raw data'!ON9:OS9) -> -1.5355278 | BR9: =AVERAGE('Raw data'!OT9:OY9) -> -1.213955 | BS9: =AVERAGE('Raw data'!OZ9:PE9) -> -0.62190012 | BT9: =AVERAGE('Raw data'!PF9:PK9) -> -3.0982071 | BU9: =AVERAGE('Raw data'!PL9:PQ9) -> -1.6016926 | BV9: =AVERAGE('Raw data'!PR8:PW8) -> -1.7011869 | BW9: =AVERAGE('Raw data'!PX9:QC9) -> -1.7597835 | BX9: =AVERAGE('Raw data'!QD9:QI9) -> -2.5349141 | BY9: =AVERAGE('Raw data'!QJ9:QO9) -> -0.80225959 | BZ9: =AVERAGE('Raw data'!QP9:QU9) -> -1.7918809 | CA9: =AVERAGE('Raw data'!QV9:RA9) -> -0.87804226 | CB9: =AVERAGE('Raw data'!RB9:RG9) -> -1.2671605 | CC9: =AVERAGE('Raw data'!RH9:RM9) -> -1.2330071 | CD9: =AVERAGE('Raw data'!RN9:RS9) -> 0.62719884 | CE9: =AVERAGE('Raw data'!RT9:RY9) -> -3.827593 | CF9: =AVERAGE('Raw data'!RZ9:SE9) -> -0.67411007 | CG9: =AVERAGE('Raw data'!SF9:SK9) -> -2.3086273 | CH9: =AVERAGE('Raw data'!SL9:SQ9) -> -0.36855407 | CI9: =AVERAGE('Raw data'!SR9:SW9) -> -1.6521752 | CJ9: =AVERAGE('Raw data'!SX9:TC9) -> -2.1420131 | CK9: =AVERAGE('Raw data'!TD9:TI9) -> -2.5785736 | CL9: =AVERAGE('Raw data'!TJ9:TO9) -> -2.2867291 | CM9: =AVERAGE('Raw data'!TP9:TU9) -> -1.8666477 | CP9: =AVERAGE(B9,E9,H9,K9,N9,Q9,T9,W9,Z9,AC9,AF9,AI9,AL9,AO9,AR9,AU9,AX9,BA9,BD9,BD9,BD9,BG9,BJ9,BM9,BP9,BS9,BV9,BY9,CB9,CE9,CH9,CK9) -> -2.441854 | CQ9: =AVERAGE(C9,F9,I9,L9,O9,R9,U9,X9,AA9,AD9,AG9,AJ9,AM9,AP9,AS9,AV9,AY9,BB9,BE9,BE9,BE9,BH9,BK9,BN9,BQ9,BT9,BW9,BZ9,CC9,CF9,CI9,CL9) -> -2.9409818 | CR9: =AVERAGE(D9,G9,J9,M9,P9,S9,V9,Y9,AB9,AE9,AH9,AK9,AN9,AQ9,AT9,AW9,AZ9,BC9,BF9,BF9,BF9,BI9,BL9,BO9,BR9,BU9,BX9,CA9,CD9,CG9,CJ9,CM9) -> -1.9212228
A10: =A9+0.01 -> 0.05 | B10: =AVERAGE('Raw data'!B10:G10) -> -2.5722866 | C10: =AVERAGE('Raw data'!H10:M10) -> -0.25907148 | D10: =AVERAGE('Raw data'!N10:S10) -> -2.0057452 | E10: =AVERAGE('Raw data'!T10:Y10) -> -2.3529791 | F10: =AVERAGE('Raw data'!Z10:AE10) -> -3.8024342 | G10: =AVERAGE('Raw data'!AF10:AK10) -> 3.6841074 | H10: =AVERAGE('Raw data'!AL10:AQ10) -> -1.4384599 | I10: =AVERAGE('Raw data'!AR10:AW10) -> -2.565301 | J10: =AVERAGE('Raw data'!AX10:BC10) -> -1.5077929 | K10: =AVERAGE('Raw data'!BD10:BI10) -> -3.2853548 | L10: =AVERAGE('Raw data'!BJ10:BO10) -> -3.9222841 | M10: =AVERAGE('Raw data'!BP10:BU10) -> -2.101413 | N10: =AVERAGE('Raw data'!BV10:CA10) -> -4.342419 | O10: =AVERAGE('Raw data'!CB10:CG10) -> -1.8373435 | P10: =AVERAGE('Raw data'!CH10:CM10) -> -1.3438329 | Q10: =AVERAGE('Raw data'!CN10:CS10) -> -1.5100987 | R10: =AVERAGE('Raw data'!CT10:CY10) -> -2.2540108 | S10: =AVERAGE('Raw data'!CZ10:DE10) -> -2.260617 | T10: =AVERAGE('Raw data'!DF10:DK10) -> -0.55913912 | U10: =AVERAGE('Raw data'!DL10:DQ10) -> -3.5544285 | V10: =AVERAGE('Raw data'!DR10:DW10) -> -3.8958981 | W10: =AVERAGE('Raw data'!DX10:EC10) -> -1.5145228 | X10: =AVERAGE('Raw data'!ED10:EI10) -> -2.3771356 | Y10: =AVERAGE('Raw data'!EJ10:EO10) -> 3.1155891 | Z10: =AVERAGE('Raw data'!EP10:EU10) -> -2.0618313 | AA10: =AVERAGE('Raw data'!EV10:FA10) -> -2.3149006 | AB10: =AVERAGE('Raw data'!FB10:FG10) -> -2.9615919 | AC10: =AVERAGE('Raw data'!FH10:FM10) -> -0.9533963 | AD10: =AVERAGE('Raw data'!FN10:FS10) -> -6.3072113 | AE10: =AVERAGE('Raw data'!FT10:FY10) -> -3.6655275 | AF10: =AVERAGE('Raw data'!FZ10:GE10) -> -5.8746776 | AG10: =AVERAGE('Raw data'!GF10:GK10) -> -7.1295601 | AH10: =AVERAGE('Raw data'!GL10:GQ10) -> -6.0204611 | AI10: =AVERAGE('Raw data'!GR10:GW10) -> -5.1515884 | AJ10: =AVERAGE('Raw data'!GX10:HC10) -> -5.8067563 | AK10: =AVERAGE('Raw data'!HD10:HI10) -> -4.2178166 | AL10: =AVERAGE('Raw data'!HJ10:HO10) -> -2.2278609 | AM10: =AVERAGE('Raw data'!HP10:HU10) -> -3.1503812 | AN10: =AVERAGE('Raw data'!HV10:IA10) -> -1.9552572 | AO10: =AVERAGE('Raw data'!IB10:IG10) -> -2.1989087 | AP10: =AVERAGE('Raw data'!IH10:IM10) -> -1.5230351 | AQ10: =AVERAGE('Raw data'!IN10:IS10) -> -1.6180042 | AR10: =AVERAGE('Raw data'!IT10:IY10) -> -1.2810614 | AS10: =AVERAGE('Raw data'!IZ10:JE10) -> 0.15430669 | AT10: =AVERAGE('Raw data'!JF10:JK10) -> -0.58655193 | AU10: =AVERAGE('Raw data'!JL10:JQ10) -> -2.3505977 | AV10: =AVERAGE('Raw data'!JR10:JW10) -> -3.2832326 | AW10: =AVERAGE('Raw data'!JX10:KC10) -> -1.0200677 | AX10: =AVERAGE('Raw data'!KD10:KI10) -> -2.480637 | AY10: =AVERAGE('Raw data'!KJ10:KO10) -> -4.6430346 | AZ10: =AVERAGE('Raw data'!KP10:KU10) -> -1.9207182 | BA10: =AVERAGE('Raw data'!KV10:LA10) -> -1.7029586 | BB10: =AVERAGE('Raw data'!LB10:LG10) -> -2.7485086 | BC10: =AVERAGE('Raw data'!LH10:LM10) -> -2.7369896 | BD10: =AVERAGE('Raw data'!LN10:LS10) -> -3.728009 | BE10: =AVERAGE('Raw data'!LT10:LY10) -> -4.0687763 | BF10: =AVERAGE('Raw data'!LZ10:ME10) -> -2.7466061 | BG10: =AVERAGE('Raw data'!MF10:MK10) -> -3.0220913 | BH10: =AVERAGE('Raw data'!ML10:MQ10) -> -2.4211493 | BI10: =AVERAGE('Raw data'!MR10:MW10) -> -4.0356786 | BJ10: =AVERAGE('Raw data'!MX10:NC10) -> -3.7174458 | BK10: =AVERAGE('Raw data'!ND10:NI10) -> -3.1541364 | BL10: =AVERAGE('Raw data'!NJ10:NO10) -> -2.0096761 | BM10: =AVERAGE('Raw data'!NP10:NU10) -> -1.6285721 | BN10: =AVERAGE('Raw data'!NV10:OA10) -> -2.098863 | BO10: =AVERAGE('Raw data'!OB10:OG10) -> -1.1808891 | BP10: =AVERAGE('Raw data'!OH10:OM10) -> -2.4995381 | BQ10: =AVERAGE('Raw data'!ON10:OS10) -> -1.7331418 | BR10: =AVERAGE('Raw data'!OT10:OY10) -> -1.3995254 | BS10: =AVERAGE('Raw data'!OZ10:PE10) -> -0.90915352 | BT10: =AVERAGE('Raw data'!PF10:PK10) -> -3.2840402 | BU10: =AVERAGE('Raw data'!PL10:PQ10) -> -1.6918035 | BV10: =AVERAGE('Raw data'!PR9:PW9) -> -1.9443692 | BW10: =AVERAGE('Raw data'!PX10:QC10) -> -1.6970923 | BX10: =AVERAGE('Raw data'!QD10:QI10) -> -2.5538684 | BY10: =AVERAGE('Raw data'!QJ10:QO10) -> -0.76723151 | BZ10: =AVERAGE('Raw data'!QP10:QU10) -> -1.7296885 | CA10: =AVERAGE('Raw data'!QV10:RA10) -> -0.9079374 | CB10: =AVERAGE('Raw data'!RB10:RG10) -> -1.2747847 | CC10: =AVERAGE('Raw data'!RH10:RM10) -> -1.1392981 | CD10: =AVERAGE('Raw data'!RN10:RS10) -> 0.45702046 | CE10: =AVERAGE('Raw data'!RT10:RY10) -> -4.189957 | CF10: =AVERAGE('Raw data'!RZ10:SE10) -> -1.0060441 | CG10: =AVERAGE('Raw data'!SF10:SK10) -> -2.665289 | CH10: =AVERAGE('Raw data'!SL10:SQ10) -> -0.73663544 | CI10: =AVERAGE('Raw data'!SR10:SW10) -> -1.9776477 | CJ10: =AVERAGE('Raw data'!SX10:TC10) -> -2.5668799 | CK10: =AVERAGE('Raw data'!TD10:TI10) -> -2.6190207 | CL10: =AVERAGE('Raw data'!TJ10:TO10) -> -2.5059613 | CM10: =AVERAGE('Raw data'!TP10:TU10) -> -2.2366862 | CP10: =AVERAGE(B10,E10,H10,K10,N10,Q10,T10,W10,Z10,AC10,AF10,AI10,AL10,AO10,AR10,AU10,AX10,BA10,BD10,BD10,BD10,BG10,BJ10,BM10,BP10,BS10,BV10,BY10,CB10,CE10,CH10,CK10) -> -2.4484876 | CQ10: =AVERAGE(C10,F10,I10,L10,O10,R10,U10,X10,AA10,AD10,AG10,AJ10,AM10,AP10,AS10,AV10,AY10,BB10,BE10,BE10,BE10,BH10,BK10,BN10,BQ10,BT10,BW10,BZ10,CC10,CF10,CI10,CL10) -> -2.8836786 | CR10: =AVERAGE(D10,G10,J10,M10,P10,S10,V10,Y10,AB10,AE10,AH10,AK10,AN10,AQ10,AT10,AW10,AZ10,BC10,BF10,BF10,BF10,BI10,BL10,BO10,BR10,BU10,BX10,CA10,CD10,CG10,CJ10,CM10) -> -1.9390506
A11: =A10+0.01 -> 0.06 | B11: =AVERAGE('Raw data'!B11:G11) -> -2.5316119 | C11: =AVERAGE('Raw data'!H11:M11) -> -0.28220023 | D11: =AVERAGE('Raw data'!N11:S11) -> -1.5727136 | E11: =AVERAGE('Raw data'!T11:Y11) -> -2.1688167 | F11: =AVERAGE('Raw data'!Z11:AE11) -> -3.4588954 | G11: =AVERAGE('Raw data'!AF11:AK11) -> 3.4944485 | H11: =AVERAGE('Raw data'!AL11:AQ11) -> -1.1838902 | I11: =AVERAGE('Raw data'!AR11:AW11) -> -2.2747055 | J11: =AVERAGE('Raw data'!AX11:BC11) -> -1.3329236 | K11: =AVERAGE('Raw data'!BD11:BI11) -> -2.9543854 | L11: =AVERAGE('Raw data'!BJ11:BO11) -> -3.6515524 | M11: =AVERAGE('Raw data'!BP11:BU11) -> -1.8706629 | N11: =AVERAGE('Raw data'!BV11:CA11) -> -4.0639488 | O11: =AVERAGE('Raw data'!CB11:CG11) -> -1.6475675 | P11: =AVERAGE('Raw data'!CH11:CM11) -> -1.1264875 | Q11: =AVERAGE('Raw data'!CN11:CS11) -> -1.2313741 | R11: =AVERAGE('Raw data'!CT11:CY11) -> -1.9624716 | S11: =AVERAGE('Raw data'!CZ11:DE11) -> -1.9319806 | T11: =AVERAGE('Raw data'!DF11:DK11) -> -0.24603129 | U11: =AVERAGE('Raw data'!DL11:DQ11) -> -3.0452965 | V11: =AVERAGE('Raw data'!DR11:DW11) -> -3.1654736 | W11: =AVERAGE('Raw data'!DX11:EC11) -> -1.1515554 | X11: =AVERAGE('Raw data'!ED11:EI11) -> -1.7025593 | Y11: =AVERAGE('Raw data'!EJ11:EO11) -> 3.3200818 | Z11: =AVERAGE('Raw data'!EP11:EU11) -> -1.4679071 | AA11: =AVERAGE('Raw data'!EV11:FA11) -> -1.848365 | AB11: =AVERAGE('Raw data'!FB11:FG11) -> -2.2445894 | AC11: =AVERAGE('Raw data'!FH11:FM11) -> -1.0444382 | AD11: =AVERAGE('Raw data'!FN11:FS11) -> -5.7958685 | AE11: =AVERAGE('Raw data'!FT11:FY11) -> -3.4495802 | AF11: =AVERAGE('Raw data'!FZ11:GE11) -> -5.7638451 | AG11: =AVERAGE('Raw data'!GF11:GK11) -> -7.2419753 | AH11: =AVERAGE('Raw data'!GL11:GQ11) -> -6.6261477 | AI11: =AVERAGE('Raw data'!GR11:GW11) -> -4.9552925 | AJ11: =AVERAGE('Raw data'!GX11:HC11) -> -5.451266 | AK11: =AVERAGE('Raw data'!HD11:HI11) -> -3.9412348 | AL11: =AVERAGE('Raw data'!HJ11:HO11) -> -2.0016608 | AM11: =AVERAGE('Raw data'!HP11:HU11) -> -2.8861694 | AN11: =AVERAGE('Raw data'!HV11:IA11) -> -1.8099284 | AO11: =AVERAGE('Raw data'!IB11:IG11) -> -2.1422921 | AP11: =AVERAGE('Raw data'!IH11:IM11) -> -1.262672 | AQ11: =AVERAGE('Raw data'!IN11:IS11) -> -1.5431141 | AR11: =AVERAGE('Raw data'!IT11:IY11) -> -1.3558047 | AS11: =AVERAGE('Raw data'!IZ11:JE11) -> 0.50665192 | AT11: =AVERAGE('Raw data'!JF11:JK11) -> -0.48788036 | AU11: =AVERAGE('Raw data'!JL11:JQ11) -> -2.054834 | AV11: =AVERAGE('Raw data'!JR11:JW11) -> -2.977944 | AW11: =AVERAGE('Raw data'!JX11:KC11) -> -0.77577187 | AX11: =AVERAGE('Raw data'!KD11:KI11) -> -2.118226 | AY11: =AVERAGE('Raw data'!KJ11:KO11) -> -4.2488657 | AZ11: =AVERAGE('Raw data'!KP11:KU11) -> -1.7131977 | BA11: =AVERAGE('Raw data'!KV11:LA11) -> -1.4304922 | BB11: =AVERAGE('Raw data'!LB11:LG11) -> -2.4283916 | BC11: =AVERAGE('Raw data'!LH11:LM11) -> -2.4845889 | BD11: =AVERAGE('Raw data'!LN11:LS11) -> -3.2432716 | BE11: =AVERAGE('Raw data'!LT11:LY11) -> -3.4810703 | BF11: =AVERAGE('Raw data'!LZ11:ME11) -> -2.3576028 | BG11: =AVERAGE('Raw data'!MF11:MK11) -> -2.5674376 | BH11: =AVERAGE('Raw data'!ML11:MQ11) -> -2.0430122 | BI11: =AVERAGE('Raw data'!MR11:MW11) -> -3.5918813 | BJ11: =AVERAGE('Raw data'!MX11:NC11) -> -3.165964 | BK11: =AVERAGE('Raw data'!ND11:NI11) -> -2.7580696 | BL11: =AVERAGE('Raw data'!NJ11:NO11) -> -1.419024 | BM11: =AVERAGE('Raw data'!NP11:NU11) -> -1.3818521 | BN11: =AVERAGE('Raw data'!NV11:OA11) -> -1.8697228 | BO11: =AVERAGE('Raw data'!OB11:OG11) -> -1.0664339 | BP11: =AVERAGE('Raw data'!OH11:OM11) -> -2.6302621 | BQ11: =AVERAGE('Raw data'!ON11:OS11) -> -1.7079636 | BR11: =AVERAGE('Raw data'!OT11:OY11) -> -1.3871759 | BS11: =AVERAGE('Raw data'!OZ11:PE11) -> -0.89963344 | BT11: =AVERAGE('Raw data'!PF11:PK11) -> -3.1330328 | BU11: =AVERAGE('Raw data'!PL11:PQ11) -> -1.5671315 | BV11: =AVERAGE('Raw data'!PR10:PW10) -> -2.0125776 | BW11: =AVERAGE('Raw data'!PX11:QC11) -> -1.4497578 | BX11: =AVERAGE('Raw data'!QD11:QI11) -> -2.774346 | BY11: =AVERAGE('Raw data'!QJ11:QO11) -> -0.60766822 | BZ11: =AVERAGE('Raw data'!QP11:QU11) -> -1.4762599 | CA11: =AVERAGE('Raw data'!QV11:RA11) -> -0.68660351 | CB11: =AVERAGE('Raw data'!RB11:RG11) -> -1.086611 | CC11: =AVERAGE('Raw data'!RH11:RM11) -> -0.85313375 | CD11: =AVERAGE('Raw data'!RN11:RS11) -> 0.69873106 | CE11: =AVERAGE('Raw data'!RT11:RY11) -> -4.4126256 | CF11: =AVERAGE('Raw data'!RZ11:SE11) -> -1.0797744 | CG11: =AVERAGE('Raw data'!SF11:SK11) -> -2.8240018 | CH11: =AVERAGE('Raw data'!SL11:SQ11) -> -0.85825996 | CI11: =AVERAGE('Raw data'!SR11:SW11) -> -2.1174466 | CJ11: =AVERAGE('Raw data'!SX11:TC11) -> -2.697728 | CK11: =AVERAGE('Raw data'!TD11:TI11) -> -2.454205 | CL11: =AVERAGE('Raw data'!TJ11:TO11) -> -2.4443014 | CM11: =AVERAGE('Raw data'!TP11:TU11) -> -2.3458228 | CP11: =AVERAGE(B11,E11,H11,K11,N11,Q11,T11,W11,Z11,AC11,AF11,AI11,AL11,AO11,AR11,AU11,AX11,BA11,BD11,BD11,BD11,BG11,BJ11,BM11,BP11,BS11,BV11,BY11,CB11,CE11,CH11,CK11) -> -2.2397912 | CQ11: =AVERAGE(C11,F11,I11,L11,O11,R11,U11,X11,AA11,AD11,AG11,AJ11,AM11,AP11,AS11,AV11,AY11,BB11,BE11,BE11,BE11,BH11,BK11,BN11,BQ11,BT11,BW11,BZ11,CC11,CF11,CI11,CL11) -> -2.5948688 | CR11: =AVERAGE(D11,G11,J11,M11,P11,S11,V11,Y11,AB11,AE11,AH11,AK11,AN11,AQ11,AT11,AW11,AZ11,BC11,BF11,BF11,BF11,BI11,BL11,BO11,BR11,BU11,BX11,CA11,CD11,CG11,CJ11,CM11) -> -1.7498741
A12: =A11+0.01 -> 0.07 | B12: =AVERAGE('Raw data'!B12:G12) -> -2.3342696 | C12: =AVERAGE('Raw data'!H12:M12) -> -0.0091339589 | D12: =AVERAGE('Raw data'!N12:S12) -> -0.97941528 | E12: =AVERAGE('Raw data'!T12:Y12) -> -1.8574419 | F12: =AVERAGE('Raw data'!Z12:AE12) -> -2.9921542 | G12: =AVERAGE('Raw data'!AF12:AK12) -> 3.2708239 | H12: =AVERAGE('Raw data'!AL12:AQ12) -> -0.83127502 | I12: =AVERAGE('Raw data'!AR12:AW12) -> -1.8406115 | J12: =AVERAGE('Raw data'!AX12:BC12) -> -1.0453017 | K12: =AVERAGE('Raw data'!BD12:BI12) -> -2.4127336 | L12: =AVERAGE('Raw data'!BJ12:BO12) -> -3.0661032 | M12: =AVERAGE('Raw data'!BP12:BU12) -> -1.4831563 | N12: =AVERAGE('Raw data'!BV12:CA12) -> -3.5590651 | O12: =AVERAGE('Raw data'!CB12:CG12) -> -1.2482254 | P12: =AVERAGE('Raw data'!CH12:CM12) -> -0.7705773 | Q12: =AVERAGE('Raw data'!CN12:CS12) -> -0.74731194 | R12: =AVERAGE('Raw data'!CT12:CY12) -> -1.4766804 | S12: =AVERAGE('Raw data'!CZ12:DE12) -> -1.3981851 | T12: =AVERAGE('Raw data'!DF12:DK12) -> 0.22775678 | U12: =AVERAGE('Raw data'!DL12:DQ12) -> -2.3315168 | V12: =AVERAGE('Raw data'!DR12:DW12) -> -2.2082778 | W12: =AVERAGE('Raw data'!DX12:EC12) -> -0.61273388 | X12: =AVERAGE('Raw data'!ED12:EI12) -> -0.90283939 | Y12: =AVERAGE('Raw data'!EJ12:EO12) -> 3.7509847 | Z12: =AVERAGE('Raw data'!EP12:EU12) -> -0.62380816 | AA12: =AVERAGE('Raw data'!EV12:FA12) -> -1.2400866 | AB12: =AVERAGE('Raw data'!FB12:FG12) -> -1.3534009 | AC12: =AVERAGE('Raw data'!FH12:FM12) -> -1.4307007 | AD12: =AVERAGE('Raw data'!FN12:FS12) -> -5.0414662 | AE12: =AVERAGE('Raw data'!FT12:FY12) -> -3.4242324 | AF12: =AVERAGE('Raw data'!FZ12:GE12) -> -5.4690023 | AG12: =AVERAGE('Raw data'!GF12:GK12) -> -7.0317044 | AH12: =AVERAGE('Raw data'!GL12:GQ12) -> -6.3456214 | AI12: =AVERAGE('Raw data'!GR12:GW12) -> -4.3475781 | AJ12: =AVERAGE('Raw data'!GX12:HC12) -> -4.7270262 | AK12: =AVERAGE('Raw data'!HD12:HI12) -> -3.3775751 | AL12: =AVERAGE('Raw data'!HJ12:HO12) -> -1.5282489 | AM12: =AVERAGE('Raw data'!HP12:HU12) -> -2.4097237 | AN12: =AVERAGE('Raw data'!HV12:IA12) -> -1.4405203 | AO12: =AVERAGE('Raw data'!IB12:IG12) -> -1.8753847 | AP12: =AVERAGE('Raw data'!IH12:IM12) -> -0.80614367 | AQ12: =AVERAGE('Raw data'!IN12:IS12) -> -1.2714387 | AR12: =AVERAGE('Raw data'!IT12:IY12) -> -1.2434405 | AS12: =AVERAGE('Raw data'!IZ12:JE12) -> 1.0121391 | AT12: =AVERAGE('Raw data'!JF12:JK12) -> -0.20979512 | AU12: =AVERAGE('Raw data'!JL12:JQ12) -> -1.5983892 | AV12: =AVERAGE('Raw data'!JR12:JW12) -> -2.4026133 | AW12: =AVERAGE('Raw data'!JX12:KC12) -> -0.40494466 | AX12: =AVERAGE('Raw data'!KD12:KI12) -> -1.5730779 | AY12: =AVERAGE('Raw data'!KJ12:KO12) -> -3.6757912 | AZ12: =AVERAGE('Raw data'!KP12:KU12) -> -1.2878698 | BA12: =AVERAGE('Raw data'!KV12:LA12) -> -1.0153776 | BB12: =AVERAGE('Raw data'!LB12:LG12) -> -1.9502086 | BC12: =AVERAGE('Raw data'!LH12:LM12) -> -2.0857318 | BD12: =AVERAGE('Raw data'!LN12:LS12) -> -2.5465185 | BE12: =AVERAGE('Raw data'!LT12:LY12) -> -2.7161802 | BF12: =AVERAGE('Raw data'!LZ12:ME12) -> -1.7817486 | BG12: =AVERAGE('Raw data'!MF12:MK12) -> -1.9774604 | BH12: =AVERAGE('Raw data'!ML12:MQ12) -> -1.438741 | BI12: =AVERAGE('Raw data'!MR12:MW12) -> -2.9821803 | BJ12: =AVERAGE('Raw data'!MX12:NC12) -> -2.4231452 | BK12: =AVERAGE('Raw data'!ND12:NI12) -> -2.1593654 | BL12: =AVERAGE('Raw data'!NJ12:NO12) -> -0.66025481 | BM12: =AVERAGE('Raw data'!NP12:NU12) -> -0.9705012 | BN12: =AVERAGE('Raw data'!NV12:OA12) -> -1.4253015 | BO12: =AVERAGE('Raw data'!OB12:OG12) -> -0.7440232 | BP12: =AVERAGE('Raw data'!OH12:OM12) -> -2.4475121 | BQ12: =AVERAGE('Raw data'!ON12:OS12) -> -1.519605 | BR12: =AVERAGE('Raw data'!OT12:OY12) -> -1.1122311 | BS12: =AVERAGE('Raw data'!OZ12:PE12) -> -0.62984546 | BT12: =AVERAGE('Raw data'!PF12:PK12) -> -2.8241589 | BU12: =AVERAGE('Raw data'!PL12:PQ12) -> -1.1634207 | BV12: =AVERAGE('Raw data'!PR11:PW11) -> -1.8880938 | BW12: =AVERAGE('Raw data'!PX12:QC12) -> -1.0668406 | BX12: =AVERAGE('Raw data'!QD12:QI12) -> -2.6966564 | BY12: =AVERAGE('Raw data'!QJ12:QO12) -> -0.33233846 | BZ12: =AVERAGE('Raw data'!QP12:QU12) -> -1.1034535 | CA12: =AVERAGE('Raw data'!QV12:RA12) -> -0.24379082 | CB12: =AVERAGE('Raw data'!RB12:RG12) -> -0.72463838 | CC12: =AVERAGE('Raw data'!RH12:RM12) -> -0.45799242 | CD12: =AVERAGE('Raw data'!RN12:RS12) -> 1.079819 | CE12: =AVERAGE('Raw data'!RT12:RY12) -> -4.3541133 | CF12: =AVERAGE('Raw data'!RZ12:SE12) -> -0.9827527 | CG12: =AVERAGE('Raw data'!SF12:SK12) -> -2.7587055 | CH12: =AVERAGE('Raw data'!SL12:SQ12) -> -0.88673201 | CI12: =AVERAGE('Raw data'!SR12:SW12) -> -2.154609 | CJ12: =AVERAGE('Raw data'!SX12:TC12) -> -2.6572161 | CK12: =AVERAGE('Raw data'!TD12:TI12) -> -2.0870124 | CL12: =AVERAGE('Raw data'!TJ12:TO12) -> -2.2306968 | CM12: =AVERAGE('Raw data'!TP12:TU12) -> -2.2165016 | CP12: =AVERAGE(B12,E12,H12,K12,N12,Q12,T12,W12,Z12,AC12,AF12,AI12,AL12,AO12,AR12,AU12,AX12,BA12,BD12,BD12,BD12,BG12,BJ12,BM12,BP12,BS12,BV12,BY12,CB12,CE12,CH12,CK12) -> -1.8497822 | CQ12: =AVERAGE(C12,F12,I12,L12,O12,R12,U12,X12,AA12,AD12,AG12,AJ12,AM12,AP12,AS12,AV12,AY12,BB12,BE12,BE12,BE12,BH12,BK12,BN12,BQ12,BT12,BW12,BZ12,CC12,CF12,CI12,CL12) -> -2.1141233 | CR12: =AVERAGE(D12,G12,J12,M12,P12,S12,V12,Y12,AB12,AE12,AH12,AK12,AN12,AQ12,AT12,AW12,AZ12,BC12,BF12,BF12,BF12,BI12,BL12,BO12,BR12,BU12,BX12,CA12,CD12,CG12,CJ12,CM12) -> -1.3613951
A13: =A12+0.01 -> 0.08 | B13: =AVERAGE('Raw data'!B13:G13) -> -1.9933778 | C13: =AVERAGE('Raw data'!H13:M13) -> 0.33229959 | D13: =AVERAGE('Raw data'!N13:S13) -> -0.31010663 | E13: =AVERAGE('Raw data'!T13:Y13) -> -1.3454845 | F13: =AVERAGE('Raw data'!Z13:AE13) -> -2.4362578 | G13: =AVERAGE('Raw data'!AF13:AK13) -> 2.9380279 | H13: =AVERAGE('Raw data'!AL13:AQ13) -> -0.32004055 | I13: =AVERAGE('Raw data'!AR13:AW13) -> -1.3343467 | J13: =AVERAGE('Raw data'!AX13:BC13) -> -0.57766652 | K13: =AVERAGE('Raw data'!BD13:BI13) -> -1.6976325 | L13: =AVERAGE('Raw data'!BJ13:BO13) -> -2.3853904 | M13: =AVERAGE('Raw data'!BP13:BU13) -> -0.88743295 | N13: =AVERAGE('Raw data'!BV13:CA13) -> -2.8583322 | O13: =AVERAGE('Raw data'!CB13:CG13) -> -0.78626524 | P13: =AVERAGE('Raw data'!CH13:CM13) -> -0.21234263 | Q13: =AVERAGE('Raw data'!CN13:CS13) -> -0.09580153 | R13: =AVERAGE('Raw data'!CT13:CY13) -> -0.80035214 | S13: =AVERAGE('Raw data'!CZ13:DE13) -> -0.70238294 | T13: =AVERAGE('Raw data'!DF13:DK13) -> 0.85875836 | U13: =AVERAGE('Raw data'!DL13:DQ13) -> -1.4252991 | V13: =AVERAGE('Raw data'!DR13:DW13) -> -1.0914374 | W13: =AVERAGE('Raw data'!DX13:EC13) -> 0.036799632 | X13: =AVERAGE('Raw data'!ED13:EI13) -> 0.0084105554 | Y13: =AVERAGE('Raw data'!EJ13:EO13) -> 4.3737475 | Z13: =AVERAGE('Raw data'!EP13:EU13) -> 0.36930496 | AA13: =AVERAGE('Raw data'!EV13:FA13) -> -0.4254011 | AB13: =AVERAGE('Raw data'!FB13:FG13) -> -0.35668505 | AC13: =AVERAGE('Raw data'!FH13:FM13) -> -0.89489633 | AD13: =AVERAGE('Raw data'!FN13:FS13) -> -4.2012899 | AE13: =AVERAGE('Raw data'!FT13:FY13) -> -3.1167681 | AF13: =AVERAGE('Raw data'!FZ13:GE13) -> -4.6662552 | AG13: =AVERAGE('Raw data'!GF13:GK13) -> -6.6131956 | AH13: =AVERAGE('Raw data'!GL13:GQ13) -> -6.0430454 | AI13: =AVERAGE('Raw data'!GR13:GW13) -> -3.7152078 | AJ13: =AVERAGE('Raw data'!GX13:HC13) -> -3.9806976 | AK13: =AVERAGE('Raw data'!HD13:HI13) -> -2.6489018 | AL13: =AVERAGE('Raw data'!HJ13:HO13) -> -0.87036285 | AM13: =AVERAGE('Raw data'!HP13:HU13) -> -1.7699735 | AN13: =AVERAGE('Raw data'!HV13:IA13) -> -0.88018122 | AO13: =AVERAGE('Raw data'!IB13:IG13) -> -1.4107304 | AP13: =AVERAGE('Raw data'!IH13:IM13) -> -0.21937562 | AQ13: =AVERAGE('Raw data'!IN13:IS13) -> -0.79566989 | AR13: =AVERAGE('Raw data'!IT13:IY13) -> -0.94206749 | AS13: =AVERAGE('Raw data'!IZ13:JE13) -> 1.6717939 | AT13: =AVERAGE('Raw data'!JF13:JK13) -> 0.19367635 | AU13: =AVERAGE('Raw data'!JL13:JQ13) -> -1.0321809 | AV13: =AVERAGE('Raw data'!JR13:JW13) -> -1.7332137 | AW13: =AVERAGE('Raw data'!JX13:KC13) -> 0.10857693 | AX13: =AVERAGE('Raw data'!KD13:KI13) -> -0.87844548 | AY13: =AVERAGE('Raw data'!KJ13:KO13) -> -2.9562849 | AZ13: =AVERAGE('Raw data'!KP13:KU13) -> -0.70049035 | BA13: =AVERAGE('Raw data'!KV13:LA13) -> -0.46247246 | BB13: =AVERAGE('Raw data'!LB13:LG13) -> -1.31558 | BC13: =AVERAGE('Raw data'!LH13:LM13) -> -1.5473951 | BD13: =AVERAGE('Raw data'!LN13:LS13) -> -1.746002 | BE13: =AVERAGE('Raw data'!LT13:LY13) -> -1.7773092 | BF13: =AVERAGE('Raw data'!LZ13:ME13) -> -1.0368568 | BG13: =AVERAGE('Raw data'!MF13:MK13) -> -1.1865706 | BH13: =AVERAGE('Raw data'!ML13:MQ13) -> -0.65594 | BI13: =AVERAGE('Raw data'!MR13:MW13) -> -2.2205535 | BJ13: =AVERAGE('Raw data'!MX13:NC13) -> -1.5105948 | BK13: =AVERAGE('Raw data'!ND13:NI13) -> -1.4146778 | BL13: =AVERAGE('Raw data'!NJ13:NO13) -> 0.28978119 | BM13: =AVERAGE('Raw data'!NP13:NU13) -> -0.35182238 | BN13: =AVERAGE('Raw data'!NV13:OA13) -> -0.80136619 | BO13: =AVERAGE('Raw data'!OB13:OG13) -> -0.1130913 | BP13: =AVERAGE('Raw data'!OH13:OM13) -> -2.1064722 | BQ13: =AVERAGE('Raw data'!ON13:OS13) -> -1.0697656 | BR13: =AVERAGE('Raw data'!OT13:OY13) -> -0.6523348 | BS13: =AVERAGE('Raw data'!OZ13:PE13) -> -0.14241894 | BT13: =AVERAGE('Raw data'!PF13:PK13) -> -2.36176 | BU13: =AVERAGE('Raw data'!PL13:PQ13) -> -0.61501203 | BV13: =AVERAGE('Raw data'!PR12:PW12) -> -1.7268196 | BW13: =AVERAGE('Raw data'!PX13:QC13) -> -0.59992032 | BX13: =AVERAGE('Raw data'!QD13:QI13) -> -2.2791261 | BY13: =AVERAGE('Raw data'!QJ13:QO13) -> 0.11446127 | BZ13: =AVERAGE('Raw data'!QP13:QU13) -> -0.57511758 | CA13: =AVERAGE('Raw data'!QV13:RA13) -> 0.29520554 | CB13: =AVERAGE('Raw data'!RB13:RG13) -> -0.21714885 | CC13: =AVERAGE('Raw data'!RH13:RM13) -> 0.049585925 | CD13: =AVERAGE('Raw data'!RN13:RS13) -> 1.6241058 | CE13: =AVERAGE('Raw data'!RT13:RY13) -> -4.0103004 | CF13: =AVERAGE('Raw data'!RZ13:SE13) -> -0.64699566 | CG13: =AVERAGE('Raw data'!SF13:SK13) -> -2.4579725 | CH13: =AVERAGE('Raw data'!SL13:SQ13) -> -0.64827514 | CI13: =AVERAGE('Raw data'!SR13:SW13) -> -1.8675627 | CJ13: =AVERAGE('Raw data'!SX13:TC13) -> -2.3896602 | CK13: =AVERAGE('Raw data'!TD13:TI13) -> -1.6221855 | CL13: =AVERAGE('Raw data'!TJ13:TO13) -> -1.8086099 | CM13: =AVERAGE('Raw data'!TP13:TU13) -> -1.9940958 | CP13: =AVERAGE(B13,E13,H13,K13,N13,Q13,T13,W13,Z13,AC13,AF13,AI13,AL13,AO13,AR13,AU13,AX13,BA13,BD13,BD13,BD13,BG13,BJ13,BM13,BP13,BS13,BV13,BY13,CB13,CE13,CH13,CK13) -> -1.2676431 | CQ13: =AVERAGE(C13,F13,I13,L13,O13,R13,U13,X13,AA13,AD13,AG13,AJ13,AM13,AP13,AS13,AV13,AY13,BB13,BE13,BE13,BE13,BH13,BK13,BN13,BQ13,BT13,BW13,BZ13,CC13,CF13,CI13,CL13) -> -1.4829524 | CR13: =AVERAGE(D13,G13,J13,M13,P13,S13,V13,Y13,AB13,AE13,AH13,AK13,AN13,AQ13,AT13,AW13,AZ13,BC13,BF13,BF13,BF13,BI13,BL13,BO13,BR13,BU13,BX13,CA13,CD13,CG13,CJ13,CM13) -> -0.80874379
