Workbook

Sheet Report
B2: Summary | F2: Subjective Comments
B3: The overall SEM is | C3: =SEM!L4 -> 1.4838088 | D3: with an upper 95% CI of | E3: =C3*SQRT(((9-1)*10)/_xlfn.CHISQ.INV(0.05,((9-1)*10))) -> 1.7077925 | F3: The overall SEM is well below the 2° that Mcginley et al. (2009) suggested was "acceptable" for clinical gait analysis measures. It is, however, still a substantial part of the overall standard deviation suggesting that measurement variability may limit the ability to be confident that measurements fall within or outside the normal range. Assessors 1 and 2 show very similar consistency whilst Assessor 3 is a little less consistent. This is largely a consequence of two particular sessions (Day 2 for participants 1 and 3) and if these are excluded results are very similar across all assessors. There do not appear to be any appreciable systematic differences between assessors. The SEM varies a little across the gait cycle being maximum around toe-off which is when the gradient of the variable is maximal. This will thus be when the magnitude of differences will be most sensitive to event timing and any differences in walking speed. | J3: °
B4: On average this is | C4: =C3/'Grey bands'!B106 -> 0.47949099 | D4: of the overall standard deviation
B7: Within Assessor Analysis | F7: Between Assessor Analysis
F8: Assessors agree to within | G8: ='Between Assessors'!F4 -> 0.6917483 | H8: of each other (on average)
B9: The SEM for Assessor 1 is | C9: =SEM!M4 -> 1.3719497 | D9: with an upper 95% CI of | E9: =C9*SQRT(((3-1)*10)/_xlfn.CHISQ.INV(0.05,((3-1)*10))) -> 1.8626107 | F9: Assessor 1 is | G9: =IF(('Between Assessors'!B4-'Between Assessors'!E4)>0,('Between Assessors'!B4-'Between Assessors'!E4),-('Between Assessors'!B4-'Between Assessors'!E4)) -> 0.12462041 | H9: =IF(('Between Assessors'!B4-'Between Assessors'!E4)>0,"greater than the average","less than the average") -> greater than the average
B10: The SEM for Assessor 2 is | C10: =SEM!N4 -> 1.3130228 | D10: with an upper 95% CI of | E10: =C10*SQRT(((3-1)*10)/_xlfn.CHISQ.INV(0.05,((3-1)*10))) -> 1.7826093 | F10: Assessor 2 is | G10: =IF(('Between Assessors'!C4-'Between Assessors'!E4)>0,('Between Assessors'!C4-'Between Assessors'!E4),-('Between Assessors'!C4-'Between Assessors'!E4)) -> 0.35258432 | H10: =IF(('Between Assessors'!C4-'Between Assessors'!E4)>0,"greater than the average","less than the average") -> less than the average
B11: The SEM for Assessor 3 is | C11: =SEM!O4 -> 1.7511684 | D11: with an upper 95% CI of | E11: =C11*SQRT(((3-1)*10)/_xlfn.CHISQ.INV(0.05,((3-1)*10))) -> 2.3774522 | F11: Assessor 3 is | G11: =IF(('Between Assessors'!D4-'Between Assessors'!E4)>0,('Between Assessors'!D4-'Between Assessors'!E4),-('Between Assessors'!D4-'Between Assessors'!E4)) -> 0.22796392 | H11: =IF(('Between Assessors'!D4-'Between Assessors'!E4)>0,"greater than the average","less than the average") -> greater than the average

Sheet Raw data
A1: Participant | B1: Participant 1 | BD1: Participant 2 | DF1: Participant 3 | FH1: Participant 4 | HJ1: Participant 5 | JL1: Participant 6 | LN1: Participant 7 | NP1: Participant 8 | PR1: Participant 9 | RT1: Participant 10
A2: Day | B2: Day 1 | T2: Day 2 | AL2: Day 3 | BD2: Day 1 | BV2: Day 2 | CN2: Day 3 | DF2: Day 1 | DX2: Day 2 | EP2: Day 3 | FH2: Day 1 | FZ2: Day 2 | GR2: Day 3 | HJ2: Day 1 | IB2: Day 2 | IT2: Day 3 | JL2: Day 1 | KD2: Day 2 | KV2: Day 3 | LN2: Day 1 | MF2: Day 2 | MX2: Day 3 | NP2: Day 1 | OH2: Day 2 | OZ2: Day 3 | PR2: Day 1 | QJ2: Day 2 | RB2: Day 3 | RT2: Day 1 | SL2: Day 2 | TD2: Day 3
A3: Assessor | B3: Assessor 1 | H3: Assessor 2 | N3: Assessor 3 | T3: Assessor 1 | Z3: Assessor 2 | AF3: Assessor 3 | AL3: Assessor 1 | AR3: Assessor 2 | AX3: Assessor 3 | BD3: Assessor 1 | BJ3: Assessor 2 | BP3: Assessor 3 | BV3: Assessor 1 | CB3: Assessor 2 | CH3: Assessor 3 | CN3: Assessor 1 | CT3: Assessor 2 | CZ3: Assessor 3 | DF3: Assessor 1 | DL3: Assessor 2 | DR3: Assessor 3 | DX3: Assessor 1 | ED3: Assessor 2 | EJ3: Assessor 3 | EP3: Assessor 1 | EV3: Assessor 2 | FB3: Assessor 3 | FH3: Assessor 1 | FN3: Assessor 2 | FT3: Assessor 3 | FZ3: Assessor 1 | GF3: Assessor 2 | GL3: Assessor 3 | GR3: Assessor 1 | GX3: Assessor 2 | HD3: Assessor 3 | HJ3: Assessor 1 | HP3: Assessor 2 | HV3: Assessor 3 | IB3: Assessor 1 | IH3: Assessor 2 | IN3: Assessor 3 | IT3: Assessor 1 | IZ3: Assessor 2 | JF3: Assessor 3 | JL3: Assessor 1 | JR3: Assessor 2 | JX3: Assessor 3 | KD3: Assessor 1 | KJ3: Assessor 2 | KP3: Assessor 3 | KV3: Assessor 1 | LB3: Assessor 2 | LH3: Assessor 3 | LN3: Assessor 1 | LT3: Assessor 2 | LZ3: Assessor 3 | MF3: Assessor 1 | ML3: Assessor 2 | MR3: Assessor 3 | MX3: Assessor 1 | ND3: Assessor 2 | NJ3: Assessor 3 | NP3: Assessor 1 | NV3: Assessor 2 | OB3: Assessor 3 | OH3: Assessor 1 | ON3: Assessor 2 | OT3: Assessor 3 | OZ3: Assessor 1 | PF3: Assessor 2 | PL3: Assessor 3 | PR3: Assessor 1 | PX3: Assessor 2 | QD3: Assessor 3 | QJ3: Assessor 1 | QP3: Assessor 2 | QV3: Assessor 3 | RB3: Assessor 1 | RH3: Assessor 2 | RN3: Assessor 3 | RT3: Assessor 1 | RZ3: Assessor 2 | SF3: Assessor 3 | SL3: Assessor 1 | SR3: Assessor 2 | SX3: Assessor 3 | TD3: Assessor 1 | TJ3: Assessor 2 | TP3: Assessor 3
A4: Trial | B4: 1 | C4: 2 | D4: 3 | E4: 4 | F4: 5 | G4: 6 | H4: 1 | I4: 2 | J4: 3 | K4: 4 | L4: 5 | M4: 6 | N4: 1 | O4: 2 | P4: 3 | Q4: 4 | R4: 5 | S4: 6 | T4: 1 | U4: 2 | V4: 3 | W4: 4 | X4: 5 | Y4: 6 | Z4: 1 | AA4: 2 | AB4: 3 | AC4: 4 | AD4: 5 | AE4: 6 | AF4: 1 | AG4: 2 | AH4: 3 | AI4: 4 | AJ4: 5 | AK4: 6 | AL4: 1 | AM4: 2 | AN4: 3 | AO4: 4 | AP4: 5 | AQ4: 6 | AR4: 1 | AS4: 2 | AT4: 3 | AU4: 4 | AV4: 5 | AW4: 6 | AX4: 1 | AY4: 2 | AZ4: 3 | BA4: 4 | BB4: 5 | BC4: 6 | BD4: 1 | BE4: 2 | BF4: 3 | BG4: 4 | BH4: 5 | BI4: 6 | BJ4: 1 | BK4: 2 | BL4: 3 | BM4: 4 | BN4: 5 | BO4: 6 | BP4: 1 | BQ4: 2 | BR4: 3 | BS4: 4 | BT4: 5 | BU4: 6 | BV4: 1 | BW4: 2 | BX4: 3 | BY4: 4 | BZ4: 5 | CA4: 6 | CB4: 1 | CC4: 2 | CD4: 3 | CE4: 4 | CF4: 5 | CG4: 6 | CH4: 1 | CI4: 2 | CJ4: 3 | CK4: 4 | CL4: 5 | CM4: 6 | CN4: 1 | CO4: 2 | CP4: 3 | CQ4: 4 | CR4: 5 | CS4: 6 | CT4: 1 | CU4: 2 | CV4: 3 | CW4: 4 | CX4: 5 | CY4: 6 | CZ4: 1 | DA4: 2 | DB4: 3 | DC4: 4 | DD4: 5 | DE4: 6 | DF4: 1 | DG4: 2 | DH4: 3 | DI4: 4 | DJ4: 5 | DK4: 6 | DL4: 1 | DM4: 2 | DN4: 3 | DO4: 4 | DP4: 5 | DQ4: 6 | DR4: 1 | DS4: 2 | DT4: 3 | DU4: 4 | DV4: 5 | DW4: 6 | DX4: 1 | DY4: 2 | DZ4: 3 | EA4: 4 | EB4: 5 | EC4: 6 | ED4: 1 | EE4: 2 | EF4: 3 | EG4: 4 | EH4: 5 | EI4: 6 | EJ4: 1 | EK4: 2 | EL4: 3 | EM4: 4 | EN4: 5 | EO4: 6 | EP4: 1 | EQ4: 2 | ER4: 3 | ES4: 4 | ET4: 5 | EU4: 6 | EV4: 1 | EW4: 2 | EX4: 3 | EY4: 4 | EZ4: 5 | FA4: 6 | FB4: 1 | FC4: 2 | FD4: 3 | FE4: 4 | FF4: 5 | FG4: 6 | FH4: 1 | FI4: 2 | FJ4: 3 | FK4: 4 | FL4: 5 | FM4: 6 | FN4: 1 | FO4: 2 | FP4: 3 | FQ4: 4 | FR4: 5 | FS4: 6 | FT4: 1 | FU4: 2 | FV4: 3 | FW4: 4 | FX4: 5 | FY4: 6 | FZ4: 1 | GA4: 2 | GB4: 3 | GC4: 4 | GD4: 5 | GE4: 6 | GF4: 1 | GG4: 2 | GH4: 3 | GI4: 4 | GJ4: 5 | GK4: 6 | GL4: 1 | GM4: 2 | GN4: 3 | GO4: 4 | GP4: 5 | GQ4: 6 | GR4: 1 | GS4: 2 | GT4: 3 | GU4: 4 | GV4: 5 | GW4: 6 | GX4: 1 | GY4: 2 | GZ4: 3 | HA4: 4 | HB4: 5 | HC4: 6 | HD4: 1 | HE4: 2 | HF4: 3 | HG4: 4 | HH4: 5 | HI4: 6 | HJ4: 1 | HK4: 2 | HL4: 3 | HM4: 4 | HN4: 5 | HO4: 6 | HP4: 1 | HQ4: 2 | HR4: 3 | HS4: 4 | HT4: 5 | HU4: 6 | HV4: 1 | HW4: 2 | HX4: 3 | HY4: 4 | HZ4: 5 | IA4: 6 | IB4: 1 | IC4: 2 | ID4: 3 | IE4: 4 | IF4: 5 | IG4: 6 | IH4: 1 | II4: 2 | IJ4: 3 | IK4: 4 | IL4: 5 | IM4: 6 | IN4: 1 | IO4: 2 | IP4: 3 | IQ4: 4 | IR4: 5 | IS4: 6 | IT4: 1 | IU4: 2 | IV4: 3 | IW4: 4 | IX4: 5 | IY4: 6 | IZ4: 1 | JA4: 2 | JB4: 3 | JC4: 4 | JD4: 5 | JE4: 6 | JF4: 1 | JG4: 2 | JH4: 3 | JI4: 4 | JJ4: 5 | JK4: 6 | JL4: 1 | JM4: 2 | JN4: 3 | JO4: 4 | JP4: 5 | JQ4: 6 | JR4: 1 | JS4: 2 | JT4: 3 | JU4: 4 | JV4: 5 | JW4: 6 | JX4: 1 | JY4: 2 | JZ4: 3 | KA4: 4 | KB4: 5 | KC4: 6 | KD4: 1 | KE4: 2 | KF4: 3 | KG4: 4 | KH4: 5 | KI4: 6 | KJ4: 1 | KK4: 2 | KL4: 3 | KM4: 4 | KN4: 5 | KO4: 6 | KP4: 1 | KQ4: 2 | KR4: 3 | KS4: 4 | KT4: 5 | KU4: 6 | KV4: 1 | KW4: 2 | KX4: 3 | KY4: 4 | KZ4: 5 | LA4: 6 | LB4: 1 | LC4: 2 | LD4: 3 | LE4: 4 | LF4: 5 | LG4: 6 | LH4: 1 | LI4: 2 | LJ4: 3 | LK4: 4 | LL4: 5 | LM4: 6 | LN4: 1 | LO4: 2 | LP4: 3 | LQ4: 4 | LR4: 5 | LS4: 6 | LT4: 1 | LU4: 2 | LV4: 3 | LW4: 4 | LX4: 5 | LY4: 6 | LZ4: 1 | MA4: 2 | MB4: 3 | MC4: 4 | MD4: 5 | ME4: 6 | MF4: 1 | MG4: 2 | MH4: 3 | MI4: 4 | MJ4: 5 | MK4: 6 | ML4: 1 | MM4: 2 | MN4: 3 | MO4: 4 | MP4: 5 | MQ4: 6 | MR4: 1 | MS4: 2 | MT4: 3 | MU4: 4 | MV4: 5 | MW4: 6 | MX4: 1 | MY4: 2 | MZ4: 3 | NA4: 4 | NB4: 5 | NC4: 6 | ND4: 1 | NE4: 2 | NF4: 3 | NG4: 4 | NH4: 5 | NI4: 6 | NJ4: 1 | NK4: 2 | NL4: 3 | NM4: 4 | NN4: 5 | NO4: 6 | NP4: 1 | NQ4: 2 | NR4: 3 | NS4: 4 | NT4: 5 | NU4: 6 | NV4: 1 | NW4: 2 | NX4: 3 | NY4: 4 | NZ4: 5 | OA4: 6 | OB4: 1 | OC4: 2 | OD4: 3 | OE4: 4 | OF4: 5 | OG4: 6 | OH4: 1 | OI4: 2 | OJ4: 3 | OK4: 4 | OL4: 5 | OM4: 6 | ON4: 1 | OO4: 2 | OP4: 3 | OQ4: 4 | OR4: 5 | OS4: 6 | OT4: 1 | OU4: 2 | OV4: 3 | OW4: 4 | OX4: 5 | OY4: 6 | OZ4: 1 | PA4: 2 | PB4: 3 | PC4: 4 | PD4: 5 | PE4: 6 | PF4: 1 | PG4: 2 | PH4: 3 | PI4: 4 | PJ4: 5 | PK4: 6 | PL4: 1 | PM4: 2 | PN4: 3 | PO4: 4 | PP4: 5 | PQ4: 6 | PR4: 1 | PS4: 2 | PT4: 3 | PU4: 4 | PV4: 5 | PW4: 6 | PX4: 1 | PY4: 2 | PZ4: 3 | QA4: 4 | QB4: 5 | QC4: 6 | QD4: 1 | QE4: 2 | QF4: 3 | QG4: 4 | QH4: 5 | QI4: 6 | QJ4: 1 | QK4: 2 | QL4: 3 | QM4: 4 | QN4: 5 | QO4: 6 | QP4: 1 | QQ4: 2 | QR4: 3 | QS4: 4 | QT4: 5 | QU4: 6 | QV4: 1 | QW4: 2 | QX4: 3 | QY4: 4 | QZ4: 5 | RA4: 6 | RB4: 1 | RC4: 2 | RD4: 3 | RE4: 4 | RF4: 5 | RG4: 6 | RH4: 1 | RI4: 2 | RJ4: 3 | RK4: 4 | RL4: 5 | RM4: 6 | RN4: 1 | RO4: 2 | RP4: 3 | RQ4: 4 | RR4: 5 | RS4: 6 | RT4: 1 | RU4: 2 | RV4: 3 | RW4: 4 | RX4: 5 | RY4: 6 | RZ4: 1 | SA4: 2 | SB4: 3 | SC4: 4 | SD4: 5 | SE4: 6 | SF4: 1 | SG4: 2 | SH4: 3 | SI4: 4 | SJ4: 5 | SK4: 6 | SL4: 1 | SM4: 2 | SN4: 3 | SO4: 4 | SP4: 5 | SQ4: 6 | SR4: 1 | SS4: 2 | ST4: 3 | SU4: 4 | SV4: 5 | SW4: 6 | SX4: 1 | SY4: 2 | SZ4: 3 | TA4: 4 | TB4: 5 | TC4: 6 | TD4: 1 | TE4: 2 | TF4: 3 | TG4: 4 | TH4: 5 | TI4: 6 | TJ4: 1 | TK4: 2 | TL4: 3 | TM4: 4 | TN4: 5 | TO4: 6 | TP4: 1 | TQ4: 2 | TR4: 3 | TS4: 4 | TT4: 5 | TU4: 6
A5: =0 -> 0 | B5: -0.3225368 | C5: -1.1106094 | D5: 2.1133506 | E5: -0.80535734 | F5: -0.39751866 | G5: -0.99994153 | H5: 3.4643354 | I5: -0.91330558 | J5: 2.9860952 | K5: 1.9238261 | L5: 1.6869122 | M5: 1.8793349 | N5: -2.7453496 | O5: -1.7432045 | P5: -0.67466837 | Q5: -2.1481948 | T5: -0.86828357 | U5: 0.34729055 | V5: -1.1243747 | W5: -1.3589703 | X5: -0.6190033 | Y5: -0.061002858 | Z5: -0.64787638 | AA5: -2.8829451 | AB5: -2.7729554 | AC5: -5.5873494 | AD5: -3.4028428 | AE5: -2.7585721 | AF5: 9.972476 | AG5: 9.3495579 | AH5: 10.166665 | AI5: 7.8869252 | AJ5: 8.4995966 | AK5: 9.2154217 | AL5: 0.75997972 | AM5: 0.5292173 | AN5: 0.52766764 | AO5: 0.12715845 | AP5: 1.1656512 | AQ5: -0.98219681 | AR5: -1.5995766 | AS5: -0.76048708 | AT5: -0.61916584 | AU5: -1.6274168 | AV5: -1.3127217 | AW5: -1.784899 | AX5: -0.32594472 | AY5: 1.1523628 | AZ5: 0.75477672 | BA5: -1.1793025 | BB5: -0.54940063 | BC5: -0.82858741 | BD5: -0.51745176 | BE5: -1.6045229 | BF5: -2.4553697 | BG5: -1.0201408 | BH5: -2.0171719 | BI5: -0.10444707 | BJ5: -2.3405879 | BK5: -1.4863225 | BL5: -1.6755974 | BM5: -2.6531217 | BN5: -0.48374012 | BP5: -0.89816201 | BQ5: 0.92588824 | BR5: 0.2442013 | BS5: 0.67989582 | BT5: 0.92267746 | BU5: -0.23337743 | BV5: -3.4236193 | BW5: -1.8059621 | BX5: -1.890198 | BY5: -4.7820907 | BZ5: -0.72356445 | CA5: -0.25761846 | CB5: -0.4621824 | CC5: -0.29175231 | CD5: -0.0099225231 | CE5: 1.7589331 | CF5: -0.11532114 | CH5: 0.65599978 | CI5: 0.86548311 | CJ5: -0.42812285 | CK5: 0.29018947 | CL5: 0.37596875 | CM5: 1.3145469 | CN5: 0.23557669 | CO5: 0.6728912 | CP5: 0.66182005 | CQ5: -0.38404244 | CR5: -0.19717677 | CS5: 1.8651683 | CT5: -0.14015123 | CU5: -0.62736821 | CV5: -0.081184559 | CW5: -1.0530837 | CX5: -0.4678551 | CY5: -1.1292613 | CZ5: 0.63018578 | DA5: 0.65058011 | DB5: -0.79507679 | DC5: -0.13913636 | DD5: -0.46800286 | DE5: -0.68511373 | DF5: 1.1471289 | DG5: 1.3924112 | DH5: 1.2247285 | DI5: 1.8103499 | DJ5: 1.7844758 | DK5: 1.5339564 | DL5: -0.57007432 | DM5: -1.4395816 | DN5: -2.7381752 | DO5: -0.89047247 | DP5: -2.5340703 | DQ5: -1.2134702 | DR5: -2.9098241 | DS5: -2.2866957 | DT5: -3.7219672 | DU5: -2.9603593 | DV5: -3.5202227 | DW5: -3.8099744 | DX5: -0.18281513 | DY5: -0.55239314 | DZ5: -0.32846987 | EA5: -0.59146547 | EB5: -0.4196156 | EC5: 1.9843889 | ED5: -0.22701283 | EE5: -1.5117198 | EF5: -4.1358886 | EG5: -1.2237995 | EH5: -2.6381881 | EI5: -2.5747671 | EJ5: 4.1967998 | EK5: 3.8882365 | EL5: 3.2022638 | EM5: 3.0080252 | EN5: 4.6665206 | EO5: 3.6456332 | EP5: -2.257714 | EQ5: 0.055711374 | ER5: -1.326466 | ES5: -2.5553453 | ET5: -2.3031089 | EU5: 0.62302202 | EV5: -1.0835247 | EW5: -0.78778249 | EX5: -1.4845043 | EY5: -0.64131027 | EZ5: -0.090625957 | FA5: -0.63003707 | FB5: -3.50032 | FC5: -3.3704298 | FD5: -3.2906206 | FE5: -2.5488253 | FF5: -3.0424101 | FG5: -2.6894598 | FH5: 4.274384 | FI5: 4.4760213 | FJ5: 5.1392374 | FK5: 3.4444795 | FL5: 3.7360919 | FM5: 2.3933136 | FN5: -4.8519173 | FO5: -5.7763643 | FP5: -3.7063298 | FQ5: -2.7010174 | FR5: -4.853147 | FS5: -3.9279413 | FT5: -1.3303046 | FU5: 0.86411422 | FV5: 1.8770847 | FW5: -0.86975664 | FX5: -5.489953 | FY5: 3.0768344 | FZ5: -0.93389529 | GA5: -2.2024219 | GB5: -0.49460292 | GC5: -2.0150435 | GD5: -2.2743902 | GE5: -2.710427 | GF5: -3.3681605 | GG5: -3.4641984 | GH5: -5.2677884 | GI5: -3.5991411 | GJ5: -0.6648277 | GK5: -2.6814134 | GL5: -1.4954941 | GM5: 0.0060198139 | GN5: 1.3264177 | GO5: 0.27154893 | GP5: -0.32861128 | GQ5: -1.7433422 | GR5: -0.56960797 | GS5: -2.4869905 | GT5: -1.6353024 | GU5: -2.6701162 | GV5: -2.3356078 | GW5: -2.6063545 | GX5: -2.1134009 | GY5: -3.6190004 | GZ5: -2.9475548 | HA5: -4.0424595 | HB5: -2.0946229 | HC5: -3.1686063 | HD5: -1.4004419 | HE5: -1.3550267 | HF5: -0.73346263 | HG5: -0.31260633 | HH5: -0.44356027 | HI5: -2.5483122 | HJ5: 0.67376471 | HK5: 1.1913276 | HL5: 0.1693802 | HM5: 2.0373232 | HN5: -0.11610164 | HO5: 0.42637038 | HP5: -2.2661562 | HQ5: -1.4946427 | HR5: -0.12236592 | HS5: 0.21728957 | HT5: 0.38951382 | HU5: 0.021688182 | HV5: 0.28174293 | HW5: 0.6102941 | HX5: 2.044158 | HY5: 0.91444319 | HZ5: 3.1241596 | IA5: 1.1728535 | IB5: 1.8605241 | IC5: -0.30448335 | ID5: 0.40249538 | IE5: 1.4018986 | IF5: 0.22078544 | IG5: 0.20982575 | IH5: -1.2794477 | II5: -1.1171168 | IJ5: -0.25797406 | IK5: 1.6759036 | IL5: 0.50054169 | IM5: 1.6061172 | IN5: 0.62531167 | IO5: 3.1129665 | IP5: -0.4616591 | IQ5: 2.7135184 | IR5: 1.9500632 | IS5: 1.3748151 | IT5: 1.5427221 | IU5: 2.2539058 | IV5: 1.5058718 | IW5: 3.1411664 | IX5: 3.3684063 | IY5: 2.7072549 | IZ5: 1.6990914 | JA5: -0.63447946 | JB5: 3.990046 | JC5: 2.5408418 | JD5: -0.33979088 | JE5: 1.8575705 | JF5: 1.951933 | JG5: 0.48892581 | JH5: 2.5188501 | JI5: 1.0067862 | JJ5: 0.93219292 | JK5: 1.1148094 | JL5: -1.3589873 | JM5: -1.1923532 | JN5: -1.4316422 | JO5: -1.7715212 | JP5: -1.7865955 | JQ5: -1.5344541 | JR5: -1.5055407 | JS5: -2.6671126 | JT5: -3.5395536 | JU5: -0.91121286 | JV5: -2.5676992 | JW5: -3.2851593 | JX5: 1.1518942 | JY5: 0.29080087 | JZ5: 0.020058164 | KA5: -0.52813846 | KB5: 1.2217389 | KC5: 0.60143733 | KD5: -1.6144416 | KE5: -1.1408781 | KF5: -1.7073866 | KG5: -2.1470196 | KH5: -1.5356425 | KI5: -1.0339518 | KJ5: -1.5892159 | KK5: -4.0358348 | KL5: -2.9208598 | KM5: -4.3653293 | KN5: -4.6378627 | KO5: -4.6684928 | KP5: -0.47568795 | KQ5: 1.3593613 | KR5: 1.6947579 | KS5: -0.49736643 | KT5: 0.096220218 | KU5: -0.19415924 | KV5: -0.1450894 | KW5: 0.25275517 | KX5: 0.10912204 | KY5: 0.17382196 | KZ5: -1.5154465 | LA5: -0.14906205 | LB5: -1.6568171 | LC5: -0.71947777 | LD5: -1.193267 | LE5: -2.1598589 | LF5: -2.2922027 | LG5: -2.8533361 | LH5: -1.1513375 | LI5: -0.99929518 | LJ5: -0.19715807 | LK5: -1.3650697 | LL5: -3.5843539 | LM5: -1.0294331 | LN5: -3.3383491 | LO5: -0.26335749 | LP5: -2.866689 | LQ5: -2.5380449 | LR5: -1.0836351 | LS5: -4.3221607 | LT5: -6.0336971 | LU5: -2.885329 | LV5: -2.7466826 | LW5: -2.0843062 | LX5: -2.4765353 | LY5: -2.2488766 | LZ5: -2.4826238 | MA5: -1.3529608 | MB5: -0.52663022 | MC5: -1.6951706 | MD5: -2.5931675 | ME5: -1.8944931 | MF5: -2.4572878 | MG5: -1.5071698 | MH5: -1.7323853 | MI5: -1.6586128 | ML5: -0.45243353 | MM5: -1.3379666 | MN5: -1.214352 | MO5: -0.54063231 | MP5: -1.7352399 | MQ5: 0.15062141 | MR5: -1.0319998 | MS5: -3.3397501 | MT5: -3.6358347 | MU5: -1.7675632 | MV5: -0.58334559 | MW5: -1.9911278 | MX5: -4.4538407 | MY5: -4.859643 | MZ5: -2.5218103 | NA5: -3.2755694 | NB5: -2.4217696 | NC5: -1.2073617 | ND5: -2.8997827 | NE5: -1.4632007 | NF5: -1.1081965 | NG5: -1.2793823 | NH5: -0.73964339 | NI5: -1.22885 | NJ5: -1.5014641 | NK5: -3.1277595 | NL5: -2.494036 | NM5: 0.66790634 | NN5: -1.9523841 | NO5: -1.6519943 | NP5: 3.0490572 | NQ5: -0.095404252 | NR5: 1.333382 | NS5: 0.29309353 | NT5: 0.36507735 | NU5: 0.66163599 | NV5: 2.5766764 | NW5: -0.091403693 | NX5: 1.0596019 | NY5: 0.95073682 | NZ5: 0.33810115 | OA5: -0.41749072 | OB5: 3.6982749 | OC5: 1.773008 | OD5: 1.5195302 | OE5: 1.8462346 | OF5: 2.1278253 | OG5: 4.5636706 | OH5: 0.55445105 | OI5: 1.3402656 | OJ5: 0.87421834 | OK5: 0.62666988 | OL5: 0.03696217 | OM5: 2.4106674 | ON5: 2.2642431 | OO5: 1.8562782 | OP5: 0.65374863 | OQ5: 0.85108334 | OR5: -1.2677276 | OS5: 1.4834119 | OT5: 2.4165878 | OU5: 1.9743664 | OV5: 2.0543704 | OW5: -0.087571181 | OX5: 1.5708152 | OY5: 2.9741318 | OZ5: 2.1318762 | PA5: 4.114965 | PB5: 3.2278209 | PC5: 4.0008287 | PD5: 3.7540448 | PE5: 2.8534017 | PF5: -0.10946961 | PG5: -0.25374702 | PH5: -1.7366738 | PI5: -0.32737294 | PJ5: 2.0488734 | PK5: -0.49412203 | PL5: 4.3694749 | PM5: 1.5818574 | PN5: -0.20571396 | PO5: 1.9800558 | PP5: -0.2948162 | PQ5: 1.6456653 | PR5: -0.094262227 | PS5: 1.8627338 | PT5: -0.38236701 | PU5: 0.6771239 | PV5: 0.48674753 | PX5: 0.52046961 | PY5: 0.24708395 | PZ5: 1.2077891 | QA5: -1.2556481 | QB5: -0.6671989 | QC5: -2.4709802 | QD5: 1.4993213 | QE5: -0.39815575 | QF5: -0.21991298 | QG5: 0.48557067 | QH5: 0.14866966 | QI5: 0.092639633 | QJ5: 1.7076271 | QK5: 0.93840379 | QL5: 0.42947748 | QM5: 1.8157837 | QN5: -0.65750694 | QO5: -0.42027625 | QP5: -0.5790481 | QQ5: 0.0038810954 | QR5: 0.10587724 | QS5: -1.3099301 | QT5: 0.29322881 | QU5: -0.050708398 | QV5: 0.27231321 | QW5: 1.884508 | QX5: 0.56780958 | QY5: 0.42469871 | QZ5: 0.73213536 | RA5: 0.54324555 | RB5: 0.86144537 | RC5: 1.719395 | RD5: 1.156785 | RE5: 1.6600422 | RF5: -0.1798031 | RG5: 0.15506583 | RH5: -0.66723907 | RI5: 0.44750369 | RJ5: -0.03646329 | RK5: -0.31382167 | RL5: 2.3986742 | RM5: 0.81759894 | RN5: 3.4421394 | RO5: 3.3577499 | RP5: 2.5504429 | RQ5: 3.3878362 | RR5: 3.7783604 | RS5: 3.7915351 | RT5: 1.7376317 | RU5: 0.93759537 | RV5: 2.4472733 | RW5: 1.151773 | RX5: 1.9900901 | RY5: -0.2597068 | RZ5: 5.886796 | SA5: 5.1930261 | SB5: 3.9674129 | SC5: 2.9883888 | SD5: 1.8172375 | SE5: 2.7473476 | SF5: -1.3083063 | SG5: 2.8381934 | SH5: 1.8252321 | SI5: 2.8125992 | SJ5: 3.8837559 | SK5: 1.7958506 | SL5: 2.629174 | SM5: 3.4436572 | SN5: 2.4159749 | SO5: 2.4968603 | SP5: 3.0900383 | SQ5: 3.6184523 | SR5: 1.9011539 | SS5: 2.4718604 | ST5: 2.7272198 | SU5: 2.7524033 | SV5: 2.3850117 | SW5: 1.2316511 | SX5: 0.83348608 | SY5: 2.1497381 | SZ5: 2.1637669 | TA5: 1.0118473 | TB5: 2.1494119 | TC5: 2.3362281 | TD5: 0.34470218 | TE5: -3.5568132 | TF5: 1.1145295 | TG5: 1.2476074 | TH5: 0.42281476 | TI5: 1.1807377 | TJ5: 2.1627452 | TK5: 0.81279254 | TL5: 2.2920263 | TM5: 1.263057 | TN5: 2.0031807 | TO5: -1.0970837 | TP5: 2.347595 | TQ5: 1.5767053 | TR5: 0.74875003 | TS5: 1.2738388 | TT5: 3.7125316 | TU5: 3.3196738
A6: =A5+0.01 -> 0.01 | B6: -1.1656139 | C6: -1.5785249 | D6: 1.1432494 | E6: -1.8164867 | F6: -1.0551774 | G6: -1.7556141 | H6: 2.3908125 | I6: -0.81934348 | J6: 1.9023739 | K6: 1.1947497 | L6: 1.2614368 | M6: 1.2522372 | N6: -3.0891717 | O6: -2.2245936 | P6: -0.65934547 | Q6: -2.6488719 | T6: -1.5799545 | U6: -0.48343054 | V6: -1.7068654 | W6: -1.8930772 | X6: -1.179611 | Y6: -0.8133145 | Z6: -1.1112039 | AA6: -3.9795525 | AB6: -3.5741934 | AC6: -5.7818056 | AD6: -3.5668279 | AE6: -2.7352296 | AF6: 8.6276103 | AG6: 6.9240465 | AH6: 8.6079156 | AI6: 6.4430912 | AJ6: 7.5307008 | AK6: 8.7040841 | AL6: -0.061740495 | AM6: -0.15398888 | AN6: -0.416953 | AO6: -0.59075278 | AP6: 0.20407696 | AQ6: -1.5300888 | AR6: -2.1171878 | AS6: -1.5339215 | AT6: -1.3074822 | AU6: -2.0838295 | AV6: -2.059703 | AW6: -2.2098066 | AX6: -0.94879428 | AY6: 0.62671978 | AZ6: 0.18428243 | BA6: -1.8415335 | BB6: -0.85578861 | BC6: -1.4935529 | BD6: -1.5225077 | BE6: -2.1300607 | BF6: -3.5974899 | BG6: -2.0183694 | BH6: -2.5241599 | BI6: -1.0801715 | BJ6: -3.1594124 | BK6: -2.4648578 | BL6: -2.5067264 | BM6: -3.1695685 | BN6: -1.6248538 | BP6: -1.597798 | BQ6: -0.27214419 | BR6: -0.65309192 | BS6: -0.090749729 | BT6: 0.011158903 | BU6: -0.9645638 | BV6: -4.7053949 | BW6: -2.6736826 | BX6: -2.9047136 | BY6: -5.3579656 | BZ6: -1.207712 | CA6: -1.938632 | CB6: -0.99664113 | CC6: -1.081 | CD6: -0.42304866 | CE6: -0.14226922 | CF6: -0.43897286 | CH6: -0.41313794 | CI6: 0.10624438 | CJ6: -1.0503004 | CK6: -0.27167504 | CL6: -0.038356273 | CM6: 0.25409744 | CN6: -0.41990248 | CO6: -0.48254747 | CP6: -0.37736094 | CQ6: -1.1066042 | CR6: -0.54730089 | CS6: 0.64406819 | CT6: -0.69226795 | CU6: -1.2598198 | CV6: -0.60247912 | CW6: -1.8617819 | CX6: -0.94668295 | CY6: -1.7502134 | CZ6: -0.35122131 | DA6: -0.34001348 | DB6: -1.6469079 | DC6: -1.1287801 | DD6: -1.2852259 | DE6: -1.5582164 | DF6: 0.44708562 | DG6: 0.72531584 | DH6: 0.57719978 | DI6: 0.73475154 | DJ6: 0.76594423 | DK6: 0.79012003 | DL6: -1.6227566 | DM6: -2.4941863 | DN6: -3.3731545 | DO6: -2.415342 | DP6: -3.437272 | DQ6: -2.1715807 | DR6: -3.2144121 | DS6: -2.5861962 | DT6: -4.5751337 | DU6: -4.1721033 | DV6: -4.4629337 | DW6: -4.9449435 | DX6: -0.62365091 | DY6: -1.0953214 | DZ6: -1.0259234 | EA6: -1.1391767 | EB6: -0.98562744 | EC6: 0.95668694 | ED6: -1.0395675 | EE6: -2.3288697 | EF6: -4.1388096 | EG6: -1.6881371 | EH6: -3.3451871 | EI6: -2.9696805 | EJ6: 3.8208286 | EK6: 4.0371601 | EL6: 2.4299229 | EM6: 2.527177 | EN6: 3.9907829 | EO6: 4.3344027 | EP6: -2.6995809 | EQ6: -0.76832137 | ER6: -2.0540993 | ES6: -3.0860525 | ET6: -2.8983793 | EU6: 0.24202877 | EV6: -1.5714047 | EW6: -1.8131843 | EX6: -2.4791057 | EY6: -1.0421147 | EZ6: -1.133056 | FA6: -1.6060567 | FB6: -3.8734977 | FC6: -3.6055913 | FD6: -4.1462784 | FE6: -3.0448713 | FF6: -3.1692787 | FG6: -3.1469168 | FH6: 2.0776145 | FI6: 3.2562051 | FJ6: 3.4326768 | FK6: 1.735344 | FL6: 2.6284225 | FM6: 1.4142735 | FN6: -5.8872611 | FO6: -6.5950975 | FP6: -4.7540385 | FQ6: -3.5080635 | FR6: -6.1444465 | FS6: -5.0453625 | FT6: -2.4086934 | FU6: -0.33787426 | FV6: 0.43719802 | FW6: -2.1803279 | FX6: -5.8211781 | FY6: 1.8388437 | FZ6: -1.9672458 | GA6: -3.2749093 | GB6: -4.0832406 | GC6: -2.8119359 | GD6: -2.9937028 | GE6: -4.33545 | GF6: -4.3506175 | GG6: -5.2598126 | GH6: -6.3432224 | GI6: -5.4114596 | GJ6: -1.4488735 | GK6: -4.0797061 | GL6: -3.0182803 | GM6: -2.1650222 | GN6: -1.432795 | GO6: -1.6588697 | GP6: -1.3995884 | GQ6: -2.5007117 | GR6: -1.926432 | GS6: -4.2056851 | GT6: -1.8470792 | GU6: -4.4721694 | GV6: -3.9717984 | GW6: -3.316582 | GX6: -3.4430281 | GY6: -4.6748261 | GZ6: -4.6210205 | HA6: -4.5836736 | HB6: -3.4519617 | HC6: -4.1476969 | HD6: -2.2444465 | HE6: -2.0974509 | HF6: -2.1973088 | HG6: -1.1773697 | HH6: -1.6855951 | HI6: -3.6760263 | HJ6: -0.53564528 | HK6: -0.05283649 | HL6: -1.1101823 | HM6: 0.8116955 | HN6: -1.3701604 | HO6: -0.3262969 | HP6: -3.339827 | HQ6: -2.6687644 | HR6: -1.1798612 | HS6: -1.1138765 | HT6: -0.7328418 | HU6: -0.72729007 | HV6: -0.87916751 | HW6: -0.9129956 | HX6: 0.79602554 | HY6: -0.091870932 | HZ6: 1.6357398 | IA6: 0.083758381 | IB6: 1.1375843 | IC6: -1.0067411 | ID6: -1.0122713 | IE6: 0.17988268 | IF6: -0.93498873 | IG6: -0.4220969 | IH6: -2.2522578 | II6: -2.0361176 | IJ6: -0.68617943 | IK6: 0.91050871 | IL6: -0.020817277 | IM6: 0.80740702 | IN6: -0.10022048 | IO6: 1.9489832 | IP6: -1.2015089 | IQ6: 1.096321 | IR6: 0.90340404 | IS6: 0.7642235 | IT6: 0.91624582 | IU6: 0.92056829 | IV6: 0.18774982 | IW6: 2.1945312 | IX6: 2.2805198 | IY6: 1.3185172 | IZ6: 0.85814243 | JA6: -1.4367144 | JB6: 3.5436105 | JC6: 1.689721 | JD6: -1.1026857 | JE6: 1.4674129 | JF6: 1.0545379 | JG6: -0.46819668 | JH6: 1.8969011 | JI6: 0.63912959 | JJ6: 0.033897933 | JK6: 0.51167726 | JL6: -1.7346676 | JM6: -1.4790051 | JN6: -1.9039951 | JO6: -2.396897 | JP6: -2.0855173 | JQ6: -1.7209062 | JR6: -2.1803611 | JS6: -3.0602019 | JT6: -4.0868458 | JU6: -2.1909225 | JV6: -2.6882414 | JW6: -3.493987 | JX6: 0.23869564 | JY6: -0.62821229 | JZ6: -0.60040065 | KA6: -1.0454193 | KB6: 0.66533345 | KC6: 0.17310174 | KD6: -1.8956422 | KE6: -1.6018131 | KF6: -2.1893657 | KG6: -2.9307772 | KH6: -2.1312421 | KI6: -1.4831086 | KJ6: -2.1726962 | KK6: -5.0019356 | KL6: -3.3519652 | KM6: -4.7700401 | KN6: -4.9162503 | KO6: -5.0940188 | KP6: -1.1713131 | KQ6: 0.11262196 | KR6: 0.78455785 | KS6: -1.0631828 | KT6: -0.35755825 | KU6: -0.74134083 | KV6: -0.86162444 | KW6: -0.14997554 | KX6: -0.41631892 | KY6: -0.57502851 | KZ6: -2.0287673 | LA6: -0.77825978 | LB6: -2.1394713 | LC6: -1.2466656 | LD6: -1.5996686 | LE6: -2.6035515 | LF6: -2.6359718 | LG6: -3.3833836 | LH6: -1.5377921 | LI6: -1.4099316 | LJ6: -0.78562427 | LK6: -1.8804702 | LL6: -4.216283 | LM6: -2.0104467 | LN6: -4.1288056 | LO6: -1.6933512 | LP6: -3.4731024 | LQ6: -3.3836766 | LR6: -2.3930813 | LS6: -4.1191783 | LT6: -6.5774163 | LU6: -3.7426904 | LV6: -3.5048446 | LW6: -3.1200811 | LX6: -3.1266121 | LY6: -2.8586448 | LZ6: -3.1437261 | MA6: -2.077935 | MB6: -1.2344771 | MC6: -2.294202 | MD6: -3.4321435 | ME6: -2.4519018 | MF6: -2.9156386 | MG6: -2.717479 | MH6: -2.806919 | MI6: -1.7680828 | ML6: -1.4857033 | MM6: -1.7822564 | MN6: -1.6737052 | MO6: -1.3348882 | MP6: -2.1548524 | MQ6: -0.82546872 | MR6: -1.3965271 | MS6: -3.723321 | MT6: -5.0699487 | MU6: -3.1864347 | MV6: -1.6818272 | MW6: -2.6659349 | MX6: -4.9001838 | MY6: -5.2480493 | MZ6: -2.8947856 | NA6: -3.7203648 | NB6: -3.0435149 | NC6: -1.8507847 | ND6: -3.3926082 | NE6: -2.447185 | NF6: -2.4464461 | NG6: -1.7402114 | NH6: -1.4359414 | NI6: -1.6657645 | NJ6: -1.9806931 | NK6: -2.9879636 | NL6: -2.8949941 | NM6: -0.031776182 | NN6: -2.3658852 | NO6: -2.2368265 | NP6: 1.8805818 | NQ6: -0.75039899 | NR6: -0.013248091 | NS6: -0.81587309 | NT6: -0.47530218 | NU6: -0.4291805 | NV6: 1.9241853 | NW6: -0.72395927 | NX6: 0.15858484 | NY6: -0.33214273 | NZ6: -0.97252352 | OA6: -1.5864688 | OB6: 2.3875963 | OC6: 0.19853737 | OD6: 0.02987071 | OE6: 0.52239451 | OF6: 1.5160929 | OG6: 2.7718955 | OH6: -0.56992899 | OI6: -0.21480849 | OJ6: 0.092686461 | OK6: -0.6494733 | OL6: -1.2258123 | OM6: 1.6174888 | ON6: 1.5474339 | OO6: 1.2291806 | OP6: -0.31368865 | OQ6: 0.076735842 | OR6: -2.1397667 | OS6: 0.68481867 | OT6: 1.2953251 | OU6: 1.1636453 | OV6: 0.91099396 | OW6: -1.2191709 | OX6: 0.46219589 | OY6: 1.9711318 | OZ6: 1.1256315 | PA6: 3.3641086 | PB6: 1.933944 | PC6: 2.879883 | PD6: 2.1957694 | PE6: 0.87985341 | PF6: -1.545709 | PG6: -1.3268251 | PH6: -2.9255792 | PI6: -1.1752983 | PJ6: 0.85000271 | PK6: -1.4354717 | PL6: 2.7115552 | PM6: 0.42741035 | PN6: -0.90308897 | PO6: 0.76857243 | PP6: -1.2731826 | PQ6: 0.34661213 | PR6: -0.81895462 | PS6: 0.90353202 | PT6: -0.95543138 | PU6: -0.63242633 | PV6: -0.060019616 | PX6: -0.32264981 | PY6: -0.038994251 | PZ6: 0.75621486 | QA6: -1.7125131 | QB6: -1.181763 | QC6: -2.9822709 | QD6: 0.18617629 | QE6: -1.0710816 | QF6: -0.95602847 | QG6: -0.079056504 | QH6: -1.5522193 | QI6: -1.1888384 | QJ6: 1.3987896 | QK6: 0.4085574 | QL6: -0.19326361 | QM6: 1.0016379 | QN6: -0.92279238 | QO6: -0.78497883 | QP6: -1.2330937 | QQ6: -0.33055642 | QR6: -0.59968364 | QS6: -1.9298626 | QT6: -0.38627857 | QU6: -0.81385045 | QV6: -0.071946192 | QW6: 1.7381624 | QX6: -0.95178088 | QY6: -0.22416404 | QZ6: 0.24310054 | RA6: -0.1773584 | RB6: 0.4110607 | RC6: 0.91216274 | RD6: -0.18096484 | RE6: 0.76782724 | RF6: -0.82857701 | RG6: -0.50130233 | RH6: -1.317582 | RI6: -0.012382641 | RJ6: -1.0735407 | RK6: -1.249771 | RL6: 1.8200123 | RM6: 0.20294231 | RN6: 2.7233496 | RO6: 2.4525713 | RP6: 1.5052343 | RQ6: 2.8709207 | RR6: 2.4480907 | RS6: 2.2733539 | RT6: 0.24638518 | RU6: -0.58985674 | RV6: 1.0100516 | RW6: -0.76388235 | RX6: -0.65724777 | RY6: -2.1409186 | RZ6: 4.1170619 | SA6: 3.4782464 | SB6: 2.4675942 | SC6: 1.7991908 | SD6: 0.14145921 | SE6: 1.614939 | SF6: -1.9565716 | SG6: 1.2242208 | SH6: 0.0665168 | SI6: 1.2020977 | SJ6: 2.1623267 | SK6: 0.55968328 | SL6: 1.74068 | SM6: 2.8174637 | SN6: 1.4881291 | SO6: 1.6004888 | SP6: 2.2703289 | SQ6: 2.4486422 | SR6: 0.96410237 | SS6: 1.0283367 | ST6: 1.2510142 | SU6: 1.7009404 | SV6: 0.60893841 | SW6: 0.18575199 | SX6: 0.13192415 | SY6: 0.76351711 | SZ6: 0.95879056 | TA6: -0.2834748 | TB6: 1.231496 | TC6: 0.45149174 | TD6: -1.029999 | TE6: -2.8300208 | TF6: -0.46210964 | TG6: 0.12378581 | TH6: -0.77316181 | TI6: -0.4995287 | TJ6: 0.33307693 | TK6: -0.93857702 | TL6: 0.86698847 | TM6: 0.39767853 | TN6: 0.7235018 | TO6: -1.6881706 | TP6: 1.3887606 | TQ6: 0.044363858 | TR6: -0.30175367 | TS6: -0.10118445 | TT6: 2.140221 | TU6: 1.479966
A7: =A6+0.01 -> 0.02 | B7: -1.9279483 | C7: -2.0204318 | D7: 0.39842416 | E7: -2.4277575 | F7: -1.7421355 | G7: -2.2171788 | H7: 1.6881319 | I7: -0.73152417 | J7: 0.97606494 | K7: 0.78848408 | L7: 0.68075979 | M7: 0.80183205 | N7: -3.5863949 | O7: -2.4881392 | P7: -0.58747806 | Q7: -3.0979384 | T7: -2.0651621 | U7: -1.1881888 | V7: -2.2993674 | W7: -2.2405769 | X7: -1.7611862 | Y7: -1.3466848 | Z7: -1.5401433 | AA7: -4.4780381 | AB7: -4.2855575 | AC7: -5.8484916 | AD7: -3.5870266 | AE7: -3.0393925 | AF7: 7.9850544 | AG7: 6.4068135 | AH7: 6.7498086 | AI7: 6.0026405 | AJ7: 6.133588 | AK7: 7.7493833 | AL7: -0.65276453 | AM7: -0.71697354 | AN7: -1.1659329 | AO7: -1.1676266 | AP7: -0.4680817 | AQ7: -1.8482982 | AR7: -2.4428496 | AS7: -2.1154956 | AT7: -1.8531728 | AU7: -2.5376354 | AV7: -2.5996964 | AW7: -2.6056476 | AX7: -1.2931735 | AY7: 0.14334522 | AZ7: -0.322231 | BA7: -2.4360302 | BB7: -1.0806344 | BC7: -1.9608311 | BD7: -2.2947425 | BE7: -2.8258045 | BF7: -4.2796927 | BG7: -2.4978892 | BH7: -2.9887023 | BI7: -2.0433031 | BJ7: -3.8427586 | BK7: -3.1707394 | BL7: -3.1192504 | BM7: -3.8120484 | BN7: -2.6998606 | BP7: -2.1402142 | BQ7: -0.95184991 | BR7: -1.3635402 | BS7: -0.52926934 | BT7: -1.1240167 | BU7: -2.0636929 | BV7: -5.3768732 | BW7: -3.3290377 | BX7: -3.3404223 | BY7: -5.8258772 | BZ7: -1.9774526 | CA7: -2.4828639 | CB7: -1.3994475 | CC7: -1.7506598 | CD7: -0.9497361 | CE7: -1.1209052 | CF7: -0.75733793 | CH7: -0.9095957 | CI7: -0.76788441 | CJ7: -2.0802267 | CK7: -0.97915671 | CL7: -0.7548159 | CM7: -0.19497488 | CN7: -0.73692021 | CO7: -1.274339 | CP7: -1.011359 | CQ7: -2.0967388 | CR7: -0.79933732 | CS7: -0.6215636 | CT7: -1.2235172 | CU7: -1.8773845 | CV7: -1.2742868 | CW7: -2.9325633 | CX7: -1.444359 | CY7: -2.3628649 | CZ7: -0.9239163 | DA7: -1.0002967 | DB7: -2.5456002 | DC7: -2.0775632 | DD7: -2.1643223 | DE7: -2.4346867 | DF7: -0.17377825 | DG7: 0.22478215 | DH7: 0.02223532 | DI7: -0.12695398 | DJ7: -0.003450354 | DK7: 0.078347071 | DL7: -2.4179937 | DM7: -3.3731322 | DN7: -3.8644378 | DO7: -3.1708298 | DP7: -4.1496799 | DQ7: -2.6530488 | DR7: -3.2961408 | DS7: -2.7739987 | DT7: -5.2097012 | DU7: -5.0721486 | DV7: -4.9706873 | DW7: -5.5608718 | DX7: -0.94998883 | DY7: -1.6057485 | DZ7: -1.3629006 | EA7: -1.5630057 | EB7: -1.6745965 | EC7: 0.35048097 | ED7: -1.5872346 | EE7: -2.9155824 | EF7: -3.9386474 | EG7: -1.8690309 | EH7: -3.6860793 | EI7: -3.2155331 | EJ7: 4.1803535 | EK7: 3.352308 | EL7: 1.9493717 | EM7: 2.0979852 | EN7: 3.3282794 | EO7: 3.8824979 | EP7: -2.7782637 | EQ7: -1.4294327 | ER7: -2.7323057 | ES7: -3.3192114 | ET7: -3.2755724 | EU7: -0.074239306 | EV7: -1.7416679 | EW7: -2.3090495 | EX7: -2.8960979 | EY7: -1.4356639 | EZ7: -1.8399186 | FA7: -2.4256065 | FB7: -4.0571688 | FC7: -3.7185113 | FD7: -4.4738221 | FE7: -3.1059543 | FF7: -3.2034915 | FG7: -3.5695267 | FH7: 0.83065994 | FI7: 2.3444395 | FJ7: 1.8964557 | FK7: 0.08120059 | FL7: 1.7974215 | FM7: 0.038324827 | FN7: -6.4684661 | FO7: -6.8435066 | FP7: -5.2597456 | FQ7: -4.096291 | FR7: -7.0386702 | FS7: -6.095884 | FT7: -3.3380521 | FU7: -1.5364038 | FV7: -0.63835423 | FW7: -3.4448611 | FX7: -5.9812249 | FY7: 0.60800836 | FZ7: -2.9068746 | GA7: -4.6251052 | GB7: -5.0031398 | GC7: -4.3039803 | GD7: -4.2710966 | GE7: -5.503148 | GF7: -5.1564904 | GG7: -6.5502366 | GH7: -7.3836452 | GI7: -6.1169676 | GJ7: -2.3657023 | GK7: -5.4051376 | GL7: -4.9674177 | GM7: -3.3712474 | GN7: -2.9371141 | GO7: -2.5746573 | GP7: -2.3238805 | GQ7: -3.2403773 | GR7: -2.6010879 | GS7: -4.7820566 | GT7: -2.5444397 | GU7: -5.05194 | GV7: -4.8364011 | GW7: -4.4194048 | GX7: -4.5830054 | GY7: -5.4488039 | GZ7: -5.7785323 | HA7: -5.4482438 | HB7: -4.3678025 | HC7: -4.8178014 | HD7: -3.2469904 | HE7: -3.9173178 | HF7: -3.6861557 | HG7: -2.1614756 | HH7: -2.3555219 | HI7: -4.4938559 | HJ7: -1.4701188 | HK7: -0.81443938 | HL7: -2.0815057 | HM7: -0.30903862 | HN7: -2.3052517 | HO7: -1.0844622 | HP7: -4.2146981 | HQ7: -3.530654 | HR7: -1.9643733 | HS7: -2.1397464 | HT7: -1.715156 | HU7: -1.3349209 | HV7: -1.464931 | HW7: -2.138011 | HX7: -0.19511966 | HY7: -0.79099276 | HZ7: 0.36887601 | IA7: -0.73112518 | IB7: 0.68749768 | IC7: -1.5790028 | ID7: -2.0859506 | IE7: -0.7580944 | IF7: -1.8672425 | IG7: -1.0532496 | IH7: -2.8653659 | II7: -2.6183931 | IJ7: -1.0645087 | IK7: 0.1735585 | IL7: -0.30941286 | IM7: 0.11340889 | IN7: -0.98635588 | IO7: 0.40733873 | IP7: -1.8558295 | IQ7: 0.028516691 | IR7: -0.037573223 | IS7: 0.10579398 | IT7: 0.32148452 | IU7: -0.2044094 | IV7: -0.74452548 | IW7: 1.1206316 | IX7: 1.5313371 | IY7: 0.2084788 | IZ7: 0.29554775 | JA7: -1.8740511 | JB7: 3.2831051 | JC7: 1.0340789 | JD7: -1.5777114 | JE7: 1.0440886 | JF7: 0.45165704 | JG7: -0.99518594 | JH7: 1.2913332 | JI7: 0.35384495 | JJ7: -0.59753528 | JK7: 0.060010636 | JL7: -2.0108546 | JM7: -1.7379366 | JN7: -2.2451195 | JO7: -3.1675513 | JP7: -2.5088161 | JQ7: -1.8386861 | JR7: -2.5885694 | JS7: -3.2016701 | JT7: -4.3676742 | JU7: -3.2131192 | JV7: -2.8296094 | JW7: -3.5767308 | JX7: -0.40693153 | JY7: -1.1856459 | JZ7: -0.94328952 | KA7: -1.3902732 | KB7: 0.18335027 | KC7: -0.10368737 | KD7: -2.0664693 | KE7: -1.9357247 | KF7: -2.5860372 | KG7: -3.4374532 | KH7: -2.6131945 | KI7: -1.8613171 | KJ7: -2.7266675 | KK7: -5.6448441 | KL7: -3.7218464 | KM7: -5.1487515 | KN7: -5.0476405 | KO7: -5.4060966 | KP7: -1.6549336 | KQ7: -0.87030292 | KR7: -0.16757701 | KS7: -1.6308938 | KT7: -1.0427294 | KU7: -1.6431816 | KV7: -1.4352403 | KW7: -0.42826338 | KX7: -0.90677094 | KY7: -1.1761259 | KZ7: -2.2845378 | LA7: -1.3604508 | LB7: -2.5550051 | LC7: -1.6415713 | LD7: -2.0129374 | LE7: -3.0223238 | LF7: -2.8805783 | LG7: -3.6734743 | LH7: -2.2922513 | LI7: -1.7985982 | LJ7: -1.1494487 | LK7: -2.0773407 | LL7: -4.4424328 | LM7: -2.3042201 | LN7: -4.7308636 | LO7: -2.7081614 | LP7: -3.4932765 | LQ7: -4.0232139 | LR7: -3.1699061 | LS7: -3.9122341 | LT7: -6.9510733 | LU7: -4.4569371 | LV7: -4.0391274 | LW7: -3.5666569 | LX7: -3.5625123 | LY7: -3.2820905 | LZ7: -3.3811015 | MA7: -2.5892766 | MB7: -1.9790757 | MC7: -2.6307859 | MD7: -3.7223977 | ME7: -3.1009518 | MF7: -3.2991858 | MG7: -3.0683745 | MH7: -4.0211809 | MI7: -1.9466843 | ML7: -2.3458946 | MM7: -2.3422813 | MN7: -2.1427645 | MO7: -1.9130622 | MP7: -2.466604 | MQ7: -1.5251559 | MR7: -1.6853543 | MS7: -4.4331114 | MT7: -5.5810037 | MU7: -3.9860952 | MV7: -2.2142939 | MW7: -3.6027084 | MX7: -5.2491652 | MY7: -5.670112 | MZ7: -3.0586515 | NA7: -3.9661213 | NB7: -3.5216996 | NC7: -2.2828516 | ND7: -3.7889442 | NE7: -2.9614307 | NF7: -3.4642512 | NG7: -1.9786617 | NH7: -2.0968135 | NI7: -2.1729855 | NJ7: -2.358611 | NK7: -2.6494395 | NL7: -3.1605051 | NM7: -0.76737381 | NN7: -2.6806731 | NO7: -2.6248408 | NP7: 0.78528855 | NQ7: -1.175014 | NR7: -1.0276234 | NS7: -1.2877227 | NT7: -0.78826455 | NU7: -1.5991952 | NV7: 0.47996217 | NW7: -1.3311933 | NX7: -1.0258825 | NY7: -1.5775328 | NZ7: -1.8424201 | OA7: -2.2227857 | OB7: 1.5936361 | OC7: -0.6824337 | OD7: -0.9177994 | OE7: -0.44494203 | OF7: 0.71344167 | OG7: 1.3579271 | OH7: -1.511085 | OI7: -0.91132188 | OJ7: -0.75894079 | OK7: -1.2594419 | OL7: -2.0049617 | OM7: 0.92404146 | ON7: 0.996714 | OO7: 0.45916888 | OP7: -0.84930876 | OQ7: -1.0078654 | OR7: -2.9069362 | OS7: 0.11511736 | OT7: 0.52346448 | OU7: 0.62399885 | OV7: 0.23012826 | OW7: -1.9373 | OX7: -0.46063209 | OY7: 1.2208141 | OZ7: 0.62137521 | PA7: 2.1749531 | PB7: 1.0236122 | PC7: 1.3391752 | PD7: 1.227527 | PE7: -0.33532801 | PF7: -2.5621831 | PG7: -2.1647149 | PH7: -3.831574 | PI7: -1.6008435 | PJ7: 0.21779074 | PK7: -2.2850219 | PL7: 1.4977211 | PM7: -0.57638833 | PN7: -1.5669762 | PO7: 0.22064545 | PP7: -1.8170803 | PQ7: -0.94231761 | PR7: -1.3365356 | PS7: 0.077753915 | PT7: -1.3928442 | PU7: -2.1162766 | PV7: -0.71560043 | PX7: -1.1040812 | PY7: -0.24637627 | PZ7: 0.53333883 | QA7: -2.2627674 | QB7: -1.6126366 | QC7: -3.3613527 | QD7: -0.3640179 | QE7: -2.5949998 | QF7: -1.6329258 | QG7: -0.56034532 | QH7: -1.9752483 | QI7: -1.898437 | QJ7: 1.0714575 | QK7: -0.12801363 | QL7: -0.63675828 | QM7: 0.061521526 | QN7: -1.527589 | QO7: -1.0615166 | QP7: -1.7526062 | QQ7: -0.62945563 | QR7: -1.1663272 | QS7: -2.3437574 | QT7: -0.84301867 | QU7: -1.4276562 | QV7: -0.48278215 | QW7: 1.6522579 | QX7: -1.4554178 | QY7: -1.0073961 | QZ7: -0.14254976 | RA7: -0.62544624 | RB7: -0.085435537 | RC7: 0.31967198 | RD7: -0.89122728 | RE7: 0.070286254 | RF7: -1.3531401 | RG7: -1.0399193 | RH7: -1.7444686 | RI7: -0.33416916 | RJ7: -1.8751818 | RK7: -1.7680704 | RL7: 1.39258 | RM7: -0.45556954 | RN7: 2.3566835 | RO7: 1.4807651 | RP7: 0.19764542 | RQ7: 2.5046887 | RR7: 1.9258365 | RS7: 1.60337 | RT7: -1.1549111 | RU7: -1.970669 | RV7: -0.21694074 | RW7: -1.886615 | RX7: -2.4419954 | RY7: -3.8948801 | RZ7: 2.3629087 | SA7: 1.7906451 | SB7: 1.0437137 | SC7: 1.1283128 | SD7: -1.3931787 | SE7: 0.50284062 | SF7: -2.4867872 | SG7: -0.11595563 | SH7: -1.2743159 | SI7: -0.21831376 | SJ7: 0.79154531 | SK7: -0.48312236 | SL7: 0.88795977 | SM7: 2.153618 | SN7: 0.52178884 | SO7: 0.74590415 | SP7: 1.6000815 | SQ7: 1.7086222 | SR7: 0.1264564 | SS7: -0.30126439 | ST7: -0.098343349 | SU7: 0.68748364 | SV7: -0.20628519 | SW7: -0.77448756 | SX7: -0.57866539 | SY7: -0.56152118 | SZ7: -0.16264336 | TA7: -0.97969348 | TB7: 0.24978905 | TC7: -1.4146243 | TD7: -2.0526272 | TE7: -2.0672038 | TF7: -1.5714006 | TG7: -0.91756471 | TH7: -1.8459652 | TI7: -2.0658499 | TJ7: -1.077426 | TK7: -2.3431626 | TL7: -0.40309561 | TM7: -0.31772645 | TN7: -0.38353897 | TO7: -2.1172305 | TP7: 0.4347189 | TQ7: -1.0701115 | TR7: -1.2296083 | TS7: -0.8522764 | TT7: 0.69145024 | TU7: -0.32256142
A8: =A7+0.01 -> 0.03 | B8: -2.4571404 | C8: -2.4308513 | D8: -0.49732262 | E8: -2.8107273 | F8: -2.0658453 | G8: -2.6770944 | H8: 0.97390397 | I8: -0.49842577 | J8: 0.37779027 | K8: 0.35167685 | L8: 0.46027969 | M8: 0.018145316 | N8: -3.5519091 | O8: -2.5132589 | P8: -0.44614249 | Q8: -3.3294965 | T8: -2.4513315 | U8: -1.5490661 | V8: -2.6525813 | W8: -2.4764934 | X8: -2.2938898 | Y8: -1.6199223 | Z8: -1.9301836 | AA8: -4.7827178 | AB8: -5.0766362 | AC8: -5.7856883 | AD8: -3.575131 | AE8: -2.7870135 | AF8: 6.8171527 | AG8: 5.1840285 | AH8: 5.4521752 | AI8: 5.4985217 | AJ8: 3.9787918 | AK8: 5.5472925 | AL8: -0.99847636 | AM8: -1.0415592 | AN8: -1.6254566 | AO8: -1.5030009 | AP8: -0.94652758 | AQ8: -1.9856213 | AR8: -2.6447074 | AS8: -2.41429 | AT8: -2.0245131 | AU8: -2.7857378 | AV8: -2.8953999 | AW8: -2.7920171 | AX8: -1.5452349 | AY8: -0.12454498 | AZ8: -0.61386572 | BA8: -2.7758403 | BB8: -1.2208054 | BC8: -2.349154 | BD8: -2.8309049 | BE8: -3.016829 | BF8: -4.9437182 | BG8: -2.8016287 | BH8: -3.540867 | BI8: -2.5194567 | BJ8: -4.2572477 | BK8: -3.6676243 | BL8: -3.5184854 | BM8: -4.0105791 | BN8: -3.2750747 | BP8: -2.4692053 | BQ8: -1.6215817 | BR8: -1.8352528 | BS8: -0.92778124 | BT8: -1.8812936 | BU8: -2.4300133 | BV8: -6.3570514 | BW8: -3.9976996 | BX8: -3.783412 | BY8: -6.1524702 | BZ8: -2.2870907 | CA8: -3.0665459 | CB8: -1.7295696 | CC8: -2.1437666 | CD8: -1.3368769 | CE8: -1.7978608 | CF8: -0.90952008 | CH8: -1.1561768 | CI8: -1.0689085 | CJ8: -2.296457 | CK8: -1.2184926 | CL8: -1.0352124 | CM8: -0.58373969 | CN8: -0.78634003 | CO8: -1.6333393 | CP8: -1.5400089 | CQ8: -2.6569564 | CR8: -0.83424674 | CS8: -1.2034746 | CT8: -1.629668 | CU8: -2.1716441 | CV8: -1.7045355 | CW8: -3.5619961 | CX8: -1.7996965 | CY8: -2.6496 | CZ8: -1.4678671 | DA8: -1.5253845 | DB8: -2.8596277 | DC8: -2.4605093 | DD8: -2.5546494 | DE8: -2.7249103 | DF8: -0.51001558 | DG8: 0.0092603628 | DH8: -0.38023694 | DI8: -0.5503232 | DJ8: -0.54954228 | DK8: -0.34429072 | DL8: -3.0003366 | DM8: -3.7374645 | DN8: -3.9090993 | DO8: -3.3414486 | DP8: -4.4781776 | DQ8: -2.9590738 | DR8: -3.3131429 | DS8: -2.5978107 | DT8: -5.4797461 | DU8: -5.4679914 | DV8: -5.03193 | DW8: -5.7635549 | DX8: -1.3665453 | DY8: -1.7493508 | DZ8: -1.6673467 | EA8: -1.9155066 | EB8: -1.9680876 | EC8: -0.27782822 | ED8: -1.9329765 | EE8: -3.4312163 | EF8: -3.454931 | EG8: -1.9558524 | EH8: -3.5331044 | EI8: -3.3433778 | EJ8: 4.0668409 | EK8: 2.8237725 | EL8: 2.7050682 | EM8: 2.3575286 | EN8: 2.7613735 | EO8: 3.4899562 | EP8: -2.5775513 | EQ8: -1.6202505 | ER8: -3.2487041 | ES8: -3.2943681 | ET8: -3.3174581 | EU8: -0.40756118 | EV8: -1.9893218 | EW8: -2.5032576 | EX8: -3.1197663 | EY8: -1.7217615 | EZ8: -2.2980352 | FA8: -2.7994907 | FB8: -3.9635975 | FC8: -3.4248772 | FD8: -4.6768765 | FE8: -3.2559354 | FF8: -3.2259154 | FG8: -3.8220792 | FH8: -0.17237251 | FI8: 1.6028943 | FJ8: 1.041317 | FK8: -1.1251798 | FL8: 0.46675924 | FM8: -0.91872925 | FN8: -6.745495 | FO8: -6.8614867 | FP8: -5.6136809 | FQ8: -4.4411272 | FR8: -7.5799753 | FS8: -6.6172918 | FT8: -3.9474393 | FU8: -2.3108723 | FV8: -2.066557 | FW8: -4.0507055 | FX8: -6.050685 | FY8: -0.39510427 | FZ8: -3.5577479 | GA8: -5.4830131 | GB8: -5.7000528 | GC8: -4.6702161 | GD8: -4.7951909 | GE8: -6.0946156 | GF8: -6.4847797 | GG8: -7.379236 | GH8: -7.8540584 | GI8: -6.5213508 | GJ8: -3.0977045 | GK8: -6.0847369 | GL8: -6.4572443 | GM8: -4.3835134 | GN8: -4.2707982 | GO8: -3.2830305 | GP8: -3.5659684 | GQ8: -4.2113425 | GR8: -3.2314674 | GS8: -5.5960223 | GT8: -3.2999727 | GU8: -5.8923984 | GV8: -5.3311349 | GW8: -4.8170839 | GX8: -5.5180175 | GY8: -6.0297103 | GZ8: -6.5418662 | HA8: -5.6781457 | HB8: -5.1157849 | HC8: -5.0987882 | HD8: -4.2232291 | HE8: -4.2990988 | HF8: -4.3774886 | HG8: -2.5370338 | HH8: -3.6273755 | HI8: -5.1834183 | HJ8: -2.0273755 | HK8: -1.3159608 | HL8: -2.6669027 | HM8: -1.1008712 | HN8: -2.891225 | HO8: -1.5259153 | HP8: -4.5717719 | HQ8: -4.076233 | HR8: -2.3456815 | HS8: -2.9001555 | HT8: -2.2468735 | HU8: -1.6891043 | HV8: -1.8758835 | HW8: -2.9896417 | HX8: -0.89188038 | HY8: -1.3865328 | HZ8: -0.62742201 | IA8: -1.3015946 | IB8: 0.17137176 | IC8: -1.9934341 | ID8: -2.8504095 | IE8: -1.4440049 | IF8: -2.4877584 | IG8: -1.5584164 | IH8: -3.0850663 | II8: -2.9601383 | IJ8: -1.2924812 | IK8: -0.43761387 | IL8: -0.51907836 | IM8: -0.26367529 | IN8: -1.4550908 | IO8: -0.4056926 | IP8: -2.5551453 | IQ8: -1.0281551 | IR8: -0.46025331 | IS8: -0.66781099 | IT8: -0.20573186 | IU8: -1.07244 | IV8: -1.2523423 | IW8: 0.43672086 | IX8: 0.69833653 | IY8: -0.59540125 | IZ8: -0.14469074 | JA8: -1.9326166 | JB8: 3.0473722 | JC8: 0.62612149 | JD8: -1.7462372 | JE8: 0.72835481 | JF8: -0.2415693 | JG8: -1.4022307 | JH8: 0.78204183 | JI8: 0.11845186 | JJ8: -0.91895172 | JK8: -0.3184826 | JL8: -2.2304139 | JM8: -1.8690304 | JN8: -2.4884863 | JO8: -3.4729323 | JP8: -2.5565978 | JQ8: -1.9314001 | JR8: -2.8269053 | JS8: -3.3019454 | JT8: -4.4899372 | JU8: -3.9736666 | JV8: -2.8907599 | JW8: -3.5024119 | JX8: -0.83117147 | JY8: -1.5750933 | JZ8: -1.1254299 | KA8: -1.4396245 | KB8: -0.22952948 | KC8: -0.36531043 | KD8: -2.2743588 | KE8: -2.0282217 | KF8: -2.8566693 | KG8: -3.6076144 | KH8: -2.8952944 | KI8: -2.2706417 | KJ8: -3.1430185 | KK8: -5.9112726 | KL8: -3.9729164 | KM8: -5.3502235 | KN8: -4.9783649 | KO8: -5.5227049 | KP8: -1.7966101 | KQ8: -1.748723 | KR8: -0.68765992 | KS8: -2.138975 | KT8: -1.4740121 | KU8: -1.9294463 | KV8: -1.9881065 | KW8: -0.72596599 | KX8: -1.2193267 | KY8: -1.5528163 | KZ8: -2.5115233 | LA8: -1.6199765 | LB8: -2.8093244 | LC8: -1.9608746 | LD8: -2.2351564 | LE8: -3.3369411 | LF8: -3.0150078 | LG8: -3.7796526 | LH8: -2.6271258 | LI8: -2.1198588 | LJ8: -1.4471056 | LK8: -2.4078427 | LL8: -4.5621882 | LM8: -2.4693874 | LN8: -5.2182555 | LO8: -3.4440907 | LP8: -3.6119626 | LQ8: -4.5108735 | LR8: -3.7454986 | LS8: -3.6308401 | LT8: -6.8455513 | LU8: -4.4768766 | LV8: -4.2017409 | LW8: -3.9445134 | LX8: -3.8726586 | LY8: -3.4647977 | LZ8: -3.5982658 | MA8: -2.7718998 | MB8: -2.3208425 | MC8: -2.6656648 | MD8: -3.9572779 | ME8: -3.3212241 | MF8: -3.556928 | MG8: -3.3995337 | MH8: -4.4884583 | MI8: -1.8720272 | ML8: -2.7813832 | MM8: -2.7829408 | MN8: -2.2076466 | MO8: -2.324205 | MP8: -2.5362849 | MQ8: -1.9641353 | MR8: -1.8733844 | MS8: -4.3873131 | MT8: -6.2685156 | MU8: -4.3407683 | MV8: -2.5467144 | MW8: -3.9485019 | MX8: -5.3695245 | MY8: -5.5957955 | MZ8: -3.1738356 | NA8: -4.3134724 | NB8: -4.046545 | NC8: -2.7178723 | ND8: -4.0864503 | NE8: -3.3900862 | NF8: -4.3000394 | NG8: -2.1491247 | NH8: -2.6043559 | NI8: -2.5485026 | NJ8: -2.5791721 | NK8: -2.150104 | NL8: -3.212901 | NM8: -1.3652437 | NN8: -2.5387275 | NO8: -2.7761728 | NP8: 0.18281752 | NQ8: -1.5705683 | NR8: -1.6599823 | NS8: -1.7261444 | NT8: -1.1830712 | NU8: -2.2346887 | NV8: -0.0088695586 | NW8: -1.5493906 | NX8: -1.4072678 | NY8: -2.1148977 | NZ8: -3.0450923 | OA8: -2.6195536 | OB8: 1.0056325 | OC8: -1.1783282 | OD8: -1.980949 | OE8: -1.5115424 | OF8: 0.1061844 | OG8: 0.49288845 | OH8: -2.2351668 | OI8: -1.6028804 | OJ8: -1.5260668 | OK8: -1.8332651 | OL8: -2.6253338 | OM8: 0.20303217 | ON8: 0.2548543 | OO8: 0.064885849 | OP8: -1.407437 | OQ8: -1.6178063 | OR8: -3.6066993 | OS8: -0.68295474 | OT8: -0.38202512 | OU8: 0.18486535 | OV8: -0.67101176 | OW8: -2.4649175 | OX8: -1.5642158 | OY8: 0.34356566 | OZ8: 0.24574913 | PA8: 0.68347218 | PB8: 0.34249273 | PC8: 0.69228962 | PD8: 0.27226478 | PE8: -1.1674979 | PF8: -3.1081973 | PG8: -2.6826994 | PH8: -4.768339 | PI8: -1.8990546 | PJ8: -0.87993789 | PK8: -2.87727 | PL8: 0.41272678 | PM8: -1.4612769 | PN8: -2.0258043 | PO8: -0.099396795 | PP8: -2.2855556 | PQ8: -1.6326869 | PR8: -1.6550225 | PS8: -1.2324878 | PT8: -1.6201716 | PU8: -2.9064042 | PV8: -1.0918485 | PX8: -1.9893777 | PY8: -0.35532926 | PZ8: 0.48371397 | QA8: -2.4639061 | QB8: -1.825916 | QC8: -3.5159835 | QD8: -0.9602891 | QE8: -3.0109283 | QF8: -2.9049323 | QG8: -0.6684757 | QH8: -3.4090462 | QI8: -2.4053003 | QJ8: 0.82090481 | QK8: -0.49930521 | QL8: -0.84362111 | QM8: -0.23691891 | QN8: -1.7432746 | QO8: -1.2508924 | QP8: -2.0968653 | QQ8: -0.75388867 | QR8: -1.5208701 | QS8: -2.5501277 | QT8: -1.1956535 | QU8: -1.8545746 | QV8: -0.88985105 | QW8: 1.6423751 | QX8: -1.6592841 | QY8: -1.3994174 | QZ8: -0.32686993 | RA8: -1.4341845 | RB8: -0.36475242 | RC8: -0.066249921 | RD8: -1.4869106 | RE8: -0.84953449 | RF8: -1.6069246 | RG8: -1.4185625 | RH8: -1.9774391 | RI8: -0.47879578 | RJ8: -2.5964492 | RK8: -2.0251466 | RL8: 1.1069016 | RM8: -0.81715271 | RN8: 1.975081 | RO8: 1.0134044 | RP8: -0.33554463 | RQ8: 2.2067667 | RR8: 1.4535476 | RS8: 0.6735839 | RT8: -2.1920953 | RU8: -2.8319435 | RV8: -1.2222404 | RW8: -3.1524678 | RX8: -3.7106852 | RY8: -5.1236714 | RZ8: 1.2561189 | SA8: 0.84355067 | SB8: 0.053444414 | SC8: 0.7081741 | SD8: -2.6526683 | SE8: -0.053683403 | SF8: -2.8529355 | SG8: -1.2629692 | SH8: -2.45287 | SI8: -1.3804753 | SJ8: -0.48581329 | SK8: -1.3726045 | SL8: -0.044077307 | SM8: 1.2460112 | SN8: -0.39180903 | SO8: 0.073621585 | SP8: 0.60183275 | SQ8: 0.95737312 | SR8: -0.92295924 | SS8: -1.0444812 | ST8: -1.0402971 | SU8: -0.20916015 | SV8: -0.94002161 | SW8: -1.662002 | SX8: -1.2162318 | SY8: -1.1342219 | SZ8: -1.2929961 | TA8: -1.5753616 | TB8: -0.68745756 | TC8: -2.5137259 | TD8: -2.6904371 | TE8: -1.3772864 | TF8: -2.4586849 | TG8: -1.552971 | TH8: -2.6651158 | TI8: -3.0889871 | TJ8: -2.2132833 | TK8: -2.9924398 | TL8: -1.1978487 | TM8: -0.9018821 | TN8: -1.2092099 | TO8: -2.4468925 | TP8: -0.17049606 | TQ8: -2.0143215 | TR8: -1.5711491 | TS8: -1.5499648 | TT8: -0.56364378 | TU8: -1.5638632
A9: =A8+0.01 -> 0.04 | B9: -2.7162714 | C9: -2.86261 | D9: -1.0274045 | E9: -3.0149145 | F9: -2.3667801 | G9: -2.8311679 | H9: 0.35288285 | I9: -0.21873578 | J9: -0.10319064 | K9: -0.51654694 | L9: -0.039559629 | M9: -0.12672875 | N9: -3.494882 | O9: -2.3032899 | P9: -0.20683674 | Q9: -3.3430005 | T9: -2.6008886 | U9: -1.6947076 | V9: -2.9181994 | W9: -2.5490386 | X9: -2.70633 | Y9: -1.6572198 | Z9: -2.1876588 | AA9: -4.8447745 | AB9: -5.3180464 | AC9: -5.5714767 | AD9: -3.4151327 | AE9: -2.4337226 | AF9: 4.5304239 | AG9: 3.74794 | AH9: 3.3935875 | AI9: 4.2073064 | AJ9: 3.6369648 | AK9: 4.9729941 | AL9: -1.1271408 | AM9: -1.184116 | AN9: -1.9130007 | AO9: -1.6038697 | AP9: -1.2474873 | AQ9: -1.8780225 | AR9: -2.6331578 | AS9: -2.5615738 | AT9: -1.9227425 | AU9: -2.9664032 | AV9: -3.1249048 | AW9: -2.8853132 | AX9: -1.6547646 | AY9: -0.20936612 | AZ9: -0.82465528 | BA9: -2.9430092 | BB9: -1.1875701 | BC9: -2.5452661 | BD9: -2.998985 | BE9: -3.0323337 | BF9: -5.3163432 | BG9: -2.9919792 | BH9: -3.4224201 | BI9: -2.7848202 | BJ9: -4.4609144 | BK9: -4.1263165 | BL9: -3.6470905 | BM9: -3.9851684 | BN9: -3.6091371 | BP9: -2.6234826 | BQ9: -2.0991344 | BR9: -2.1834185 | BS9: -1.257927 | BT9: -2.1985406 | BU9: -2.5615456 | BV9: -6.6065789 | BW9: -4.0132158 | BX9: -3.849427 | BY9: -6.2982827 | BZ9: -2.4450556 | CA9: -3.5137724 | CB9: -1.9346571 | CC9: -2.3528412 | CD9: -1.5487738 | CE9: -2.1914783 | CF9: -1.0532749 | CH9: -1.0168391 | CI9: -1.3171946 | CJ9: -2.3554331 | CK9: -1.3528932 | CL9: -1.120409 | CM9: -0.77193806 | CN9: -0.78665471 | CO9: -1.75102 | CP9: -1.9871972 | CQ9: -2.7343847 | CR9: -0.69657065 | CS9: -1.6819649 | CT9: -1.7718696 | CU9: -2.2919237 | CV9: -1.8894959 | CW9: -3.6929267 | CX9: -1.9324878 | CY9: -2.6178694 | CZ9: -1.6866421 | DA9: -1.667033 | DB9: -2.8823502 | DC9: -2.6533706 | DD9: -2.7762863 | DE9: -2.6250219 | DF9: -0.71305565 | DG9: 0.077667526 | DH9: -0.47055031 | DI9: -0.72261498 | DJ9: -0.96629648 | DK9: -0.72418134 | DL9: -3.2186388 | DM9: -3.9748592 | DN9: -3.8704237 | DO9: -3.3576919 | DP9: -4.5815954 | DQ9: -3.2984411 | DR9: -3.1953943 | DS9: -2.3198657 | DT9: -5.1832601 | DU9: -5.4911893 | DV9: -4.6642624 | DW9: -5.5635328 | DX9: -1.3802057 | DY9: -1.8500843 | DZ9: -1.9186167 | EA9: -2.0525669 | EB9: -2.0607245 | EC9: -0.38107836 | ED9: -1.8762014 | EE9: -3.4119422 | EF9: -2.8432306 | EG9: -1.9715809 | EH9: -3.2483788 | EI9: -3.3558807 | EJ9: 4.0957987 | EK9: 2.4674187 | EL9: 2.6173666 | EM9: 3.7810571 | EN9: 2.4134012 | EO9: 3.203531 | EP9: -2.4031129 | EQ9: -1.5928641 | ER9: -3.6203155 | ES9: -3.004227 | ET9: -3.3716098 | EU9: -0.47216955 | EV9: -1.8749117 | EW9: -2.599061 | EX9: -3.1108965 | EY9: -1.9057421 | EZ9: -2.4500948 | FA9: -2.8885751 | FB9: -3.6357072 | FC9: -2.8759793 | FD9: -4.5662508 | FE9: -2.8870331 | FF9: -2.8125331 | FG9: -3.9282383 | FH9: -0.62193372 | FI9: 1.0528709 | FJ9: -0.6540861 | FK9: -1.5871959 | FL9: -0.054005446 | FM9: -1.4779142 | FN9: -6.8285944 | FO9: -6.5326303 | FP9: -5.7419148 | FQ9: -4.7408844 | FR9: -7.8456402 | FS9: -7.135742 | FT9: -4.3312767 | FU9: -2.8128764 | FV9: -2.4449366 | FW9: -4.5567754 | FX9: -5.6077652 | FY9: -0.79863985 | FZ9: -4.2520396 | GA9: -6.4655489 | GB9: -6.3351611 | GC9: -4.8384067 | GD9: -5.2860887 | GE9: -6.8435619 | GF9: -7.4808037 | GG9: -7.8472486 | GH9: -8.129134 | GI9: -6.7137456 | GJ9: -3.7859071 | GK9: -6.4663252 | GL9: -6.8720103 | GM9: -4.9967101 | GN9: -5.7996375 | GO9: -3.8691147 | GP9: -4.7495378 | GQ9: -4.4557069 | GR9: -3.5757902 | GS9: -5.6840837 | GT9: -4.1134609 | GU9: -6.2278385 | GV9: -5.8264718 | GW9: -4.9790702 | GX9: -5.9495189 | GY9: -6.0765562 | GZ9: -6.8466676 | HA9: -5.4656843 | HB9: -5.4002945 | HC9: -5.1268641 | HD9: -4.5410079 | HE9: -4.4806869 | HF9: -4.9094991 | HG9: -2.7082409 | HH9: -3.7642497 | HI9: -5.426631 | HJ9: -2.3162846 | HK9: -1.5174443 | HL9: -2.8922121 | HM9: -1.4352887 | HN9: -3.1326933 | HO9: -1.9185333 | HP9: -4.5575252 | HQ9: -4.3632438 | HR9: -2.6391094 | HS9: -3.172886 | HT9: -2.5367205 | HU9: -1.8975604 | HV9: -2.1387336 | HW9: -3.4561617 | HX9: -1.2475786 | HY9: -1.5463421 | HZ9: -1.291326 | IA9: -1.6173631 | IB9: -0.091878809 | IC9: -2.4803984 | ID9: -3.2330421 | IE9: -1.8488451 | IF9: -2.8361135 | IG9: -2.0017695 | IH9: -3.0677835 | II9: -2.9798835 | IJ9: -1.4020621 | IK9: -0.92191445 | IL9: -0.53565693 | IM9: -0.55343506 | IN9: -1.7049345 | IO9: -0.94852796 | IP9: -2.8188118 | IQ9: -1.4672486 | IR9: -0.71749094 | IS9: -1.2688713 | IT9: -0.66220434 | IU9: -1.7144478 | IV9: -1.814931 | IW9: -0.26589321 | IX9: 0.02457888 | IY9: -1.0978066 | IZ9: -0.34235637 | JA9: -1.8372907 | JB9: 3.0046259 | JC9: 0.48682193 | JD9: -1.6331413 | JE9: 0.53635248 | JF9: -0.68705139 | JG9: -1.4503331 | JH9: 0.54309749 | JI9: 0.026610369 | JJ9: -1.1404005 | JK9: -0.52223097 | JL9: -2.4766044 | JM9: -1.9148033 | JN9: -2.6606442 | JO9: -3.5181137 | JP9: -2.5130543 | JQ9: -1.9259381 | JR9: -2.8432343 | JS9: -3.1505107 | JT9: -4.3342294 | JU9: -4.319415 | JV9: -2.7463296 | JW9: -3.2774548 | JX9: -1.1227098 | JY9: -1.9003513 | JZ9: -1.1195916 | KA9: -1.4434269 | KB9: -0.39474791 | KC9: -0.4527409 | KD9: -2.1599252 | KE9: -2.02565 | KF9: -2.8694842 | KG9: -3.6209955 | KH9: -2.963092 | KI9: -2.4130971 | KJ9: -3.4067348 | KK9: -5.9489555 | KL9: -4.0720014 | KM9: -5.3571038 | KN9: -4.7292216 | KO9: -5.4835863 | KP9: -2.0251395 | KQ9: -2.1338445 | KR9: -1.0859678 | KS9: -2.5197761 | KT9: -1.5541444 | KU9: -2.0824907 | KV9: -2.1266168 | KW9: -0.86646646 | KX9: -1.4405003 | KY9: -1.7243293 | KZ9: -2.4687567 | LA9: -1.7353278 | LB9: -2.9490714 | LC9: -2.0751926 | LD9: -2.3478789 | LE9: -3.4229023 | LF9: -2.9827316 | LG9: -3.6286234 | LH9: -2.8450522 | LI9: -2.2554442 | LJ9: -1.640811 | LK9: -2.4784363 | LL9: -4.5911362 | LM9: -2.4957321 | LN9: -5.1839786 | LO9: -3.8165578 | LP9: -3.2837785 | LQ9: -4.4847557 | LR9: -3.9758077 | LS9: -3.2855392 | LT9: -6.461179 | LU9: -4.6158336 | LV9: -4.6003964 | LW9: -3.8205715 | LX9: -3.6542415 | LY9: -3.5208391 | LZ9: -3.345754 | MA9: -2.8406368 | MB9: -2.1926398 | MC9: -2.5243125 | MD9: -3.8733567 | ME9: -3.5344076 | MF9: -3.4931191 | MG9: -3.2507452 | MH9: -4.7190004 | MI9: -1.6664877 | ML9: -2.9303511 | MM9: -3.1464186 | MN9: -2.1507336 | MO9: -2.5658706 | MP9: -2.5043996 | MQ9: -1.970276 | MR9: -2.1591386 | MS9: -4.2154987 | MT9: -6.1575737 | MU9: -4.8936262 | MV9: -3.2818453 | MW9: -4.2602247 | MX9: -5.2629372 | MY9: -5.228926 | MZ9: -2.9502361 | NA9: -4.0998553 | NB9: -4.1988166 | NC9: -2.8016332 | ND9: -4.0215813 | NE9: -3.2882132 | NF9: -4.5394103 | NG9: -2.1648432 | NH9: -2.9246904 | NI9: -2.8149818 | NJ9: -2.5649653 | NK9: -1.4746798 | NL9: -3.1336805 | NM9: -1.8619362 | NN9: -2.1618705 | NO9: -2.937982 | NP9: -0.15317667 | NQ9: -1.5030161 | NR9: -2.0171624 | NS9: -1.8425504 | NT9: -1.1926708 | NU9: -2.6374737 | NV9: -0.46482949 | NW9: -1.6560849 | NX9: -1.8375822 | NY9: -2.2942175 | NZ9: -3.2735718 | OA9: -3.0675559 | OB9: 0.51164699 | OC9: -1.3774089 | OD9: -2.5122698 | OE9: -1.9610869 | OF9: -0.75546128 | OG9: 0.080417572 | OH9: -2.6395534 | OI9: -2.1431202 | OJ9: -2.0743502 | OK9: -2.216649 | OL9: -3.5087545 | OM9: -0.7112661 | ON9: -0.3491829 | OO9: -0.14483357 | OP9: -1.5193846 | OQ9: -2.1299959 | OR9: -4.0531328 | OS9: -1.0166371 | OT9: -0.79122454 | OU9: -0.32457006 | OV9: -1.0176761 | OW9: -2.7490168 | OX9: -1.9885764 | OY9: -0.41266577 | OZ9: -0.043626522 | PA9: -0.13378136 | PB9: -0.61134956 | PC9: 0.10103567 | PD9: -0.81780808 | PE9: -2.2258709 | PF9: -3.4778385 | PG9: -3.4030723 | PH9: -4.8937135 | PI9: -2.0999479 | PJ9: -1.3578168 | PK9: -3.3568536 | PL9: -0.5393982 | PM9: -1.966066 | PN9: -1.9899696 | PO9: -0.41614324 | PP9: -2.3009605 | PQ9: -2.3976181 | PR9: -1.9466358 | PS9: -1.5479193 | PT9: -1.6566646 | PU9: -3.2913996 | PV9: -1.2792264 | PX9: -2.4033415 | PY9: -0.45215359 | PZ9: 0.59117404 | QA9: -2.529204 | QB9: -1.9779534 | QC9: -3.7872228 | QD9: -1.2692848 | QE9: -3.0685905 | QF9: -3.2112559 | QG9: -0.79619486 | QH9: -3.8901808 | QI9: -2.9739779 | QJ9: 0.64529319 | QK9: -0.92114695 | QL9: -1.0959289 | QM9: -0.41314258 | QN9: -1.7508801 | QO9: -1.2777522 | QP9: -2.2630916 | QQ9: -0.65984964 | QR9: -1.7301578 | QS9: -2.6146411 | QT9: -1.3966016 | QU9: -2.0869439 | QV9: -1.1344808 | QW9: 1.693379 | QX9: -1.7365065 | QY9: -1.4737162 | QZ9: -0.54991801 | RA9: -2.0670111 | RB9: -0.93374326 | RC9: -0.43698032 | RD9: -1.9568754 | RE9: -1.0286369 | RF9: -1.6509366 | RG9: -1.5957905 | RH9: -1.9976722 | RI9: -0.50036623 | RJ9: -2.8672565 | RK9: -2.1240841 | RL9: 1.0095204 | RM9: -0.9181838 | RN9: 1.2691638 | RO9: 0.45042702 | RP9: -0.91579342 | RQ9: 1.7809964 | RR9: 1.2813134 | RS9: -0.10291424 | RT9: -3.0928863 | RU9: -3.3790353 | RV9: -2.3754208 | RW9: -3.7814285 | RX9: -4.4164171 | RY9: -5.9203701 | RZ9: 0.3772624 | SA9: 0.0021607769 | SB9: -0.62187349 | SC9: 0.013147503 | SD9: -3.3570714 | SE9: -0.45828619 | SF9: -3.0424474 | SG9: -2.0900808 | SH9: -3.0413237 | SI9: -2.2745125 | SJ9: -1.4202227 | SK9: -1.9831764 | SL9: -0.6989623 | SM9: 0.77592459 | SN9: -1.2286981 | SO9: -0.77955209 | SP9: -0.42531049 | SQ9: 0.14527396 | SR9: -1.6456463 | SS9: -1.64413 | ST9: -1.4320109 | SU9: -1.1367242 | SV9: -1.7036378 | SW9: -2.350902 | SX9: -1.7716087 | SY9: -1.8043706 | SZ9: -2.2002923 | TA9: -2.1471406 | TB9: -1.4339515 | TC9: -3.4947151 | TD9: -3.0006725 | TE9: -0.64550072 | TF9: -2.8889319 | TG9: -1.9888179 | TH9: -3.1094167 | TI9: -3.8381018 | TJ9: -2.8766124 | TK9: -3.3000675 | TL9: -1.7640988 | TM9: -1.3437443 | TN9: -1.7582556 | TO9: -2.677596 | TP9: -1.0262764 | TQ9: -2.347393 | TR9: -1.8779094 | TS9: -2.0439044 | TT9: -1.5092742 | TU9: -2.3951287
