Workbook
Name ave_c1: #REF!
Name ave_c1: #REF!
Name ave_c1: #REF!
Name ave_c10: #REF!
Name ave_c10: #REF!
Name ave_c10: #REF!
Name ave_c11: #REF!
Name ave_c11: #REF!
Name ave_c11: #REF!
Name ave_c12: #REF!
Name ave_c12: #REF!
Name ave_c12: #REF!
Name ave_c13: #REF!
Name ave_c13: #REF!
Name ave_c13: #REF!
Name ave_c14: #REF!
Name ave_c14: #REF!
Name ave_c14: #REF!
Name ave_c15: #REF!
Name ave_c15: #REF!
Name ave_c15: #REF!
Name ave_c2: #REF!
Name ave_c2: #REF!
Name ave_c2: #REF!
Name ave_c3: #REF!
Name ave_c3: #REF!
Name ave_c3: #REF!
Name ave_c4: #REF!
Name ave_c4: #REF!
Name ave_c4: #REF!
Name ave_c5: #REF!
Name ave_c5: #REF!
Name ave_c5: #REF!
Name ave_c6: #REF!
Name ave_c6: #REF!
Name ave_c6: #REF!
Name ave_c7: #REF!
Name ave_c7: #REF!
Name ave_c7: #REF!
Name ave_c8: #REF!
Name ave_c8: #REF!
Name ave_c8: #REF!
Name ave_c9: #REF!
Name ave_c9: #REF!
Name ave_c9: #REF!
Name f1_: 'Features (from Gillette)'!$A$3:$A$461
Name f10_: 'Features (from Gillette)'!$J$3:$J$461
Name f11_: 'Features (from Gillette)'!$K$3:$K$461
Name f12_: 'Features (from Gillette)'!$L$3:$L$461
Name f13_: 'Features (from Gillette)'!$M$3:$M$461
Name f14_: 'Features (from Gillette)'!$N$3:$N$461
Name f15_: 'Features (from Gillette)'!$O$3:$O$461
Name f2_: 'Features (from Gillette)'!$B$3:$B$461
Name f3_: 'Features (from Gillette)'!$C$3:$C$461
Name f4_: 'Features (from Gillette)'!$D$3:$D$461
Name f5_: 'Features (from Gillette)'!$E$3:$E$461
Name f6_: 'Features (from Gillette)'!$F$3:$F$461
Name f7_: 'Features (from Gillette)'!$G$3:$G$461
Name f8_: 'Features (from Gillette)'!$H$3:$H$461
Name f9_: 'Features (from Gillette)'!$I$3:$I$461

Sheet Directions

Sheet MAP
A1: Subjects | B1: Left | D1: Right | F1: Overall
B2: median | C2: IQR+ | D2: median | E2: IQR+ | F2: median | G2: IQR+
A3: Pelvis Ant/Pst | F3: ='Subject Analysis (results)'!IT8 -> 10.620379 | G3: =EXP('Subject Analysis (results)'!IR38+'Subject Analysis (results)'!IS38)-F3 -> 6.7707758
A4: Hip Flx/Ext | B4: ='Subject Analysis (results)'!IT9 -> 11.172653 | C4: =EXP('Subject Analysis (results)'!IR39+'Subject Analysis (results)'!IS39)-B4 -> 7.1228655 | D4: ='Subject Analysis (results)'!IT21 -> 13.621839 | E4: =EXP('Subject Analysis (results)'!IR51+'Subject Analysis (results)'!IS51)-D4 -> 1.8509197
A5: Knee Flx/Ext | B5: ='Subject Analysis (results)'!IT10 -> 11.555251 | C5: =EXP('Subject Analysis (results)'!IR40+'Subject Analysis (results)'!IS40)-B5 -> 7.3667818 | D5: ='Subject Analysis (results)'!IT22 -> 8.0571601 | E5: =EXP('Subject Analysis (results)'!IR52+'Subject Analysis (results)'!IS52)-D5 -> 5.0720372
A6: Ankle Dor/Pla | B6: ='Subject Analysis (results)'!IT11 -> 5.9904798 | C6: =EXP('Subject Analysis (results)'!IR41+'Subject Analysis (results)'!IS41)-B6 -> 3.8190913 | D6: ='Subject Analysis (results)'!IT23 -> 6.5205523 | E6: =EXP('Subject Analysis (results)'!IR53+'Subject Analysis (results)'!IS53)-D6 -> 9.2436147
A7: Pelvic Up/Dn | F7: ='Subject Analysis (results)'!IT13 -> 2.864935 | G7: =EXP('Subject Analysis (results)'!IR43+'Subject Analysis (results)'!IS43)-F7 -> 1.8264728
A8: Hip Add/Abd | B8: ='Subject Analysis (results)'!IT14 -> 2.4263613 | C8: =EXP('Subject Analysis (results)'!IR44+'Subject Analysis (results)'!IS44)-B8 -> 1.5468703 | D8: ='Subject Analysis (results)'!IT26 -> 6.8283623 | E8: =EXP('Subject Analysis (results)'!IR56+'Subject Analysis (results)'!IS56)-D8 -> 0.5373525
A9: Pelvic Int/Ext | F9: ='Subject Analysis (results)'!IT16 -> 3.8039061 | G9: =EXP('Subject Analysis (results)'!IR46+'Subject Analysis (results)'!IS46)-F9 -> 2.425092
A10: Hip Int/Ext | B10: ='Subject Analysis (results)'!IT17 -> 6.3858123 | C10: =EXP('Subject Analysis (results)'!IR47+'Subject Analysis (results)'!IS47)-B10 -> 4.0711264 | D10: ='Subject Analysis (results)'!IT29 -> 6.3904973 | E10: =EXP('Subject Analysis (results)'!IR59+'Subject Analysis (results)'!IS59)-D10 -> 0.32529919
A11: Foot Int/Ext | B11: ='Subject Analysis (results)'!IT18 -> 18.682956 | C11: =EXP('Subject Analysis (results)'!IR48+'Subject Analysis (results)'!IS48)-B11 -> 11.910885 | D11: ='Subject Analysis (results)'!IT30 -> 12.333385 | E11: =EXP('Subject Analysis (results)'!IR60+'Subject Analysis (results)'!IS60)-D11 -> 2.6638251
A13: GPS | B13: ='Subject Analysis (results)'!IT4 -> 9.5767455 | C13: =EXP('Subject Analysis (results)'!IR34+'Subject Analysis (results)'!IS34)-B13 -> 6.1054318 | D13: ='Subject Analysis (results)'!IT5 -> 10.501273 | E13: =EXP('Subject Analysis (results)'!IR35+'Subject Analysis (results)'!IS35)-D13 -> 4.0869521 | F13: ='Subject Analysis (results)'!IT6 -> 9.0162172 | G13: =EXP('Subject Analysis (results)'!IR36+'Subject Analysis (results)'!IS36)-F13 -> 5.1894219
A15: Controls
B16: median | C16: IQR- | D16: median | E16: IQR- | F16: median | G16: IQR-
A17: Pelvis Ant/Pst | F17: ='Control Analysis'!IT8 -> 3.48777 | G17: =F17-EXP('Control Analysis'!IR38-'Control Analysis'!IS38) -> 1.634784
A18: Hip Flx/Ext | B18: ='Control Analysis'!IT9 -> 5.3524563 | C18: =B18-EXP('Control Analysis'!IR39-'Control Analysis'!IS39) -> 2.0567267 | D18: =B18 -> 5.3524563 | E18: =C18 -> 2.0567267
A19: Knee Flx/Ext | B19: ='Control Analysis'!IT10 -> 5.2082655 | C19: =B19-EXP('Control Analysis'!IR40-'Control Analysis'!IS40) -> 2.0257994 | D19: =B19 -> 5.2082655 | E19: =C19 -> 2.0257994
A20: Ankle Dor/Pla | B20: ='Control Analysis'!IT11 -> 3.9851796 | C20: =B20-EXP('Control Analysis'!IR41-'Control Analysis'!IS41) -> 1.3536623 | D20: =B20 -> 3.9851796 | E20: =C20 -> 1.3536623
A21: Pelvic Up/Dn | F21: ='Control Analysis'!IT13 -> 1.7625136 | G21: =F21-EXP('Control Analysis'!IR43-'Control Analysis'!IS43) -> 0.71254467
A22: Hip Add/Abd | B22: ='Control Analysis'!IT14 -> 2.8454527 | C22: =B22-EXP('Control Analysis'!IR44-'Control Analysis'!IS44) -> 0.95400722 | D22: =B22 -> 2.8454527 | E22: =C22 -> 0.95400722
A23: Pelvic Int/Ext | F23: ='Control Analysis'!IT16 -> 3.4317083 | G23: =F23-EXP('Control Analysis'!IR46-'Control Analysis'!IS46) -> 1.152902
A24: Hip Int/Ext | B24: ='Control Analysis'!IT17 -> 5.6349789 | C24: =B24-EXP('Control Analysis'!IR47-'Control Analysis'!IS47) -> 2.0366305 | D24: =B24 -> 5.6349789 | E24: =C24 -> 2.0366305
A25: Foot Int/Ext | B25: ='Control Analysis'!IT18 -> 5.5807959 | C25: =B25-EXP('Control Analysis'!IR48-'Control Analysis'!IS48) -> 2.2187543 | D25: =B25 -> 5.5807959 | E25: =C25 -> 2.2187543
A27: GPS | B27: ='Control Analysis'!IR4 -> 5.266153 | C27: =B27-EXP('Control Analysis'!IR34-'Control Analysis'!IS34) -> 1.3582024 | D27: =B27 -> 5.266153 | E27: =C27 -> 1.3582024 | F27: ='Control Analysis'!IT6 -> 5.3179764 | G27: =F27-EXP('Control Analysis'!IR36-'Control Analysis'!IS36) -> 1.2666369

Sheet Graphs
V1: Pelvis Ant/Pst | W1: 2 | X1: 52
V2: Hip Flx/Ext | W2: 155 | X2: 205
V3: Knee Flx/Ext | W3: 308 | X3: 358
V4: Ankle Dor/Pla | W4: 359 | X4: 409
V5: Pelvic Up/Dn | W5: 53 | X5: 103
V6: Hip Add/Abd | W6: 206 | X6: 256
V7: Pelvic Int/Ext | W7: 104 | X7: 154
V8: Hip Int/Ext | W8: 257 | X8: 307
V9: Foot Int/Ext | W9: 410 | X9: 460
V10: Pelvis Ant/Pst | W10: 461 | X10: 511
V11: Hip Flx/Ext | W11: 614 | X11: 664
V12: Knee Flx/Ext | W12: 767 | X12: 817
... V18: Foot Int/Ext | W18: 869 | X18: 919

Sheet Subject Kinematics
B1: % Gait Cycle | C1: 0.333 | D1: 0.666 | E1: 1 | F1: 1.333 | G1: 1.666 | H1: Subject 6 | I1: Subject 7 | J1: Subject 8 | K1: Subject 9 | L1: Subject 10 | M1: Subject 11 | N1: Subject 12 | O1: Subject 13 | P1: Subject 14 | Q1: Subject 15 | R1: Subject 16 | S1: Subject 17 | T1: Subject 18 | U1: Subject 19 | V1: Subject 20 | W1: Subject 21 | X1: Subject 22 | Y1: Subject 23 | Z1: Subject 24 | AA1: Subject 25 | AB1: Subject 26 | AC1: Subject 27 | AD1: Subject 28 | AE1: Subject 29 | AF1: Subject 30 | AG1: Subject 31 | AH1: Subject 32 | AI1: Subject 33 | AJ1: Subject 34 | AK1: Subject 35 | AL1: Subject 36 | AM1: Subject 37 | AN1: Subject 38 | AO1: Subject 39 | AP1: Subject 40 | AQ1: Subject 41 | AR1: Subject 42 | AS1: Subject 43 | AT1: Subject 44 | AU1: Subject 45 | AV1: Subject 46 | AW1: Subject 47 | AX1: Subject 48 | AY1: Subject 49 | AZ1: Subject 50 | BA1: Subject 51 | BB1: Subject 52 | BC1: Subject 53 | BD1: Subject 54 | BE1: Subject 55 | BF1: Subject 56 | BG1: Subject 57 | BH1: Subject 58 | BI1: Subject 59 | BJ1: Subject 60 | BK1: Subject 61 | BL1: Subject 62 | BM1: Subject 63 | BN1: Subject 64 | BO1: Subject 65 | BP1: Subject 66 | BQ1: Subject 67 | BR1: Subject 68 | BS1: Subject 69 | BT1: Subject 70 | BU1: Subject 71 | BV1: Subject 72 | BW1: Subject 73 | BX1: Subject 74 | BY1: Subject 75 | BZ1: Subject 76 | CA1: Subject 77 | CB1: Subject 78 | CC1: Subject 79 | CD1: Subject 80 | CE1: Subject 81 | CF1: Subject 82 | CG1: Subject 83 | CH1: Subject 84 | CI1: Subject 85 | CJ1: Subject 86 | CK1: Subject 87 | CL1: Subject 88 | CM1: Subject 89 | CN1: Subject 90 | CO1: Subject 91 | CP1: Subject 92 | CQ1: Subject 93 | CR1: Subject 94 | CS1: Subject 95 | CT1: Subject 96 | CU1: Subject 97 | CV1: Subject 98 | CW1: Subject 99 | CX1: Subject 100 | CY1: Subject 101 | CZ1: Subject 102 | DA1: Subject 103 | DB1: Subject 104 | DC1: Subject 105 | DD1: Subject 106 | DE1: Subject 107 | DF1: Subject 108 | DG1: Subject 109 | DH1: Subject 110 | DI1: Subject 111 | DJ1: Subject 112 | DK1: Subject 113 | DL1: Subject 114 | DM1: Subject 115 | DN1: Subject 116 | DO1: Subject 117 | DP1: Subject 118 | DQ1: Subject 119 | DR1: Subject 120 | DS1: Subject 121 | DT1: Subject 122 | DU1: Subject 123 | DV1: Subject 124 | DW1: Subject 125 | DX1: Subject 126 | DY1: Subject 127 | DZ1: Subject 128 | EA1: Subject 129 | EB1: Subject 130 | EC1: Subject 131 | ED1: Subject 132 | EE1: Subject 133 | EF1: Subject 134 | EG1: Subject 135 | EH1: Subject 136 | EI1: Subject 137 | EJ1: Subject 138 | EK1: Subject 139 | EL1: Subject 140 | EM1: Subject 141 | EN1: Subject 142 | EO1: Subject 143 | EP1: Subject 144 | EQ1: Subject 145 | ER1: Subject 146 | ES1: Subject 147 | ET1: Subject 148 | EU1: Subject 149 | EV1: Subject 150 | EW1: Subject 151 | EX1: Subject 152 | EY1: Subject 153 | EZ1: Subject 154 | FA1: Subject 155 | FB1: Subject 156 | FC1: Subject 157 | FD1: Subject 158 | FE1: Subject 159 | FF1: Subject 160 | FG1: Subject 161 | FH1: Subject 162 | FI1: Subject 163 | FJ1: Subject 164 | FK1: Subject 165 | FL1: Subject 166 | FM1: Subject 167 | FN1: Subject 168 | FO1: Subject 169 | FP1: Subject 170 | FQ1: Subject 171 | FR1: Subject 172 | FS1: Subject 173 | FT1: Subject 174 | FU1: Subject 175 | FV1: Subject 176 | FW1: Subject 177 | FX1: Subject 178 | FY1: Subject 179 | FZ1: Subject 180 | GA1: Subject 181 | GB1: Subject 182 | GC1: Subject 183 | GD1: Subject 184 | GE1: Subject 185 | GF1: Subject 186 | GG1: Subject 187 | GH1: Subject 188 | GI1: Subject 189 | GJ1: Subject 190 | GK1: Subject 191 | GL1: Subject 192 | GM1: Subject 193 | GN1: Subject 194 | GO1: Subject 195 | GP1: Subject 196 | GQ1: Subject 197 | GR1: Subject 198 | GS1: Subject 199 | GT1: Subject 200 | GU1: Subject 201 | GV1: Subject 202 | GW1: Subject 203 | GX1: Subject 204 | GY1: Subject 205 | GZ1: Subject 206 | HA1: Subject 207 | HB1: Subject 208 | HC1: Subject 209 | HD1: Subject 210 | HE1: Subject 211 | HF1: Subject 212 | HG1: Subject 213 | HH1: Subject 214 | HI1: Subject 215 | HJ1: Subject 216 | HK1: Subject 217 | HL1: Subject 218 | HM1: Subject 219 | HN1: Subject 220 | HO1: Subject 221 | HP1: Subject 222 | HQ1: Subject 223 | HR1: Subject 224 | HS1: Subject 225 | HT1: Subject 226 | HU1: Subject 227 | HV1: Subject 228 | HW1: Subject 229 | HX1: Subject 230 | HY1: Subject 231 | HZ1: Subject 232 | IA1: Subject 233 | IB1: Subject 234 | IC1: Subject 235 | ID1: Subject 236 | IE1: Subject 237 | IF1: Subject 238 | IG1: Subject 239 | IH1: Subject 240 | II1: Subject 241 | IJ1: Subject 242 | IK1: Subject 243 | IL1: Subject 244 | IM1: Subject 245 | IN1: Subject 246 | IO1: Subject 247 | IP1: Subject 248 | IQ1: Subject 249 | IR1: Subject 250 | IS1: Average | IT1: SD
A2: Pelvis Ant/Pst | B2: 0 | C2: 17.136272 | D2: 21.561492 | E2: 25.986711 | F2: 30.411931 | G2: 34.83715 | H2: 18.720979 | I2: 18.943569 | J2: 18.854533 | K2: 20.546216 | L2: 22.237899 | M2: 23.929582 | IS2: =AVERAGE(C2:IR2) -> 23.015121 | IT2: =STDEV(C2:IR2) -> 5.475773
A3: Pelvis Ant/Pst | B3: 0.02 | C3: 16.818293 | D3: 21.152638 | E3: 25.486984 | F3: 29.821329 | G3: 34.155675 | H3: 18.370457 | I3: 18.588476 | J3: 18.501268 | K3: 20.158212 | L3: 21.815156 | M3: 23.472099 | IS3: =AVERAGE(C3:IR3) -> 22.576417 | IT3: =STDEV(C3:IR3) -> 5.3633254
A4: Pelvis Ant/Pst | B4: 0.04 | C4: 16.612099 | D4: 20.999462 | E4: 25.386825 | F4: 29.774187 | G4: 34.16155 | H4: 18.18325 | I4: 18.403935 | J4: 18.315661 | K4: 19.992872 | L4: 21.670083 | M4: 23.347294 | IS4: =AVERAGE(C4:IR4) -> 22.440656 | IT4: =STDEV(C4:IR4) -> 5.4289289
A5: Pelvis Ant/Pst | B5: 0.06 | C5: 16.550114 | D5: 21.168123 | E5: 25.786132 | F5: 30.404141 | G5: 35.02215 | H5: 18.203861 | I5: 18.436148 | J5: 18.343233 | K5: 20.108616 | L5: 21.873999 | M5: 23.639382 | IS5: =AVERAGE(C5:IR5) -> 22.685082 | IT5: =STDEV(C5:IR5) -> 5.714331
A6: Pelvis Ant/Pst | B6: 0.08 | C6: 16.668019 | D6: 21.626564 | E6: 26.585109 | F6: 31.543655 | G6: 36.5022 | H6: 18.443714 | I6: 18.693131 | J6: 18.593364 | K6: 20.488928 | L6: 22.384492 | M6: 24.280056 | IS6: =AVERAGE(C6:IR6) -> 23.255385 | IT6: =STDEV(C6:IR6) -> 6.1357111
A7: Pelvis Ant/Pst | B7: 0.1 | C7: 16.941114 | D7: 22.312492 | E7: 27.68387 | F7: 33.055247 | G7: 38.426625 | H7: 18.864648 | I7: 19.13483 | J7: 19.026758 | K7: 21.08014 | L7: 23.133523 | M7: 25.186905 | IS7: =AVERAGE(C7:IR7) -> 24.076923 | IT7: =STDEV(C7:IR7) -> 6.6465505
A8: Pelvis Ant/Pst | B8: 0.12 | C8: 17.292269 | D8: 23.087433 | E8: 28.882597 | F8: 34.677761 | G8: 40.472925 | H8: 19.367564 | I8: 19.659063 | J8: 19.542463 | K8: 21.757852 | L8: 23.973241 | M8: 26.188629 | IS8: =AVERAGE(C8:IR8) -> 24.991073 | IT8: =STDEV(C8:IR8) -> 7.1709443
A9: Pelvis Ant/Pst | B9: 0.14 | C9: 17.663484 | D9: 23.822494 | E9: 29.981504 | F9: 36.140515 | G9: 42.299525 | H9: 19.869075 | I9: 20.178876 | J9: 20.054955 | K9: 22.409436 | L9: 24.763917 | M9: 27.118397 | IS9: =AVERAGE(C9:IR9) -> 25.845653 | IT9: =STDEV(C9:IR9) -> 7.6211682
A10: Pelvis Ant/Pst | B10: 0.16 | C10: 17.955912 | D10: 24.318403 | E10: 30.680893 | F10: 37.043384 | G10: 43.405875 | H10: 20.234371 | I10: 20.554407 | J10: 20.426392 | K10: 22.85866 | L10: 25.290928 | M10: 27.723195 | IS10: =AVERAGE(C10:IR10) -> 26.408402 | IT10: =STDEV(C10:IR10) -> 7.8729553
A11: Pelvis Ant/Pst | B11: 0.18 | C11: 18.113961 | D11: 24.497396 | E11: 30.880831 | F11: 37.264265 | G11: 43.6477 | H11: 20.399921 | I11: 20.721009 | J11: 20.592574 | K11: 23.032848 | L11: 25.473122 | M11: 27.913396 | IS11: =AVERAGE(C11:IR11) -> 26.594275 | IT11: =STDEV(C11:IR11) -> 7.8988714
A12: Pelvis Ant/Pst | B12: 0.2 | C12: 18.199668 | D12: 24.490388 | E12: 30.781109 | F12: 37.071829 | G12: 43.36255 | H12: 20.452426 | I12: 20.768851 | J12: 20.642281 | K12: 23.047112 | L12: 25.451943 | M12: 27.856774 | IS12: =AVERAGE(C12:IR12) -> 26.556812 | IT12: =STDEV(C12:IR12) -> 7.7841467
A13: Pelvis Ant/Pst | B13: 0.22 | C13: 18.218775 | D13: 24.350181 | E13: 30.481587 | F13: 36.612994 | G13: 42.7444 | H13: 20.414481 | I13: 20.722893 | J13: 20.599528 | K13: 22.943456 | L13: 25.287384 | M13: 27.631312 | IS13: =AVERAGE(C13:IR13) -> 26.364272 | IT13: =STDEV(C13:IR13) -> 7.5870111
... A460: Foot Int/Ext | B460: 1 | C460: -5.6103818 | D460: -0.84734263 | E460: 3.9156966 | F460: 8.6787358 | G460: 13.441775 | H460: -3.9046989 | I460: -3.6651166 | J460: -3.7609495 | K460: -1.940124 | L460: -0.1192985 | M460: 1.701527 | IS460: =AVERAGE(C460:IR460) -> 0.71725658 | IT460: =STDEV(C460:IR460) -> 5.8937916
A461: Pelvis Ant/Pst | B461: 0 | C461: 26.2 | D461: 26.1 | E461: 26 | F461: 28.1 | G461: 27.4 | H461: 26 | IS461: =AVERAGE(C461:IR461) -> 26.633333 | IT461: =STDEV(C461:IR461) -> 0.89591666
A462: Pelvis Ant/Pst | B462: 0.02 | C462: 25.8 | D462: 25.5 | E462: 25.5 | F462: 27.4 | G462: 26.9 | H462: 25.5 | IS462: =AVERAGE(C462:IR462) -> 26.1 | IT462: =STDEV(C462:IR462) -> 0.83666003
A463: Pelvis Ant/Pst | B463: 0.04 | C463: 25.4 | D463: 25.1 | E463: 25.1 | F463: 26.8 | G463: 26.4 | H463: 25.4 | IS463: =AVERAGE(C463:IR463) -> 25.7 | IT463: =STDEV(C463:IR463) -> 0.72111026
A464: Pelvis Ant/Pst | B464: 0.06 | C464: 25.1 | D464: 24.7 | E464: 24.7 | F464: 26.5 | G464: 26.1 | H464: 25.8 | IS464: =AVERAGE(C464:IR464) -> 25.483333 | IT464: =STDEV(C464:IR464) -> 0.76004386
A465: Pelvis Ant/Pst | B465: 0.08 | C465: 24.9 | D465: 24.6 | E465: 24.4 | F465: 26.4 | G465: 26 | H465: 26.6 | IS465: =AVERAGE(C465:IR465) -> 25.483333 | IT465: =STDEV(C465:IR465) -> 0.96419224
A466: Pelvis Ant/Pst | B466: 0.1 | C466: 24.8 | D466: 24.8 | E466: 24.2 | F466: 26.7 | G466: 26.2 | H466: 27.7 | IS466: =AVERAGE(C466:IR466) -> 25.733333 | IT466: =STDEV(C466:IR466) -> 1.3500617
A467: Pelvis Ant/Pst | B467: 0.12 | C467: 25 | D467: 25.2 | E467: 24.3 | F467: 27.3 | G467: 26.5 | H467: 28.9 | IS467: =AVERAGE(C467:IR467) -> 26.2 | IT467: =STDEV(C467:IR467) -> 1.71114
A468: Pelvis Ant/Pst | B468: 0.14 | C468: 25.4 | D468: 25.8 | E468: 24.6 | F468: 28 | G468: 27 | H468: 30 | IS468: =AVERAGE(C468:IR468) -> 26.8 | IT468: =STDEV(C468:IR468) -> 1.9758542
A469: Pelvis Ant/Pst | B469: 0.16 | C469: 26 | D469: 26.6 | E469: 25.1 | F469: 28.8 | G469: 27.6 | H469: 30.7 | IS469: =AVERAGE(C469:IR469) -> 27.466667 | IT469: =STDEV(C469:IR469) -> 2.0373185
A470: Pelvis Ant/Pst | B470: 0.18 | C470: 26.6 | D470: 27.3 | E470: 25.8 | F470: 29.5 | G470: 28.2 | H470: 30.9 | IS470: =AVERAGE(C470:IR470) -> 28.05 | IT470: =STDEV(C470:IR470) -> 1.8960485
A471: Pelvis Ant/Pst | B471: 0.2 | C471: 27.1 | D471: 28.1 | E471: 26.7 | F471: 29.9 | G471: 28.8 | H471: 30.8 | IS471: =AVERAGE(C471:IR471) -> 28.566667 | IT471: =STDEV(C471:IR471) -> 1.5920637
A472: Pelvis Ant/Pst | B472: 0.22 | C472: 27.6 | D472: 28.6 | E472: 27.5 | F472: 30.1 | G472: 29.2 | H472: 30.5 | IS472: =AVERAGE(C472:IR472) -> 28.916667 | IT472: =STDEV(C472:IR472) -> 1.251266
... A919: Foot Int/Ext | B919: 1 | C919: -15.3 | D919: -19.5 | E919: -24 | F919: 0 | G919: -16.6 | H919: 3.2 | IS919: =AVERAGE(C919:IR919) -> -12.033333 | IT919: =STDEV(C919:IR919) -> 11.021192

Sheet Subject Analysis (results)
B1: ='Subject Kinematics'!C1 -> 0.333 | C1: ='Subject Kinematics'!D1 -> 0.666 | D1: ='Subject Kinematics'!E1 -> 1 | E1: ='Subject Kinematics'!F1 -> 1.333 | F1: ='Subject Kinematics'!G1 -> 1.666 | G1: 1.335 | H1: ='Subject Kinematics'!I1 -> Subject 7 | I1: subject 8 | J1: subject 9 | K1: subject 10 | L1: subject 11 | M1: subject 12 | N1: subject 13 | O1: subject 14 | P1: subject 15 | Q1: subject 16 | R1: subject 17 | S1: subject 18 | T1: subject 19 | U1: subject 20 | V1: subject 21 | W1: subject 22 | X1: subject 23 | Y1: subject 24 | Z1: subject 25 | AA1: subject 26 | AB1: subject 27 | AC1: subject 28 | AD1: subject 29 | AE1: subject 30 | AF1: subject 31 | AG1: subject 32 | AH1: subject 33 | AI1: subject 34 | AJ1: subject 35 | AK1: subject 36 | AL1: subject 37 | AM1: subject 38 | AN1: subject 39 | AO1: subject 40 | AP1: subject 41 | AQ1: subject 42 | AR1: subject 43 | AS1: subject 44 | AT1: subject 45 | AU1: subject 46 | AV1: subject 47 | AW1: subject 48 | AX1: subject 49 | AY1: subject 50 | AZ1: subject 51 | BA1: subject 52 | BB1: subject 53 | BC1: subject 54 | BD1: subject 55 | BE1: subject 56 | BF1: subject 57 | BG1: subject 58 | BH1: subject 59 | BI1: subject 60 | BJ1: subject 61 | BK1: subject 62 | BL1: subject 63 | BM1: subject 64 | BN1: subject 65 | BO1: subject 66 | BP1: subject 67 | BQ1: subject 68 | BR1: subject 69 | BS1: subject 70 | BT1: subject 71 | BU1: subject 72 | BV1: subject 73 | BW1: subject 74 | BX1: subject 75 | BY1: subject 76 | BZ1: subject 77 | CA1: subject 78 | CB1: subject 79 | CC1: subject 80 | CD1: subject 81 | CE1: subject 82 | CF1: subject 83 | CG1: subject 84 | CH1: subject 85 | CI1: subject 86 | CJ1: subject 87 | CK1: subject 88 | CL1: subject 89 | CM1: subject 90 | CN1: subject 91 | CO1: subject 92 | CP1: subject 93 | CQ1: subject 94 | CR1: subject 95 | CS1: subject 96 | CT1: subject 97 | CU1: subject 98 | CV1: subject 99 | CW1: subject 100 | CX1: subject 101 | CY1: subject 102 | CZ1: subject 103 | DA1: subject 104 | DB1: subject 105 | DC1: subject 106 | DD1: subject 107 | DE1: subject 108 | DF1: subject 109 | DG1: subject 110 | DH1: subject 111 | DI1: subject 112 | DJ1: subject 113 | DK1: subject 114 | DL1: subject 115 | DM1: subject 116 | DN1: subject 117 | DO1: subject 118 | DP1: subject 119 | DQ1: subject 120 | DR1: subject 121 | DS1: subject 122 | DT1: subject 123 | DU1: subject 124 | DV1: subject 125 | DW1: subject 126 | DX1: subject 127 | DY1: subject 128 | DZ1: subject 129 | EA1: subject 130 | EB1: subject 131 | EC1: subject 132 | ED1: subject 133 | EE1: subject 134 | EF1: subject 135 | EG1: subject 136 | EH1: subject 137 | EI1: subject 138 | EJ1: subject 139 | EK1: subject 140 | EL1: subject 141 | EM1: subject 142 | EN1: subject 143 | EO1: subject 144 | EP1: subject 145 | EQ1: subject 146 | ER1: subject 147 | ES1: subject 148 | ET1: subject 149 | EU1: subject 150 | EV1: subject 151 | EW1: subject 152 | EX1: subject 153 | EY1: subject 154 | EZ1: subject 155 | FA1: subject 156 | FB1: subject 157 | FC1: subject 158 | FD1: subject 159 | FE1: subject 160 | FF1: subject 161 | FG1: subject 162 | FH1: subject 163 | FI1: subject 164 | FJ1: subject 165 | FK1: subject 166 | FL1: subject 167 | FM1: subject 168 | FN1: subject 169 | FO1: subject 170 | FP1: subject 171 | FQ1: subject 172 | FR1: subject 173 | FS1: subject 174 | FT1: subject 175 | FU1: subject 176 | FV1: subject 177 | FW1: subject 178 | FX1: subject 179 | FY1: subject 180 | FZ1: subject 181 | GA1: subject 182 | GB1: subject 183 | GC1: subject 184 | GD1: subject 185 | GE1: subject 186 | GF1: subject 187 | GG1: subject 188 | GH1: subject 189 | GI1: subject 190 | GJ1: subject 191 | GK1: subject 192 | GL1: subject 193 | GM1: subject 194 | GN1: subject 195 | GO1: subject 196 | GP1: subject 197 | GQ1: subject 198 | GR1: subject 199 | GS1: subject 200 | GT1: subject 201 | GU1: subject 202 | GV1: subject 203 | GW1: subject 204 | GX1: subject 205 | GY1: subject 206 | GZ1: subject 207 | HA1: subject 208 | HB1: subject 209 | HC1: subject 210 | HD1: subject 211 | HE1: subject 212 | HF1: subject 213 | HG1: subject 214 | HH1: subject 215 | HI1: subject 216 | HJ1: subject 217 | HK1: subject 218 | HL1: subject 219 | HM1: subject 220 | HN1: subject 221 | HO1: subject 222 | HP1: subject 223 | HQ1: subject 224 | HR1: subject 225 | HS1: subject 226 | HT1: subject 227 | HU1: subject 228 | HV1: subject 229 | HW1: subject 230 | HX1: subject 231 | HY1: subject 232 | HZ1: subject 233 | IA1: subject 234 | IB1: subject 235 | IC1: subject 236 | ID1: subject 237 | IE1: subject 238 | IF1: subject 239 | IG1: subject 240 | IH1: subject 241 | II1: subject 242 | IJ1: subject 243 | IK1: subject 244 | IL1: subject 245 | IM1: subject 246 | IN1: subject 247 | IO1: subject 248 | IP1: subject 249 | IQ1: subject 250 | IR1: Average | IS1: Stdev | IT1: Median
A2: GDI (Left) | B2: =B80 -> 100.2501 | C2: =C80 -> 78.766704 | D2: =D80 -> 66.199722 | E2: =E80 -> 57.283307 | F2: =F80 -> 50.367197 | G2: =G80 -> 90.76307 | H2: =H80 -> 89.635891 | I2: =I80 -> 90.081856 | ... IQ2: =IQ80 | IR2: =AVERAGE(B2:IQ2) -> 77.61756 | IS2: =STDEV(B2:IQ2) -> 15.285835
A3: GDI (Right) | B3: =B100 -> 82.93157 | C3: =C100 -> 76.823694 | D3: =D100 -> 80.498763 | E3: =E100 -> 78.050815 | F3: =F100 -> 80.333286 | G3: =G100 -> 59.49006 | H3: =H100 | I3: =I100 | ... IQ3: =IQ100 | IR3: =AVERAGE(B3:IQ3) -> 76.354698 | IS3: =STDEV(B3:IQ3) -> 8.529601
A4: GPS (Left) | B4: =IF(SUM(B8:B18)<>0,SQRT(SUMSQ(B8:B18)/9),"") -> 4.6140883 | C4: =IF(SUM(C8:C18)<>0,SQRT(SUMSQ(C8:C18)/9),"") -> 9.2281765 | D4: =IF(SUM(D8:D18)<>0,SQRT(SUMSQ(D8:D18)/9),"") -> 13.842265 | E4: =IF(SUM(E8:E18)<>0,SQRT(SUMSQ(E8:E18)/9),"") -> 18.456353 | F4: =IF(SUM(F8:F18)<>0,SQRT(SUMSQ(F8:F18)/9),"") -> 23.070441 | G4: =IF(SUM(G8:G18)<>0,SQRT(SUMSQ(G8:G18)/9),"") -> 6.2664307 | H4: =IF(SUM(H8:H18)<>0,SQRT(SUMSQ(H8:H18)/9),"") -> 6.4985207 | I4: =IF(SUM(I8:I18)<>0,SQRT(SUMSQ(I8:I18)/9),"") -> 6.4056847 | ... IQ4: =IF(SUM(IQ8:IQ18)<>0,SQRT(SUMSQ(IQ8:IQ18)/9),"") | IR4: =AVERAGE(B4:IQ4) -> 10.743847 | IS4: =STDEV(B4:IQ4) -> 5.7094795 | IT4: =EXP(IR34) -> 9.5767455
A5: GPS (Right) | B5: =IF(SUM(B20:B30)<>0,SQRT(SUMSQ(B20:B30)/9),"") -> 8.4469954 | C5: =IF(SUM(C20:C30)<>0,SQRT(SUMSQ(C20:C30)/9),"") -> 10.035082 | D5: =IF(SUM(D20:D30)<>0,SQRT(SUMSQ(D20:D30)/9),"") -> 8.9682866 | E5: =IF(SUM(E20:E30)<>0,SQRT(SUMSQ(E20:E30)/9),"") -> 9.62169 | F5: =IF(SUM(F20:F30)<>0,SQRT(SUMSQ(F20:F30)/9),"") -> 9.0255928 | G5: =IF(SUM(G20:G30)<>0,SQRT(SUMSQ(G20:G30)/9),"") -> 20.31384 | H5: =IF(SUM(H20:H30)<>0,SQRT(SUMSQ(H20:H30)/9),"") | I5: =IF(SUM(I20:I30)<>0,SQRT(SUMSQ(I20:I30)/9),"") | ... IQ5: =IF(SUM(IQ20:IQ30)<>0,SQRT(SUMSQ(IQ20:IQ30)/9),"") | IR5: =AVERAGE(B5:IQ5) -> 11.068581 | IS5: =STDEV(B5:IQ5) -> 4.5627663 | IT5: =EXP(IR35) -> 10.501273
A6: GPS (Overall) | B6: =IF(SUM(B8:B11,B13:B14,B16:B18,B21:B23,B26,B29:B30)<>0,SQRT(SUMSQ(B8:B11,B13:B14,B16:B18,B21:B23,B26,B29:B30)/15),"") -> 6.3178293 | C6: =IF(SUM(C8:C11,C13:C14,C16:C18,C21:C23,C26,C29:C30)<>0,SQRT(SUMSQ(C8:C11,C13:C14,C16:C18,C21:C23,C26,C29:C30)/15),"") -> 9.5596457 | D6: =IF(SUM(D8:D11,D13:D14,D16:D18,D21:D23,D26,D29:D30)<>0,SQRT(SUMSQ(D8:D11,D13:D14,D16:D18,D21:D23,D26,D29:D30)/15),"") -> 12.044013 | E6: =IF(SUM(E8:E11,E13:E14,E16:E18,E21:E23,E26,E29:E30)<>0,SQRT(SUMSQ(E8:E11,E13:E14,E16:E18,E21:E23,E26,E29:E30)/15),"") -> 15.505748 | F6: =IF(SUM(F8:F11,F13:F14,F16:F18,F21:F23,F26,F29:F30)<>0,SQRT(SUMSQ(F8:F11,F13:F14,F16:F18,F21:F23,F26,F29:F30)/15),"") -> 18.714147 | G6: =IF(SUM(G8:G11,G13:G14,G16:G18,G21:G23,G26,G29:G30)<>0,SQRT(SUMSQ(G8:G11,G13:G14,G16:G18,G21:G23,G26,G29:G30)/15),"") -> 13.761944 | H6: =IF(SUM(H8:H11,H13:H14,H16:H18,H21:H23,H26,H29:H30)<>0,SQRT(SUMSQ(H8:H11,H13:H14,H16:H18,H21:H23,H26,H29:H30)/15),"") -> 5.0337325 | I6: =IF(SUM(I8:I11,I13:I14,I16:I18,I21:I23,I26,I29:I30)<>0,SQRT(SUMSQ(I8:I11,I13:I14,I16:I18,I21:I23,I26,I29:I30)/15),"") -> 4.961822 | ... IQ6: =IF(SUM(IQ8:IQ11,IQ13:IQ14,IQ16:IQ18,IQ21:IQ23,IQ26,IQ29:IQ30)<>0,SQRT(SUMSQ(IQ8:IQ11,IQ13:IQ14,IQ16:IQ18,IQ21:IQ23,IQ26,IQ29:IQ30)/15),"") | IR6: =AVERAGE(B6:IQ6) -> 9.9074673 | IS6: =STDEV(B6:IQ6) -> 4.560325 | IT6: =EXP(IR36) -> 9.0162172
A8: Pelvis Ant/Pst | B8: {=IF(SUM('Subject Kinematics'!C2:C52)<>0,SQRT(SUMSQ('Subject Kinematics'!C2:C52-'Control Kinematics'!$IS$2:$IS$52)/51),"")} -> 5.116912 | C8: {=IF(SUM('Subject Kinematics'!D2:D52)<>0,SQRT(SUMSQ('Subject Kinematics'!D2:D52-'Control Kinematics'!$IS$2:$IS$52)/51),"")} -> 10.233824 | D8: {=IF(SUM('Subject Kinematics'!E2:E52)<>0,SQRT(SUMSQ('Subject Kinematics'!E2:E52-'Control Kinematics'!$IS$2:$IS$52)/51),"")} -> 15.350736 | E8: {=IF(SUM('Subject Kinematics'!F2:F52)<>0,SQRT(SUMSQ('Subject Kinematics'!F2:F52-'Control Kinematics'!$IS$2:$IS$52)/51),"")} -> 20.467648 | F8: {=IF(SUM('Subject Kinematics'!G2:G52)<>0,SQRT(SUMSQ('Subject Kinematics'!G2:G52-'Control Kinematics'!$IS$2:$IS$52)/51),"")} -> 25.58456 | G8: {=IF(SUM('Subject Kinematics'!H2:H52)<>0,SQRT(SUMSQ('Subject Kinematics'!H2:H52-'Control Kinematics'!$IS$2:$IS$52)/51),"")} -> 6.9493196 | H8: {=IF(SUM('Subject Kinematics'!I2:I52)<>0,SQRT(SUMSQ('Subject Kinematics'!I2:I52-'Control Kinematics'!$IS$2:$IS$52)/51),"")} -> 7.2067018 | I8: {=IF(SUM('Subject Kinematics'!J2:J52)<>0,SQRT(SUMSQ('Subject Kinematics'!J2:J52-'Control Kinematics'!$IS$2:$IS$52)/51),"")} -> 7.1037489 | ... IQ8: {=IF(SUM('Subject Kinematics'!IR2:IR52)<>0,SQRT(SUMSQ('Subject Kinematics'!IR2:IR52-'Control Kinematics'!$IS$2:$IS$52)/51),"")} | IR8: =AVERAGE(B8:IQ8) -> 11.914666 | IS8: =STDEV(B8:IQ8) -> 6.3316743 | IT8: =EXP(IR38) -> 10.620379
A9: Hip Flx/Ext | B9: {=IF(SUM('Subject Kinematics'!C2:C52)<>0,SQRT(SUMSQ('Subject Kinematics'!C155:C205-'Control Kinematics'!$IS$155:$IS$205)/51),"")} -> 5.3829985 | C9: {=IF(SUM('Subject Kinematics'!D2:D52)<>0,SQRT(SUMSQ('Subject Kinematics'!D155:D205-'Control Kinematics'!$IS$155:$IS$205)/51),"")} -> 10.765997 | D9: {=IF(SUM('Subject Kinematics'!E2:E52)<>0,SQRT(SUMSQ('Subject Kinematics'!E155:E205-'Control Kinematics'!$IS$155:$IS$205)/51),"")} -> 16.148995 | E9: {=IF(SUM('Subject Kinematics'!F2:F52)<>0,SQRT(SUMSQ('Subject Kinematics'!F155:F205-'Control Kinematics'!$IS$155:$IS$205)/51),"")} -> 21.531994 | F9: {=IF(SUM('Subject Kinematics'!G2:G52)<>0,SQRT(SUMSQ('Subject Kinematics'!G155:G205-'Control Kinematics'!$IS$155:$IS$205)/51),"")} -> 26.914992 | G9: {=IF(SUM('Subject Kinematics'!H2:H52)<>0,SQRT(SUMSQ('Subject Kinematics'!H155:H205-'Control Kinematics'!$IS$155:$IS$205)/51),"")} -> 7.3106939 | H9: {=IF(SUM('Subject Kinematics'!I2:I52)<>0,SQRT(SUMSQ('Subject Kinematics'!I155:I205-'Control Kinematics'!$IS$155:$IS$205)/51),"")} -> 7.5814603 | I9: {=IF(SUM('Subject Kinematics'!J2:J52)<>0,SQRT(SUMSQ('Subject Kinematics'!J155:J205-'Control Kinematics'!$IS$155:$IS$205)/51),"")} -> 7.4731537 | ... IQ9: {=IF(SUM('Subject Kinematics'!IR2:IR52)<>0,SQRT(SUMSQ('Subject Kinematics'!IR155:IR205-'Control Kinematics'!$IS$155:$IS$205)/51),"")} | IR9: =AVERAGE(B9:IQ9) -> 12.534245 | IS9: =STDEV(B9:IQ9) -> 6.6609301 | IT9: =EXP(IR39) -> 11.172653
A10: Knee Flx/Ext | B10: {=IF(SUM('Subject Kinematics'!C2:C52)<>0,SQRT(SUMSQ('Subject Kinematics'!C308:C358-'Control Kinematics'!$IS$308:$IS$358)/51),"")} -> 5.5673345 | C10: {=IF(SUM('Subject Kinematics'!D2:D52)<>0,SQRT(SUMSQ('Subject Kinematics'!D308:D358-'Control Kinematics'!$IS$308:$IS$358)/51),"")} -> 11.134669 | D10: {=IF(SUM('Subject Kinematics'!E2:E52)<>0,SQRT(SUMSQ('Subject Kinematics'!E308:E358-'Control Kinematics'!$IS$308:$IS$358)/51),"")} -> 16.702003 | E10: {=IF(SUM('Subject Kinematics'!F2:F52)<>0,SQRT(SUMSQ('Subject Kinematics'!F308:F358-'Control Kinematics'!$IS$308:$IS$358)/51),"")} -> 22.269338 | F10: {=IF(SUM('Subject Kinematics'!G2:G52)<>0,SQRT(SUMSQ('Subject Kinematics'!G308:G358-'Control Kinematics'!$IS$308:$IS$358)/51),"")} -> 27.836672 | G10: {=IF(SUM('Subject Kinematics'!H2:H52)<>0,SQRT(SUMSQ('Subject Kinematics'!H308:H358-'Control Kinematics'!$IS$308:$IS$358)/51),"")} -> 7.5610421 | H10: {=IF(SUM('Subject Kinematics'!I2:I52)<>0,SQRT(SUMSQ('Subject Kinematics'!I308:I358-'Control Kinematics'!$IS$308:$IS$358)/51),"")} -> 7.8410807 | I10: {=IF(SUM('Subject Kinematics'!J2:J52)<>0,SQRT(SUMSQ('Subject Kinematics'!J308:J358-'Control Kinematics'!$IS$308:$IS$358)/51),"")} -> 7.7290653 | ... IQ10: {=IF(SUM('Subject Kinematics'!IR2:IR52)<>0,SQRT(SUMSQ('Subject Kinematics'!IR308:IR358-'Control Kinematics'!$IS$308:$IS$358)/51),"")} | IR10: =AVERAGE(B10:IQ10) -> 12.963469 | IS10: =STDEV(B10:IQ10) -> 6.8890278 | IT10: =EXP(IR40) -> 11.555251
A11: Ankle Dor/Pla | B11: {=IF(SUM('Subject Kinematics'!C2:C52)<>0,SQRT(SUMSQ('Subject Kinematics'!C359:C409-'Control Kinematics'!$IS$359:$IS$409)/51),"")} -> 2.8862208 | C11: {=IF(SUM('Subject Kinematics'!D2:D52)<>0,SQRT(SUMSQ('Subject Kinematics'!D359:D409-'Control Kinematics'!$IS$359:$IS$409)/51),"")} -> 5.7724416 | D11: {=IF(SUM('Subject Kinematics'!E2:E52)<>0,SQRT(SUMSQ('Subject Kinematics'!E359:E409-'Control Kinematics'!$IS$359:$IS$409)/51),"")} -> 8.6586625 | E11: {=IF(SUM('Subject Kinematics'!F2:F52)<>0,SQRT(SUMSQ('Subject Kinematics'!F359:F409-'Control Kinematics'!$IS$359:$IS$409)/51),"")} -> 11.544883 | F11: {=IF(SUM('Subject Kinematics'!G2:G52)<>0,SQRT(SUMSQ('Subject Kinematics'!G359:G409-'Control Kinematics'!$IS$359:$IS$409)/51),"")} -> 14.431104 | G11: {=IF(SUM('Subject Kinematics'!H2:H52)<>0,SQRT(SUMSQ('Subject Kinematics'!H359:H409-'Control Kinematics'!$IS$359:$IS$409)/51),"")} -> 3.9197999 | H11: {=IF(SUM('Subject Kinematics'!I2:I52)<>0,SQRT(SUMSQ('Subject Kinematics'!I359:I409-'Control Kinematics'!$IS$359:$IS$409)/51),"")} -> 4.0649777 | I11: {=IF(SUM('Subject Kinematics'!J2:J52)<>0,SQRT(SUMSQ('Subject Kinematics'!J359:J409-'Control Kinematics'!$IS$359:$IS$409)/51),"")} -> 4.0069066 | ... IQ11: {=IF(SUM('Subject Kinematics'!IR2:IR52)<>0,SQRT(SUMSQ('Subject Kinematics'!IR359:IR409-'Control Kinematics'!$IS$359:$IS$409)/51),"")} | IR11: =AVERAGE(B11:IQ11) -> 6.7205293 | IS11: =STDEV(B11:IQ11) -> 3.5714138 | IT11: =EXP(IR41) -> 5.9904798
A13: Pelvic Up/Dn | B13: {=IF(SUM('Subject Kinematics'!C2:C52)<>0,SQRT(SUMSQ('Subject Kinematics'!C53:C103-'Control Kinematics'!$IS$53:$IS$103)/51),"")} -> 1.3803293 | C13: {=IF(SUM('Subject Kinematics'!D2:D52)<>0,SQRT(SUMSQ('Subject Kinematics'!D53:D103-'Control Kinematics'!$IS$53:$IS$103)/51),"")} -> 2.7606587 | D13: {=IF(SUM('Subject Kinematics'!E2:E52)<>0,SQRT(SUMSQ('Subject Kinematics'!E53:E103-'Control Kinematics'!$IS$53:$IS$103)/51),"")} -> 4.140988 | E13: {=IF(SUM('Subject Kinematics'!F2:F52)<>0,SQRT(SUMSQ('Subject Kinematics'!F53:F103-'Control Kinematics'!$IS$53:$IS$103)/51),"")} -> 5.5213174 | F13: {=IF(SUM('Subject Kinematics'!G2:G52)<>0,SQRT(SUMSQ('Subject Kinematics'!G53:G103-'Control Kinematics'!$IS$53:$IS$103)/51),"")} -> 6.9016467 | G13: {=IF(SUM('Subject Kinematics'!H2:H52)<>0,SQRT(SUMSQ('Subject Kinematics'!H53:H103-'Control Kinematics'!$IS$53:$IS$103)/51),"")} -> 1.8746365 | H13: {=IF(SUM('Subject Kinematics'!I2:I52)<>0,SQRT(SUMSQ('Subject Kinematics'!I53:I103-'Control Kinematics'!$IS$53:$IS$103)/51),"")} -> 1.9440674 | I13: {=IF(SUM('Subject Kinematics'!J2:J52)<>0,SQRT(SUMSQ('Subject Kinematics'!J53:J103-'Control Kinematics'!$IS$53:$IS$103)/51),"")} -> 1.9162951 | ... IQ13: {=IF(SUM('Subject Kinematics'!IR2:IR52)<>0,SQRT(SUMSQ('Subject Kinematics'!IR53:IR103-'Control Kinematics'!$IS$53:$IS$103)/51),"")} | IR13: =AVERAGE(B13:IQ13) -> 3.2140797 | IS13: =STDEV(B13:IQ13) -> 1.7080215 | IT13: =EXP(IR43) -> 2.864935
A14: Hip Add/Abd | B14: {=IF(SUM('Subject Kinematics'!C2:C52)<>0,SQRT(SUMSQ('Subject Kinematics'!C206:C256-'Control Kinematics'!$IS$206:$IS$256)/51),"")} -> 1.169024 | C14: {=IF(SUM('Subject Kinematics'!D2:D52)<>0,SQRT(SUMSQ('Subject Kinematics'!D206:D256-'Control Kinematics'!$IS$206:$IS$256)/51),"")} -> 2.338048 | D14: {=IF(SUM('Subject Kinematics'!E2:E52)<>0,SQRT(SUMSQ('Subject Kinematics'!E206:E256-'Control Kinematics'!$IS$206:$IS$256)/51),"")} -> 3.507072 | E14: {=IF(SUM('Subject Kinematics'!F2:F52)<>0,SQRT(SUMSQ('Subject Kinematics'!F206:F256-'Control Kinematics'!$IS$206:$IS$256)/51),"")} -> 4.6760959 | F14: {=IF(SUM('Subject Kinematics'!G2:G52)<>0,SQRT(SUMSQ('Subject Kinematics'!G206:G256-'Control Kinematics'!$IS$206:$IS$256)/51),"")} -> 5.8451199 | G14: {=IF(SUM('Subject Kinematics'!H2:H52)<>0,SQRT(SUMSQ('Subject Kinematics'!H206:H256-'Control Kinematics'!$IS$206:$IS$256)/51),"")} -> 1.587661 | H14: {=IF(SUM('Subject Kinematics'!I2:I52)<>0,SQRT(SUMSQ('Subject Kinematics'!I206:I256-'Control Kinematics'!$IS$206:$IS$256)/51),"")} -> 1.6464632 | I14: {=IF(SUM('Subject Kinematics'!J2:J52)<>0,SQRT(SUMSQ('Subject Kinematics'!J206:J256-'Control Kinematics'!$IS$206:$IS$256)/51),"")} -> 1.6229423 | ... IQ14: {=IF(SUM('Subject Kinematics'!IR2:IR52)<>0,SQRT(SUMSQ('Subject Kinematics'!IR206:IR256-'Control Kinematics'!$IS$206:$IS$256)/51),"")} | IR14: =AVERAGE(B14:IQ14) -> 2.7220578 | IS14: =STDEV(B14:IQ14) -> 1.446552 | IT14: =EXP(IR44) -> 2.4263613
A16: Pelvic Int/Ext | B16: {=IF(SUM('Subject Kinematics'!C2:C52)<>0,SQRT(SUMSQ('Subject Kinematics'!C104:C154-'Control Kinematics'!$IS$104:$IS$154)/51),"")} -> 1.8327268 | C16: {=IF(SUM('Subject Kinematics'!D2:D52)<>0,SQRT(SUMSQ('Subject Kinematics'!D104:D154-'Control Kinematics'!$IS$104:$IS$154)/51),"")} -> 3.6654536 | D16: {=IF(SUM('Subject Kinematics'!E2:E52)<>0,SQRT(SUMSQ('Subject Kinematics'!E104:E154-'Control Kinematics'!$IS$104:$IS$154)/51),"")} -> 5.4981804 | E16: {=IF(SUM('Subject Kinematics'!F2:F52)<>0,SQRT(SUMSQ('Subject Kinematics'!F104:F154-'Control Kinematics'!$IS$104:$IS$154)/51),"")} -> 7.3309072 | F16: {=IF(SUM('Subject Kinematics'!G2:G52)<>0,SQRT(SUMSQ('Subject Kinematics'!G104:G154-'Control Kinematics'!$IS$104:$IS$154)/51),"")} -> 9.163634 | G16: {=IF(SUM('Subject Kinematics'!H2:H52)<>0,SQRT(SUMSQ('Subject Kinematics'!H104:H154-'Control Kinematics'!$IS$104:$IS$154)/51),"")} -> 2.4890411 | H16: {=IF(SUM('Subject Kinematics'!I2:I52)<>0,SQRT(SUMSQ('Subject Kinematics'!I104:I154-'Control Kinematics'!$IS$104:$IS$154)/51),"")} -> 2.5812278 | I16: {=IF(SUM('Subject Kinematics'!J2:J52)<>0,SQRT(SUMSQ('Subject Kinematics'!J104:J154-'Control Kinematics'!$IS$104:$IS$154)/51),"")} -> 2.5443532 | ... IQ16: {=IF(SUM('Subject Kinematics'!IR2:IR52)<>0,SQRT(SUMSQ('Subject Kinematics'!IR104:IR154-'Control Kinematics'!$IS$104:$IS$154)/51),"")} | IR16: =AVERAGE(B16:IQ16) -> 4.2674816 | IS16: =STDEV(B16:IQ16) -> 2.2678188 | IT16: =EXP(IR46) -> 3.8039061
A17: Hip Int/Ext | B17: {=IF(SUM('Subject Kinematics'!C2:C52)<>0,SQRT(SUMSQ('Subject Kinematics'!C257:C307-'Control Kinematics'!$IS$257:$IS$307)/51),"")} -> 3.0766925 | C17: {=IF(SUM('Subject Kinematics'!D2:D52)<>0,SQRT(SUMSQ('Subject Kinematics'!D257:D307-'Control Kinematics'!$IS$257:$IS$307)/51),"")} -> 6.153385 | D17: {=IF(SUM('Subject Kinematics'!E2:E52)<>0,SQRT(SUMSQ('Subject Kinematics'!E257:E307-'Control Kinematics'!$IS$257:$IS$307)/51),"")} -> 9.2300775 | E17: {=IF(SUM('Subject Kinematics'!F2:F52)<>0,SQRT(SUMSQ('Subject Kinematics'!F257:F307-'Control Kinematics'!$IS$257:$IS$307)/51),"")} -> 12.30677 | F17: {=IF(SUM('Subject Kinematics'!G2:G52)<>0,SQRT(SUMSQ('Subject Kinematics'!G257:G307-'Control Kinematics'!$IS$257:$IS$307)/51),"")} -> 15.383463 | G17: {=IF(SUM('Subject Kinematics'!H2:H52)<>0,SQRT(SUMSQ('Subject Kinematics'!H257:H307-'Control Kinematics'!$IS$257:$IS$307)/51),"")} -> 4.1784811 | H17: {=IF(SUM('Subject Kinematics'!I2:I52)<>0,SQRT(SUMSQ('Subject Kinematics'!I257:I307-'Control Kinematics'!$IS$257:$IS$307)/51),"")} -> 4.3332396 | I17: {=IF(SUM('Subject Kinematics'!J2:J52)<>0,SQRT(SUMSQ('Subject Kinematics'!J257:J307-'Control Kinematics'!$IS$257:$IS$307)/51),"")} -> 4.2713362 | ... IQ17: {=IF(SUM('Subject Kinematics'!IR2:IR52)<>0,SQRT(SUMSQ('Subject Kinematics'!IR257:IR307-'Control Kinematics'!$IS$257:$IS$307)/51),"")} | IR17: =AVERAGE(B17:IQ17) -> 7.1640403 | IS17: =STDEV(B17:IQ17) -> 3.8071038 | IT17: =EXP(IR47) -> 6.3858123
A18: Foot Int/Ext | B18: {=IF(SUM('Subject Kinematics'!C2:C52)<>0,SQRT(SUMSQ('Subject Kinematics'!C410:C460-'Control Kinematics'!$IS$410:$IS$460)/51),"")} -> 9.001472 | C18: {=IF(SUM('Subject Kinematics'!D2:D52)<>0,SQRT(SUMSQ('Subject Kinematics'!D410:D460-'Control Kinematics'!$IS$410:$IS$460)/51),"")} -> 18.002944 | D18: {=IF(SUM('Subject Kinematics'!E2:E52)<>0,SQRT(SUMSQ('Subject Kinematics'!E410:E460-'Control Kinematics'!$IS$410:$IS$460)/51),"")} -> 27.004416 | E18: {=IF(SUM('Subject Kinematics'!F2:F52)<>0,SQRT(SUMSQ('Subject Kinematics'!F410:F460-'Control Kinematics'!$IS$410:$IS$460)/51),"")} -> 36.005888 | F18: {=IF(SUM('Subject Kinematics'!G2:G52)<>0,SQRT(SUMSQ('Subject Kinematics'!G410:G460-'Control Kinematics'!$IS$410:$IS$460)/51),"")} -> 45.00736 | G18: {=IF(SUM('Subject Kinematics'!H2:H52)<>0,SQRT(SUMSQ('Subject Kinematics'!H410:H460-'Control Kinematics'!$IS$410:$IS$460)/51),"")} -> 12.224972 | H18: {=IF(SUM('Subject Kinematics'!I2:I52)<>0,SQRT(SUMSQ('Subject Kinematics'!I410:I460-'Control Kinematics'!$IS$410:$IS$460)/51),"")} -> 12.677749 | I18: {=IF(SUM('Subject Kinematics'!J2:J52)<>0,SQRT(SUMSQ('Subject Kinematics'!J410:J460-'Control Kinematics'!$IS$410:$IS$460)/51),"")} -> 12.496638 | ... IQ18: {=IF(SUM('Subject Kinematics'!IR2:IR52)<>0,SQRT(SUMSQ('Subject Kinematics'!IR410:IR460-'Control Kinematics'!$IS$410:$IS$460)/51),"")} | IR18: =AVERAGE(B18:IQ18) -> 20.959816 | IS18: =STDEV(B18:IQ18) -> 11.138435 | IT18: =EXP(IR48) -> 18.682956
A20: Pelvis Ant/Pst | B20: {=IF(SUM('Subject Kinematics'!C461:C511)<>0,SQRT(SUMSQ('Subject Kinematics'!C461:C511-'Control Kinematics'!$IS$2:$IS$52)/51),"")} -> 14.802636 | C20: {=IF(SUM('Subject Kinematics'!D461:D511)<>0,SQRT(SUMSQ('Subject Kinematics'!D461:D511-'Control Kinematics'!$IS$2:$IS$52)/51),"")} -> 15.538698 | D20: {=IF(SUM('Subject Kinematics'!E461:E511)<>0,SQRT(SUMSQ('Subject Kinematics'!E461:E511-'Control Kinematics'!$IS$2:$IS$52)/51),"")} -> 15.06898 | E20: {=IF(SUM('Subject Kinematics'!F461:F511)<>0,SQRT(SUMSQ('Subject Kinematics'!F461:F511-'Control Kinematics'!$IS$2:$IS$52)/51),"")} -> 15.15455 | F20: {=IF(SUM('Subject Kinematics'!G461:G511)<>0,SQRT(SUMSQ('Subject Kinematics'!G461:G511-'Control Kinematics'!$IS$2:$IS$52)/51),"")} -> 15.783369 | G20: {=IF(SUM('Subject Kinematics'!H461:H511)<>0,SQRT(SUMSQ('Subject Kinematics'!H461:H511-'Control Kinematics'!$IS$2:$IS$52)/51),"")} -> 15.366102 | H20: {=IF(SUM('Subject Kinematics'!I461:I511)<>0,SQRT(SUMSQ('Subject Kinematics'!I461:I511-'Control Kinematics'!$IS$2:$IS$52)/51),"")} | I20: {=IF(SUM('Subject Kinematics'!J461:J511)<>0,SQRT(SUMSQ('Subject Kinematics'!J461:J511-'Control Kinematics'!$IS$2:$IS$52)/51),"")} | ... IQ20: {=IF(SUM('Subject Kinematics'!IR461:IR511)<>0,SQRT(SUMSQ('Subject Kinematics'!IR461:IR511-'Control Kinematics'!$IS$2:$IS$52)/51),"")} | IR20: =AVERAGE(B20:IQ20) -> 15.285722 | IS20: =STDEV(B20:IQ20) -> 0.35090333 | IT20: =EXP(IR50) -> 15.282368
A21: Hip Flx/Ext | B21: {=IF(SUM('Subject Kinematics'!C461:C511)<>0,SQRT(SUMSQ('Subject Kinematics'!C614:C664-'Control Kinematics'!$IS$155:$IS$205)/51),"")} -> 13.065888 | C21: {=IF(SUM('Subject Kinematics'!D461:D511)<>0,SQRT(SUMSQ('Subject Kinematics'!D614:D664-'Control Kinematics'!$IS$155:$IS$205)/51),"")} -> 12.861486 | D21: {=IF(SUM('Subject Kinematics'!E461:E511)<>0,SQRT(SUMSQ('Subject Kinematics'!E614:E664-'Control Kinematics'!$IS$155:$IS$205)/51),"")} -> 11.935717 | E21: {=IF(SUM('Subject Kinematics'!F461:F511)<>0,SQRT(SUMSQ('Subject Kinematics'!F614:F664-'Control Kinematics'!$IS$155:$IS$205)/51),"")} -> 13.198738 | F21: {=IF(SUM('Subject Kinematics'!G461:G511)<>0,SQRT(SUMSQ('Subject Kinematics'!G614:G664-'Control Kinematics'!$IS$155:$IS$205)/51),"")} -> 13.950448 | G21: {=IF(SUM('Subject Kinematics'!H461:H511)<>0,SQRT(SUMSQ('Subject Kinematics'!H614:H664-'Control Kinematics'!$IS$155:$IS$205)/51),"")} -> 17.29877 | H21: {=IF(SUM('Subject Kinematics'!I461:I511)<>0,SQRT(SUMSQ('Subject Kinematics'!I614:I664-'Control Kinematics'!$IS$155:$IS$205)/51),"")} | I21: {=IF(SUM('Subject Kinematics'!J461:J511)<>0,SQRT(SUMSQ('Subject Kinematics'!J614:J664-'Control Kinematics'!$IS$155:$IS$205)/51),"")} | ... IQ21: {=IF(SUM('Subject Kinematics'!IR461:IR511)<>0,SQRT(SUMSQ('Subject Kinematics'!IR614:IR664-'Control Kinematics'!$IS$155:$IS$205)/51),"")} | IR21: =AVERAGE(B21:IQ21) -> 13.718508 | IS21: =STDEV(B21:IQ21) -> 1.8698117 | IT21: =EXP(IR51) -> 13.621839
A22: Knee Flx/Ext | B22: {=IF(SUM('Subject Kinematics'!C461:C511)<>0,SQRT(SUMSQ('Subject Kinematics'!C767:C817-'Control Kinematics'!$IS$308:$IS$358)/51),"")} -> 5.2831867 | C22: {=IF(SUM('Subject Kinematics'!D461:D511)<>0,SQRT(SUMSQ('Subject Kinematics'!D767:D817-'Control Kinematics'!$IS$308:$IS$358)/51),"")} -> 8.1815729 | D22: {=IF(SUM('Subject Kinematics'!E461:E511)<>0,SQRT(SUMSQ('Subject Kinematics'!E767:E817-'Control Kinematics'!$IS$308:$IS$358)/51),"")} -> 7.3622798 | E22: {=IF(SUM('Subject Kinematics'!F461:F511)<>0,SQRT(SUMSQ('Subject Kinematics'!F767:F817-'Control Kinematics'!$IS$308:$IS$358)/51),"")} -> 5.4274494 | F22: {=IF(SUM('Subject Kinematics'!G461:G511)<>0,SQRT(SUMSQ('Subject Kinematics'!G767:G817-'Control Kinematics'!$IS$308:$IS$358)/51),"")} -> 7.8250887 | G22: {=IF(SUM('Subject Kinematics'!H461:H511)<>0,SQRT(SUMSQ('Subject Kinematics'!H767:H817-'Control Kinematics'!$IS$308:$IS$358)/51),"")} -> 20.242391 | H22: {=IF(SUM('Subject Kinematics'!I461:I511)<>0,SQRT(SUMSQ('Subject Kinematics'!I767:I817-'Control Kinematics'!$IS$308:$IS$358)/51),"")} | I22: {=IF(SUM('Subject Kinematics'!J461:J511)<>0,SQRT(SUMSQ('Subject Kinematics'!J767:J817-'Control Kinematics'!$IS$308:$IS$358)/51),"")} | ... IQ22: {=IF(SUM('Subject Kinematics'!IR461:IR511)<>0,SQRT(SUMSQ('Subject Kinematics'!IR767:IR817-'Control Kinematics'!$IS$308:$IS$358)/51),"")} | IR22: =AVERAGE(B22:IQ22) -> 9.0536615 | IS22: =STDEV(B22:IQ22) -> 5.6157684 | IT22: =EXP(IR52) -> 8.0571601
A23: Ankle Dor/Pla | B23: {=IF(SUM('Subject Kinematics'!C461:C511)<>0,SQRT(SUMSQ('Subject Kinematics'!C818:C868-'Control Kinematics'!$IS$359:$IS$409)/51),"")} -> 4.5950943 | C23: {=IF(SUM('Subject Kinematics'!D461:D511)<>0,SQRT(SUMSQ('Subject Kinematics'!D818:D868-'Control Kinematics'!$IS$359:$IS$409)/51),"")} -> 4.089503 | D23: {=IF(SUM('Subject Kinematics'!E461:E511)<>0,SQRT(SUMSQ('Subject Kinematics'!E818:E868-'Control Kinematics'!$IS$359:$IS$409)/51),"")} -> 4.6515374 | E23: {=IF(SUM('Subject Kinematics'!F461:F511)<>0,SQRT(SUMSQ('Subject Kinematics'!F818:F868-'Control Kinematics'!$IS$359:$IS$409)/51),"")} -> 4.7924942 | F23: {=IF(SUM('Subject Kinematics'!G461:G511)<>0,SQRT(SUMSQ('Subject Kinematics'!G818:G868-'Control Kinematics'!$IS$359:$IS$409)/51),"")} -> 4.6584792 | G23: {=IF(SUM('Subject Kinematics'!H461:H511)<>0,SQRT(SUMSQ('Subject Kinematics'!H818:H868-'Control Kinematics'!$IS$359:$IS$409)/51),"")} -> 39.385745 | H23: {=IF(SUM('Subject Kinematics'!I461:I511)<>0,SQRT(SUMSQ('Subject Kinematics'!I818:I868-'Control Kinematics'!$IS$359:$IS$409)/51),"")} | I23: {=IF(SUM('Subject Kinematics'!J461:J511)<>0,SQRT(SUMSQ('Subject Kinematics'!J818:J868-'Control Kinematics'!$IS$359:$IS$409)/51),"")} | ... IQ23: {=IF(SUM('Subject Kinematics'!IR461:IR511)<>0,SQRT(SUMSQ('Subject Kinematics'!IR818:IR868-'Control Kinematics'!$IS$359:$IS$409)/51),"")} | IR23: =AVERAGE(B23:IQ23) -> 10.362142 | IS23: =STDEV(B23:IQ23) -> 14.220676 | IT23: =EXP(IR53) -> 6.5205523
A25: Pelvic Up/Dn | B25: {=IF(SUM('Subject Kinematics'!C461:C511)<>0,SQRT(SUMSQ('Subject Kinematics'!C512:C562-'Control Kinematics'!$IS$53:$IS$103)/51),"")} -> 2.0087854 | C25: {=IF(SUM('Subject Kinematics'!D461:D511)<>0,SQRT(SUMSQ('Subject Kinematics'!D512:D562-'Control Kinematics'!$IS$53:$IS$103)/51),"")} -> 2.7737671 | D25: {=IF(SUM('Subject Kinematics'!E461:E511)<>0,SQRT(SUMSQ('Subject Kinematics'!E512:E562-'Control Kinematics'!$IS$53:$IS$103)/51),"")} -> 2.7389899 | E25: {=IF(SUM('Subject Kinematics'!F461:F511)<>0,SQRT(SUMSQ('Subject Kinematics'!F512:F562-'Control Kinematics'!$IS$53:$IS$103)/51),"")} -> 3.8079745 | F25: {=IF(SUM('Subject Kinematics'!G461:G511)<>0,SQRT(SUMSQ('Subject Kinematics'!G512:G562-'Control Kinematics'!$IS$53:$IS$103)/51),"")} -> 3.5887252 | G25: {=IF(SUM('Subject Kinematics'!H461:H511)<>0,SQRT(SUMSQ('Subject Kinematics'!H512:H562-'Control Kinematics'!$IS$53:$IS$103)/51),"")} -> 30.909375 | H25: {=IF(SUM('Subject Kinematics'!I461:I511)<>0,SQRT(SUMSQ('Subject Kinematics'!I512:I562-'Control Kinematics'!$IS$53:$IS$103)/51),"")} | I25: {=IF(SUM('Subject Kinematics'!J461:J511)<>0,SQRT(SUMSQ('Subject Kinematics'!J512:J562-'Control Kinematics'!$IS$53:$IS$103)/51),"")} | ... IQ25: {=IF(SUM('Subject Kinematics'!IR461:IR511)<>0,SQRT(SUMSQ('Subject Kinematics'!IR512:IR562-'Control Kinematics'!$IS$53:$IS$103)/51),"")} | IR25: =AVERAGE(B25:IQ25) -> 7.6379362 | IS25: =STDEV(B25:IQ25) -> 11.419034 | IT25: =EXP(IR55) -> 4.3140622
A26: Hip Add/Abd | B26: {=IF(SUM('Subject Kinematics'!C461:C511)<>0,SQRT(SUMSQ('Subject Kinematics'!C665:C715-'Control Kinematics'!$IS$206:$IS$256)/51),"")} -> 5.9914962 | C26: {=IF(SUM('Subject Kinematics'!D461:D511)<>0,SQRT(SUMSQ('Subject Kinematics'!D665:D715-'Control Kinematics'!$IS$206:$IS$256)/51),"")} -> 7.1385792 | D26: {=IF(SUM('Subject Kinematics'!E461:E511)<>0,SQRT(SUMSQ('Subject Kinematics'!E665:E715-'Control Kinematics'!$IS$206:$IS$256)/51),"")} -> 6.6376099 | E26: {=IF(SUM('Subject Kinematics'!F461:F511)<>0,SQRT(SUMSQ('Subject Kinematics'!F665:F715-'Control Kinematics'!$IS$206:$IS$256)/51),"")} -> 6.7845403 | F26: {=IF(SUM('Subject Kinematics'!G461:G511)<>0,SQRT(SUMSQ('Subject Kinematics'!G665:G715-'Control Kinematics'!$IS$206:$IS$256)/51),"")} -> 7.0619273 | G26: {=IF(SUM('Subject Kinematics'!H461:H511)<>0,SQRT(SUMSQ('Subject Kinematics'!H665:H715-'Control Kinematics'!$IS$206:$IS$256)/51),"")} -> 7.4524122 | H26: {=IF(SUM('Subject Kinematics'!I461:I511)<>0,SQRT(SUMSQ('Subject Kinematics'!I665:I715-'Control Kinematics'!$IS$206:$IS$256)/51),"")} | I26: {=IF(SUM('Subject Kinematics'!J461:J511)<>0,SQRT(SUMSQ('Subject Kinematics'!J665:J715-'Control Kinematics'!$IS$206:$IS$256)/51),"")} | ... IQ26: {=IF(SUM('Subject Kinematics'!IR461:IR511)<>0,SQRT(SUMSQ('Subject Kinematics'!IR665:IR715-'Control Kinematics'!$IS$206:$IS$256)/51),"")} | IR26: =AVERAGE(B26:IQ26) -> 6.8444275 | IS26: =STDEV(B26:IQ26) -> 0.50543617 | IT26: =EXP(IR56) -> 6.8283623
A28: Pelvic Int/Ext | B28: {=IF(SUM('Subject Kinematics'!C461:C511)<>0,SQRT(SUMSQ('Subject Kinematics'!C563:C613-'Control Kinematics'!$IS$104:$IS$154)/51),"")} -> 3.4490775 | C28: {=IF(SUM('Subject Kinematics'!D461:D511)<>0,SQRT(SUMSQ('Subject Kinematics'!D563:D613-'Control Kinematics'!$IS$104:$IS$154)/51),"")} -> 7.2671675 | D28: {=IF(SUM('Subject Kinematics'!E461:E511)<>0,SQRT(SUMSQ('Subject Kinematics'!E563:E613-'Control Kinematics'!$IS$104:$IS$154)/51),"")} -> 6.1559938 | E28: {=IF(SUM('Subject Kinematics'!F461:F511)<>0,SQRT(SUMSQ('Subject Kinematics'!F563:F613-'Control Kinematics'!$IS$104:$IS$154)/51),"")} -> 6.9527268 | F28: {=IF(SUM('Subject Kinematics'!G461:G511)<>0,SQRT(SUMSQ('Subject Kinematics'!G563:G613-'Control Kinematics'!$IS$104:$IS$154)/51),"")} -> 2.8418301 | G28: {=IF(SUM('Subject Kinematics'!H461:H511)<>0,SQRT(SUMSQ('Subject Kinematics'!H563:H613-'Control Kinematics'!$IS$104:$IS$154)/51),"")} -> 5.9084159 | H28: {=IF(SUM('Subject Kinematics'!I461:I511)<>0,SQRT(SUMSQ('Subject Kinematics'!I563:I613-'Control Kinematics'!$IS$104:$IS$154)/51),"")} | I28: {=IF(SUM('Subject Kinematics'!J461:J511)<>0,SQRT(SUMSQ('Subject Kinematics'!J563:J613-'Control Kinematics'!$IS$104:$IS$154)/51),"")} | ... IQ28: {=IF(SUM('Subject Kinematics'!IR461:IR511)<>0,SQRT(SUMSQ('Subject Kinematics'!IR563:IR613-'Control Kinematics'!$IS$104:$IS$154)/51),"")} | IR28: =AVERAGE(B28:IQ28) -> 5.4292019 | IS28: =STDEV(B28:IQ28) -> 1.8478368 | IT28: =EXP(IR58) -> 5.1199428
A29: Hip Int/Ext | B29: {=IF(SUM('Subject Kinematics'!C461:C511)<>0,SQRT(SUMSQ('Subject Kinematics'!C716:C766-'Control Kinematics'!$IS$257:$IS$307)/51),"")} -> 5.9768765 | C29: {=IF(SUM('Subject Kinematics'!D461:D511)<>0,SQRT(SUMSQ('Subject Kinematics'!D716:D766-'Control Kinematics'!$IS$257:$IS$307)/51),"")} -> 6.5534592 | D29: {=IF(SUM('Subject Kinematics'!E461:E511)<>0,SQRT(SUMSQ('Subject Kinematics'!E716:E766-'Control Kinematics'!$IS$257:$IS$307)/51),"")} -> 6.7933507 | E29: {=IF(SUM('Subject Kinematics'!F461:F511)<>0,SQRT(SUMSQ('Subject Kinematics'!F716:F766-'Control Kinematics'!$IS$257:$IS$307)/51),"")} -> 6.5759857 | F29: {=IF(SUM('Subject Kinematics'!G461:G511)<>0,SQRT(SUMSQ('Subject Kinematics'!G716:G766-'Control Kinematics'!$IS$257:$IS$307)/51),"")} -> 6.4124784 | G29: {=IF(SUM('Subject Kinematics'!H461:H511)<>0,SQRT(SUMSQ('Subject Kinematics'!H716:H766-'Control Kinematics'!$IS$257:$IS$307)/51),"")} -> 6.0700498 | H29: {=IF(SUM('Subject Kinematics'!I461:I511)<>0,SQRT(SUMSQ('Subject Kinematics'!I716:I766-'Control Kinematics'!$IS$257:$IS$307)/51),"")} | I29: {=IF(SUM('Subject Kinematics'!J461:J511)<>0,SQRT(SUMSQ('Subject Kinematics'!J716:J766-'Control Kinematics'!$IS$257:$IS$307)/51),"")} | ... IQ29: {=IF(SUM('Subject Kinematics'!IR461:IR511)<>0,SQRT(SUMSQ('Subject Kinematics'!IR716:IR766-'Control Kinematics'!$IS$257:$IS$307)/51),"")} | IR29: =AVERAGE(B29:IQ29) -> 6.3970334 | IS29: =STDEV(B29:IQ29) -> 0.31535662 | IT29: =EXP(IR59) -> 6.3904973
A30: Foot Int/Ext | B30: {=IF(SUM('Subject Kinematics'!C461:C511)<>0,SQRT(SUMSQ('Subject Kinematics'!C869:C919-'Control Kinematics'!$IS$410:$IS$460)/51),"")} -> 10.758752 | C30: {=IF(SUM('Subject Kinematics'!D461:D511)<>0,SQRT(SUMSQ('Subject Kinematics'!D869:D919-'Control Kinematics'!$IS$410:$IS$460)/51),"")} -> 16.167315 | D30: {=IF(SUM('Subject Kinematics'!E461:E511)<>0,SQRT(SUMSQ('Subject Kinematics'!E869:E919-'Control Kinematics'!$IS$410:$IS$460)/51),"")} -> 11.953669 | E30: {=IF(SUM('Subject Kinematics'!F461:F511)<>0,SQRT(SUMSQ('Subject Kinematics'!F869:F919-'Control Kinematics'!$IS$410:$IS$460)/51),"")} -> 14.992842 | F30: {=IF(SUM('Subject Kinematics'!G461:G511)<>0,SQRT(SUMSQ('Subject Kinematics'!G869:G919-'Control Kinematics'!$IS$410:$IS$460)/51),"")} -> 9.7233281 | G30: {=IF(SUM('Subject Kinematics'!H461:H511)<>0,SQRT(SUMSQ('Subject Kinematics'!H869:H919-'Control Kinematics'!$IS$410:$IS$460)/51),"")} -> 11.611648 | H30: {=IF(SUM('Subject Kinematics'!I461:I511)<>0,SQRT(SUMSQ('Subject Kinematics'!I869:I919-'Control Kinematics'!$IS$410:$IS$460)/51),"")} | I30: {=IF(SUM('Subject Kinematics'!J461:J511)<>0,SQRT(SUMSQ('Subject Kinematics'!J869:J919-'Control Kinematics'!$IS$410:$IS$460)/51),"")} | ... IQ30: {=IF(SUM('Subject Kinematics'!IR461:IR511)<>0,SQRT(SUMSQ('Subject Kinematics'!IR869:IR919-'Control Kinematics'!$IS$410:$IS$460)/51),"")} | IR30: =AVERAGE(B30:IQ30) -> 12.534592 | IS30: =STDEV(B30:IQ30) -> 2.5094136 | IT30: =EXP(IR60) -> 12.333385
A33: Log Transform
A34: GPS (Left) | B34: =IF(B4<>"",LN(B4),"") -> 1.5291143 | C34: =IF(C4<>"",LN(C4),"") -> 2.2222615 | D34: =IF(D4<>"",LN(D4),"") -> 2.6277266 | E34: =IF(E4<>"",LN(E4),"") -> 2.9154086 | F34: =IF(F4<>"",LN(F4),"") -> 3.1385522 | G34: =IF(G4<>"",LN(G4),"") -> 1.8352069 | H34: =IF(H4<>"",LN(H4),"") -> 1.8715746 | I34: =IF(I4<>"",LN(I4),"") -> 1.8571858 | ... IQ34: =IF(IQ4<>"",LN(IQ4),"") | IR34: =AVERAGE(B34:IQ34) -> 2.2593378 | IS34: =STDEV(B34:IQ34) -> 0.49318705
A35: GPS (Right) | B35: =IF(B5<>"",LN(B5),"") -> 2.1338108 | C35: =IF(C5<>"",LN(C5),"") -> 2.3060872 | D35: =IF(D5<>"",LN(D5),"") -> 2.1936946 | E35: =IF(E5<>"",LN(E5),"") -> 2.2640199 | F35: =IF(F5<>"",LN(F5),"") -> 2.2000642 | G35: =IF(G5<>"",LN(G5),"") -> 3.0113024 | H35: =IF(H5<>"",LN(H5),"") | I35: =IF(I5<>"",LN(I5),"") | ... IQ35: =IF(IQ5<>"",LN(IQ5),"") | IR35: =AVERAGE(B35:IQ35) -> 2.3514965 | IS35: =STDEV(B35:IQ35) -> 0.3287182
A36: GPS (Overall) | B36: =IF(B6<>"",LN(B6),"") -> 1.8433757 | C36: =IF(C6<>"",LN(C6),"") -> 2.2575507 | D36: =IF(D6<>"",LN(D6),"") -> 2.4885677 | E36: =IF(E6<>"",LN(E6),"") -> 2.7412108 | F36: =IF(F6<>"",LN(F6),"") -> 2.9292798 | G36: =IF(G6<>"",LN(G6),"") -> 2.6219071 | H36: =IF(H6<>"",LN(H6),"") -> 1.6161618 | I36: =IF(I6<>"",LN(I6),"") -> 1.601773 | ... IQ36: =IF(IQ6<>"",LN(IQ6),"") | IR36: =AVERAGE(B36:IQ36) -> 2.1990249 | IS36: =STDEV(B36:IQ36) -> 0.45461414
A38: Pelvis Ant/Pst | B38: =IF(B8<>"",LN(B8),"") -> 1.6325511 | C38: =IF(C8<>"",LN(C8),"") -> 2.3256983 | D38: =IF(D8<>"",LN(D8),"") -> 2.7311634 | E38: =IF(E8<>"",LN(E8),"") -> 3.0188455 | F38: =IF(F8<>"",LN(F8),"") -> 3.241989 | G38: =IF(G8<>"",LN(G8),"") -> 1.9386438 | H38: =IF(H8<>"",LN(H8),"") -> 1.9750114 | I38: =IF(I8<>"",LN(I8),"") -> 1.9606227 | ... IQ38: =IF(IQ8<>"",LN(IQ8),"") | IR38: =AVERAGE(B38:IQ38) -> 2.3627747 | IS38: =STDEV(B38:IQ38) -> 0.49318705
A39: Hip Flx/Ext | B39: =IF(B9<>"",LN(B9),"") -> 1.6832456 | C39: =IF(C9<>"",LN(C9),"") -> 2.3763927 | D39: =IF(D9<>"",LN(D9),"") -> 2.7818578 | E39: =IF(E9<>"",LN(E9),"") -> 3.0695399 | F39: =IF(F9<>"",LN(F9),"") -> 3.2926835 | G39: =IF(G9<>"",LN(G9),"") -> 1.9893382 | H39: =IF(H9<>"",LN(H9),"") -> 2.0257058 | I39: =IF(I9<>"",LN(I9),"") -> 2.0113171 | ... IQ39: =IF(IQ9<>"",LN(IQ9),"") | IR39: =AVERAGE(B39:IQ39) -> 2.4134691 | IS39: =STDEV(B39:IQ39) -> 0.49318705
A40: Knee Flx/Ext | B40: =IF(B10<>"",LN(B10),"") -> 1.7169164 | C40: =IF(C10<>"",LN(C10),"") -> 2.4100636 | D40: =IF(D10<>"",LN(D10),"") -> 2.8155287 | E40: =IF(E10<>"",LN(E10),"") -> 3.1032108 | F40: =IF(F10<>"",LN(F10),"") -> 3.3263543 | G40: =IF(G10<>"",LN(G10),"") -> 2.023009 | H40: =IF(H10<>"",LN(H10),"") -> 2.0593767 | I40: =IF(I10<>"",LN(I10),"") -> 2.0449879 | ... IQ40: =IF(IQ10<>"",LN(IQ10),"") | IR40: =AVERAGE(B40:IQ40) -> 2.4471399 | IS40: =STDEV(B40:IQ40) -> 0.49318705
A41: Ankle Dor/Pla | B41: =IF(B11<>"",LN(B11),"") -> 1.059948 | C41: =IF(C11<>"",LN(C11),"") -> 1.7530952 | D41: =IF(D11<>"",LN(D11),"") -> 2.1585603 | E41: =IF(E11<>"",LN(E11),"") -> 2.4462423 | F41: =IF(F11<>"",LN(F11),"") -> 2.6693859 | G41: =IF(G11<>"",LN(G11),"") -> 1.3660406 | H41: =IF(H11<>"",LN(H11),"") -> 1.4024083 | I41: =IF(I11<>"",LN(I11),"") -> 1.3880195 | ... IQ41: =IF(IQ11<>"",LN(IQ11),"") | IR41: =AVERAGE(B41:IQ41) -> 1.7901715 | IS41: =STDEV(B41:IQ41) -> 0.49318705
B42: =IF(B12<>"",LN(B12),"") | C42: =IF(C12<>"",LN(C12),"") | D42: =IF(D12<>"",LN(D12),"") | E42: =IF(E12<>"",LN(E12),"") | F42: =IF(F12<>"",LN(F12),"") | G42: =IF(G12<>"",LN(G12),"") | H42: =IF(H12<>"",LN(H12),"") | I42: =IF(I12<>"",LN(I12),"") | ... IQ42: =IF(IQ12<>"",LN(IQ12),"")
A43: Pelvic Up/Dn | B43: =IF(B13<>"",LN(B13),"") -> 0.32232212 | C43: =IF(C13<>"",LN(C13),"") -> 1.0154693 | D43: =IF(D13<>"",LN(D13),"") -> 1.4209344 | E43: =IF(E13<>"",LN(E13),"") -> 1.7086165 | F43: =IF(F13<>"",LN(F13),"") -> 1.93176 | G43: =IF(G13<>"",LN(G13),"") -> 0.62841476 | H43: =IF(H13<>"",LN(H13),"") -> 0.6647824 | I43: =IF(I13<>"",LN(I13),"") -> 0.65039366 | ... IQ43: =IF(IQ13<>"",LN(IQ13),"") | IR43: =AVERAGE(B43:IQ43) -> 1.0525457 | IS43: =STDEV(B43:IQ43) -> 0.49318705
A44: Hip Add/Abd | B44: =IF(B14<>"",LN(B14),"") -> 0.1561692 | C44: =IF(C14<>"",LN(C14),"") -> 0.84931638 | D44: =IF(D14<>"",LN(D14),"") -> 1.2547815 | E44: =IF(E14<>"",LN(E14),"") -> 1.5424636 | F44: =IF(F14<>"",LN(F14),"") -> 1.7656071 | G44: =IF(G14<>"",LN(G14),"") -> 0.46226183 | H44: =IF(H14<>"",LN(H14),"") -> 0.49862948 | I44: =IF(I14<>"",LN(I14),"") -> 0.48424074 | ... IQ44: =IF(IQ14<>"",LN(IQ14),"") | IR44: =AVERAGE(B44:IQ44) -> 0.88639273 | IS44: =STDEV(B44:IQ44) -> 0.49318705
B45: =IF(B15<>"",LN(B15),"") | C45: =IF(C15<>"",LN(C15),"") | D45: =IF(D15<>"",LN(D15),"") | E45: =IF(E15<>"",LN(E15),"") | F45: =IF(F15<>"",LN(F15),"") | G45: =IF(G15<>"",LN(G15),"") | H45: =IF(H15<>"",LN(H15),"") | I45: =IF(I15<>"",LN(I15),"") | ... IQ45: =IF(IQ15<>"",LN(IQ15),"")
A46: Pelvic Int/Ext | B46: =IF(B16<>"",LN(B16),"") -> 0.60580491 | C46: =IF(C16<>"",LN(C16),"") -> 1.2989521 | D46: =IF(D16<>"",LN(D16),"") -> 1.7044172 | E46: =IF(E16<>"",LN(E16),"") -> 1.9920993 | F46: =IF(F16<>"",LN(F16),"") -> 2.2152428 | G46: =IF(G16<>"",LN(G16),"") -> 0.91189755 | H46: =IF(H16<>"",LN(H16),"") -> 0.94826519 | I46: =IF(I16<>"",LN(I16),"") -> 0.93387646 | ... IQ46: =IF(IQ16<>"",LN(IQ16),"") | IR46: =AVERAGE(B46:IQ46) -> 1.3360284 | IS46: =STDEV(B46:IQ46) -> 0.49318705
A47: Hip Int/Ext | B47: =IF(B17<>"",LN(B17),"") -> 1.1238552 | C47: =IF(C17<>"",LN(C17),"") -> 1.8170023 | D47: =IF(D17<>"",LN(D17),"") -> 2.2224675 | E47: =IF(E17<>"",LN(E17),"") -> 2.5101495 | F47: =IF(F17<>"",LN(F17),"") -> 2.7332931 | G47: =IF(G17<>"",LN(G17),"") -> 1.4299478 | H47: =IF(H17<>"",LN(H17),"") -> 1.4663154 | I47: =IF(I17<>"",LN(I17),"") -> 1.4519267 | ... IQ47: =IF(IQ17<>"",LN(IQ17),"") | IR47: =AVERAGE(B47:IQ47) -> 1.8540787 | IS47: =STDEV(B47:IQ47) -> 0.49318705
A48: Foot Int/Ext | B48: =IF(B18<>"",LN(B18),"") -> 2.1973881 | C48: =IF(C18<>"",LN(C18),"") -> 2.8905353 | D48: =IF(D18<>"",LN(D18),"") -> 3.2960004 | E48: =IF(E18<>"",LN(E18),"") -> 3.5836825 | F48: =IF(F18<>"",LN(F18),"") -> 3.806826 | G48: =IF(G18<>"",LN(G18),"") -> 2.5034808 | H48: =IF(H18<>"",LN(H18),"") -> 2.5398484 | I48: =IF(I18<>"",LN(I18),"") -> 2.5254597 | ... IQ48: =IF(IQ18<>"",LN(IQ18),"") | IR48: =AVERAGE(B48:IQ48) -> 2.9276117 | IS48: =STDEV(B48:IQ48) -> 0.49318705
B49: =IF(B19<>"",LN(B19),"") | C49: =IF(C19<>"",LN(C19),"") | D49: =IF(D19<>"",LN(D19),"") | E49: =IF(E19<>"",LN(E19),"") | F49: =IF(F19<>"",LN(F19),"") | G49: =IF(G19<>"",LN(G19),"") | H49: =IF(H19<>"",LN(H19),"") | I49: =IF(I19<>"",LN(I19),"") | ... IQ49: =IF(IQ19<>"",LN(IQ19),"")
...

Sheet Control Kinematics
