Workbook
Name ave_c1: #REF!
Name ave_c1: #REF!
Name ave_c1: #REF!
Name ave_c10: #REF!
Name ave_c10: #REF!
Name ave_c10: #REF!
Name ave_c11: #REF!
Name ave_c11: #REF!
Name ave_c11: #REF!
Name ave_c12: #REF!
Name ave_c12: #REF!
Name ave_c12: #REF!
Name ave_c13: #REF!
Name ave_c13: #REF!
Name ave_c13: #REF!
Name ave_c14: #REF!
Name ave_c14: #REF!
Name ave_c14: #REF!
Name ave_c15: #REF!
Name ave_c15: #REF!
Name ave_c15: #REF!
Name ave_c2: #REF!
Name ave_c2: #REF!
Name ave_c2: #REF!
Name ave_c3: #REF!
Name ave_c3: #REF!
Name ave_c3: #REF!
Name ave_c4: #REF!
Name ave_c4: #REF!
Name ave_c4: #REF!
Name ave_c5: #REF!
Name ave_c5: #REF!
Name ave_c5: #REF!
Name ave_c6: #REF!
Name ave_c6: #REF!
Name ave_c6: #REF!
Name ave_c7: #REF!
Name ave_c7: #REF!
Name ave_c7: #REF!
Name ave_c8: #REF!
Name ave_c8: #REF!
Name ave_c8: #REF!
Name ave_c9: #REF!
Name ave_c9: #REF!
Name ave_c9: #REF!
Name f1_: 'Features (from Gillette)'!$A$3:$A$461
Name f10_: 'Features (from Gillette)'!$J$3:$J$461
Name f11_: 'Features (from Gillette)'!$K$3:$K$461
Name f12_: 'Features (from Gillette)'!$L$3:$L$461
Name f13_: 'Features (from Gillette)'!$M$3:$M$461
Name f14_: 'Features (from Gillette)'!$N$3:$N$461
Name f15_: 'Features (from Gillette)'!$O$3:$O$461
Name f2_: 'Features (from Gillette)'!$B$3:$B$461
Name f3_: 'Features (from Gillette)'!$C$3:$C$461
Name f4_: 'Features (from Gillette)'!$D$3:$D$461
Name f5_: 'Features (from Gillette)'!$E$3:$E$461
Name f6_: 'Features (from Gillette)'!$F$3:$F$461
Name f7_: 'Features (from Gillette)'!$G$3:$G$461
Name f8_: 'Features (from Gillette)'!$H$3:$H$461
Name f9_: 'Features (from Gillette)'!$I$3:$I$461

Sheet Directions

Sheet MAP
A1: Subjects | B1: Left | D1: Right | F1: Overall
B2: median | C2: IQR+ | D2: median | E2: IQR+ | F2: median | G2: IQR+
A3: Pelvis Ant/Pst | F3: ='Subject Analysis (results)'!IT8 -> 10.620379 | G3: =EXP('Subject Analysis (results)'!IR38+'Subject Analysis (results)'!IS38)-F3 -> 6.7707758
A4: Hip Flx/Ext | B4: ='Subject Analysis (results)'!IT9 -> 11.172653 | C4: =EXP('Subject Analysis (results)'!IR39+'Subject Analysis (results)'!IS39)-B4 -> 7.1228655 | D4: ='Subject Analysis (results)'!IT21 -> 13.621839 | E4: =EXP('Subject Analysis (results)'!IR51+'Subject Analysis (results)'!IS51)-D4 -> 1.8509197
A5: Knee Flx/Ext | B5: ='Subject Analysis (results)'!IT10 -> 11.555251 | C5: =EXP('Subject Analysis (results)'!IR40+'Subject Analysis (results)'!IS40)-B5 -> 7.3667818 | D5: ='Subject Analysis (results)'!IT22 -> 8.0571601 | E5: =EXP('Subject Analysis (results)'!IR52+'Subject Analysis (results)'!IS52)-D5 -> 5.0720372
A6: Ankle Dor/Pla | B6: ='Subject Analysis (results)'!IT11 -> 5.9904798 | C6: =EXP('Subject Analysis (results)'!IR41+'Subject Analysis (results)'!IS41)-B6 -> 3.8190913 | D6: ='Subject Analysis (results)'!IT23 -> 6.5205523 | E6: =EXP('Subject Analysis (results)'!IR53+'Subject Analysis (results)'!IS53)-D6 -> 9.2436147
A7: Pelvic Up/Dn | F7: ='Subject Analysis (results)'!IT13 -> 2.864935 | G7: =EXP('Subject Analysis (results)'!IR43+'Subject Analysis (results)'!IS43)-F7 -> 1.8264728
A8: Hip Add/Abd | B8: ='Subject Analysis (results)'!IT14 -> 2.4263613 | C8: =EXP('Subject Analysis (results)'!IR44+'Subject Analysis (results)'!IS44)-B8 -> 1.5468703 | D8: ='Subject Analysis (results)'!IT26 -> 6.8283623 | E8: =EXP('Subject Analysis (results)'!IR56+'Subject Analysis (results)'!IS56)-D8 -> 0.5373525
A9: Pelvic Int/Ext | F9: ='Subject Analysis (results)'!IT16 -> 3.8039061 | G9: =EXP('Subject Analysis (results)'!IR46+'Subject Analysis (results)'!IS46)-F9 -> 2.425092
A10: Hip Int/Ext | B10: ='Subject Analysis (results)'!IT17 -> 6.3858123 | C10: =EXP('Subject Analysis (results)'!IR47+'Subject Analysis (results)'!IS47)-B10 -> 4.0711264 | D10: ='Subject Analysis (results)'!IT29 -> 6.3904973 | E10: =EXP('Subject Analysis (results)'!IR59+'Subject Analysis (results)'!IS59)-D10 -> 0.32529919
A11: Foot Int/Ext | B11: ='Subject Analysis (results)'!IT18 -> 18.682956 | C11: =EXP('Subject Analysis (results)'!IR48+'Subject Analysis (results)'!IS48)-B11 -> 11.910885 | D11: ='Subject Analysis (results)'!IT30 -> 12.333385 | E11: =EXP('Subject Analysis (results)'!IR60+'Subject Analysis (results)'!IS60)-D11 -> 2.6638251
A13: GPS | B13: ='Subject Analysis (results)'!IT4 -> 9.5767455 | C13: =EXP('Subject Analysis (results)'!IR34+'Subject Analysis (results)'!IS34)-B13 -> 6.1054318 | D13: ='Subject Analysis (results)'!IT5 -> 10.501273 | E13: =EXP('Subject Analysis (results)'!IR35+'Subject Analysis (results)'!IS35)-D13 -> 4.0869521 | F13: ='Subject Analysis (results)'!IT6 -> 9.0162172 | G13: =EXP('Subject Analysis (results)'!IR36+'Subject Analysis (results)'!IS36)-F13 -> 5.1894219
A15: Controls
B16: median | C16: IQR- | D16: median | E16: IQR- | F16: median | G16: IQR-
A17: Pelvis Ant/Pst | F17: ='Control Analysis'!IT8 -> 3.48777 | G17: =F17-EXP('Control Analysis'!IR38-'Control Analysis'!IS38) -> 1.634784
A18: Hip Flx/Ext | B18: ='Control Analysis'!IT9 -> 5.3524563 | C18: =B18-EXP('Control Analysis'!IR39-'Control Analysis'!IS39) -> 2.0567267 | D18: =B18 -> 5.3524563 | E18: =C18 -> 2.0567267
A19: Knee Flx/Ext | B19: ='Control Analysis'!IT10 -> 5.2082655 | C19: =B19-EXP('Control Analysis'!IR40-'Control Analysis'!IS40) -> 2.0257994 | D19: =B19 -> 5.2082655 | E19: =C19 -> 2.0257994
A20: Ankle Dor/Pla | B20: ='Control Analysis'!IT11 -> 3.9851796 | C20: =B20-EXP('Control Analysis'!IR41-'Control Analysis'!IS41) -> 1.3536623 | D20: =B20 -> 3.9851796 | E20: =C20 -> 1.3536623
A21: Pelvic Up/Dn | F21: ='Control Analysis'!IT13 -> 1.7625136 | G21: =F21-EXP('Control Analysis'!IR43-'Control Analysis'!IS43) -> 0.71254467
A22: Hip Add/Abd | B22: ='Control Analysis'!IT14 -> 2.8454527 | C22: =B22-EXP('Control Analysis'!IR44-'Control Analysis'!IS44) -> 0.95400722 | D22: =B22 -> 2.8454527 | E22: =C22 -> 0.95400722
A23: Pelvic Int/Ext | F23: ='Control Analysis'!IT16 -> 3.4317083 | G23: =F23-EXP('Control Analysis'!IR46-'Control Analysis'!IS46) -> 1.152902
A24: Hip Int/Ext | B24: ='Control Analysis'!IT17 -> 5.6349789 | C24: =B24-EXP('Control Analysis'!IR47-'Control Analysis'!IS47) -> 2.0366305 | D24: =B24 -> 5.6349789 | E24: =C24 -> 2.0366305
A25: Foot Int/Ext | B25: ='Control Analysis'!IT18 -> 5.5807959 | C25: =B25-EXP('Control Analysis'!IR48-'Control Analysis'!IS48) -> 2.2187543 | D25: =B25 -> 5.5807959 | E25: =C25 -> 2.2187543
A27: GPS | B27: ='Control Analysis'!IR4 -> 5.266153 | C27: =B27-EXP('Control Analysis'!IR34-'Control Analysis'!IS34) -> 1.3582024 | D27: =B27 -> 5.266153 | E27: =C27 -> 1.3582024 | F27: ='Control Analysis'!IT6 -> 5.3179764 | G27: =F27-EXP('Control Analysis'!IR36-'Control Analysis'!IS36) -> 1.2666369

Sheet Graphs
V1: Pelvis Ant/Pst | W1: 2 | X1: 52
V2: Hip Flx/Ext | W2: 155 | X2: 205
V3: Knee Flx/Ext | W3: 308 | X3: 358
V4: Ankle Dor/Pla | W4: 359 | X4: 409
V5: Pelvic Up/Dn | W5: 53 | X5: 103
V6: Hip Add/Abd | W6: 206 | X6: 256
V7: Pelvic Int/Ext | W7: 104 | X7: 154
V8: Hip Int/Ext | W8: 257 | X8: 307
V9: Foot Int/Ext | W9: 410 | X9: 460
V10: Pelvis Ant/Pst | W10: 461 | X10: 511
V11: Hip Flx/Ext | W11: 614 | X11: 664
V12: Knee Flx/Ext | W12: 767 | X12: 817
... V18: Foot Int/Ext | W18: 869 | X18: 919

Sheet Subject Kinematics
B1: % Gait Cycle | C1: 0.333 | D1: 0.666 | E1: 1 | F1: 1.333 | G1: 1.666 | H1: Subject 6 | I1: Subject 7 | J1: Subject 8 | K1: Subject 9 | L1: Subject 10 | M1: Subject 11 | N1: Subject 12 | O1: Subject 13 | P1: Subject 14 | Q1: Subject 15 | R1: Subject 16 | S1: Subject 17 | T1: Subject 18 | U1: Subject 19 | V1: Subject 20 | W1: Subject 21 | X1: Subject 22 | Y1: Subject 23 | Z1: Subject 24 | AA1: Subject 25 | AB1: Subject 26 | AC1: Subject 27 | AD1: Subject 28 | AE1: Subject 29 | AF1: Subject 30 | AG1: Subject 31 | AH1: Subject 32 | AI1: Subject 33 | AJ1: Subject 34 | AK1: Subject 35 | AL1: Subject 36 | AM1: Subject 37 | AN1: Subject 38 | AO1: Subject 39 | AP1: Subject 40 | AQ1: Subject 41 | AR1: Subject 42 | AS1: Subject 43 | AT1: Subject 44 | AU1: Subject 45 | AV1: Subject 46 | AW1: Subject 47 | AX1: Subject 48 | AY1: Subject 49 | AZ1: Subject 50 | BA1: Subject 51 | BB1: Subject 52 | BC1: Subject 53 | BD1: Subject 54 | BE1: Subject 55 | BF1: Subject 56 | BG1: Subject 57 | BH1: Subject 58 | BI1: Subject 59 | BJ1: Subject 60 | BK1: Subject 61 | BL1: Subject 62 | BM1: Subject 63 | BN1: Subject 64 | BO1: Subject 65 | BP1: Subject 66 | BQ1: Subject 67 | BR1: Subject 68 | BS1: Subject 69 | BT1: Subject 70 | BU1: Subject 71 | BV1: Subject 72 | BW1: Subject 73 | BX1: Subject 74 | BY1: Subject 75 | BZ1: Subject 76 | CA1: Subject 77 | CB1: Subject 78 | CC1: Subject 79 | CD1: Subject 80 | CE1: Subject 81 | CF1: Subject 82 | CG1: Subject 83 | CH1: Subject 84 | CI1: Subject 85 | CJ1: Subject 86 | CK1: Subject 87 | CL1: Subject 88 | CM1: Subject 89 | CN1: Subject 90 | CO1: Subject 91 | CP1: Subject 92 | CQ1: Subject 93 | CR1: Subject 94 | CS1: Subject 95 | CT1: Subject 96 | CU1: Subject 97 | CV1: Subject 98 | CW1: Subject 99 | CX1: Subject 100 | CY1: Subject 101 | CZ1: Subject 102 | DA1: Subject 103 | DB1: Subject 104 | DC1: Subject 105 | DD1: Subject 106 | DE1: Subject 107 | DF1: Subject 108 | DG1: Subject 109 | DH1: Subject 110 | DI1: Subject 111 | DJ1: Subject 112 | DK1: Subject 113 | DL1: Subject 114 | DM1: Subject 115 | DN1: Subject 116 | DO1: Subject 117 | DP1: Subject 118 | DQ1: Subject 119 | DR1: Subject 120 | DS1: Subject 121 | DT1: Subject 122 | DU1: Subject 123 | DV1: Subject 124 | DW1: Subject 125 | DX1: Subject 126 | DY1: Subject 127 | DZ1: Subject 128 | EA1: Subject 129 | EB1: Subject 130 | EC1: Subject 131 | ED1: Subject 132 | EE1: Subject 133 | EF1: Subject 134 | EG1: Subject 135 | EH1: Subject 136 | EI1: Subject 137 | EJ1: Subject 138 | EK1: Subject 139 | EL1: Subject 140 | EM1: Subject 141 | EN1: Subject 142 | EO1: Subject 143 | EP1: Subject 144 | EQ1: Subject 145 | ER1: Subject 146 | ES1: Subject 147 | ET1: Subject 148 | EU1: Subject 149 | EV1: Subject 150 | EW1: Subject 151 | EX1: Subject 152 | EY1: Subject 153 | EZ1: Subject 154 | FA1: Subject 155 | FB1: Subject 156 | FC1: Subject 157 | FD1: Subject 158 | FE1: Subject 159 | FF1: Subject 160 | FG1: Subject 161 | FH1: Subject 162 | FI1: Subject 163 | FJ1: Subject 164 | FK1: Subject 165 | FL1: Subject 166 | FM1: Subject 167 | FN1: Subject 168 | FO1: Subject 169 | FP1: Subject 170 | FQ1: Subject 171 | FR1: Subject 172 | FS1: Subject 173 | FT1: Subject 174 | FU1: Subject 175 | FV1: Subject 176 | FW1: Subject 177 | FX1: Subject 178 | FY1: Subject 179 | FZ1: Subject 180 | GA1: Subject 181 | GB1: Subject 182 | GC1: Subject 183 | GD1: Subject 184 | GE1: Subject 185 | GF1: Subject 186 | GG1: Subject 187 | GH1: Subject 188 | GI1: Subject 189 | GJ1: Subject 190 | GK1: Subject 191 | GL1: Subject 192 | GM1: Subject 193 | GN1: Subject 194 | GO1: Subject 195 | GP1: Subject 196 | GQ1: Subject 197 | GR1: Subject 198 | GS1: Subject 199 | GT1: Subject 200 | GU1: Subject 201 | GV1: Subject 202 | GW1: Subject 203 | GX1: Subject 204 | GY1: Subject 205 | GZ1: Subject 206 | HA1: Subject 207 | HB1: Subject 208 | HC1: Subject 209 | HD1: Subject 210 | HE1: Subject 211 | HF1: Subject 212 | HG1: Subject 213 | HH1: Subject 214 | HI1: Subject 215 | HJ1: Subject 216 | HK1: Subject 217 | HL1: Subject 218 | HM1: Subject 219 | HN1: Subject 220 | HO1: Subject 221 | HP1: Subject 222 | HQ1: Subject 223 | HR1: Subject 224 | HS1: Subject 225 | HT1: Subject 226 | HU1: Subject 227 | HV1: Subject 228 | HW1: Subject 229 | HX1: Subject 230 | HY1: Subject 231 | HZ1: Subject 232 | IA1: Subject 233 | IB1: Subject 234 | IC1: Subject 235 | ID1: Subject 236 | IE1: Subject 237 | IF1: Subject 238 | IG1: Subject 239 | IH1: Subject 240 | II1: Subject 241 | IJ1: Subject 242 | IK1: Subject 243 | IL1: Subject 244 | IM1: Subject 245 | IN1: Subject 246 | IO1: Subject 247 | IP1: Subject 248 | IQ1: Subject 249 | IR1: Subject 250 | IS1: Average | IT1: SD
A2: Pelvis Ant/Pst | B2: 0 | C2: 17.136272 | D2: 21.561492 | E2: 25.986711 | F2: 30.411931 | G2: 34.83715 | H2: 18.720979 | I2: 18.943569 | J2: 18.854533 | K2: 20.546216 | L2: 22.237899 | M2: 23.929582 | IS2: =AVERAGE(C2:IR2) -> 23.015121 | IT2: =STDEV(C2:IR2) -> 5.475773
A3: Pelvis Ant/Pst | B3: 0.02 | C3: 16.818293 | D3: 21.152638 | E3: 25.486984 | F3: 29.821329 | G3: 34.155675 | H3: 18.370457 | I3: 18.588476 | J3: 18.501268 | K3: 20.158212 | L3: 21.815156 | M3: 23.472099 | IS3: =AVERAGE(C3:IR3) -> 22.576417 | IT3: =STDEV(C3:IR3) -> 5.3633254
A4: Pelvis Ant/Pst | B4: 0.04 | C4: 16.612099 | D4: 20.999462 | E4: 25.386825 | F4: 29.774187 | G4: 34.16155 | H4: 18.18325 | I4: 18.403935 | J4: 18.315661 | K4: 19.992872 | L4: 21.670083 | M4: 23.347294 | IS4: =AVERAGE(C4:IR4) -> 22.440656 | IT4: =STDEV(C4:IR4) -> 5.4289289
A5: Pelvis Ant/Pst | B5: 0.06 | C5: 16.550114 | D5: 21.168123 | E5: 25.786132 | F5: 30.404141 | G5: 35.02215 | H5: 18.203861 | I5: 18.436148 | J5: 18.343233 | K5: 20.108616 | L5: 21.873999 | M5: 23.639382 | IS5: =AVERAGE(C5:IR5) -> 22.685082 | IT5: =STDEV(C5:IR5) -> 5.714331
A6: Pelvis Ant/Pst | B6: 0.08 | C6: 16.668019 | D6: 21.626564 | E6: 26.585109 | F6: 31.543655 | G6: 36.5022 | H6: 18.443714 | I6: 18.693131 | J6: 18.593364 | K6: 20.488928 | L6: 22.384492 | M6: 24.280056 | IS6: =AVERAGE(C6:IR6) -> 23.255385 | IT6: =STDEV(C6:IR6) -> 6.1357111
A7: Pelvis Ant/Pst | B7: 0.1 | C7: 16.941114 | D7: 22.312492 | E7: 27.68387 | F7: 33.055247 | G7: 38.426625 | H7: 18.864648 | I7: 19.13483 | J7: 19.026758 | K7: 21.08014 | L7: 23.133523 | M7: 25.186905 | IS7: =AVERAGE(C7:IR7) -> 24.076923 | IT7: =STDEV(C7:IR7) -> 6.6465505
A8: Pelvis Ant/Pst | B8: 0.12 | C8: 17.292269 | D8: 23.087433 | E8: 28.882597 | F8: 34.677761 | G8: 40.472925 | H8: 19.367564 | I8: 19.659063 | J8: 19.542463 | K8: 21.757852 | L8: 23.973241 | M8: 26.188629 | IS8: =AVERAGE(C8:IR8) -> 24.991073 | IT8: =STDEV(C8:IR8) -> 7.1709443
A9: Pelvis Ant/Pst | B9: 0.14 | C9: 17.663484 | D9: 23.822494 | E9: 29.981504 | F9: 36.140515 | G9: 42.299525 | H9: 19.869075 | I9: 20.178876 | J9: 20.054955 | K9: 22.409436 | L9: 24.763917 | M9: 27.118397 | IS9: =AVERAGE(C9:IR9) -> 25.845653 | IT9: =STDEV(C9:IR9) -> 7.6211682
A10: Pelvis Ant/Pst | B10: 0.16 | C10: 17.955912 | D10: 24.318403 | E10: 30.680893 | F10: 37.043384 | G10: 43.405875 | H10: 20.234371 | I10: 20.554407 | J10: 20.426392 | K10: 22.85866 | L10: 25.290928 | M10: 27.723195 | IS10: =AVERAGE(C10:IR10) -> 26.408402 | IT10: =STDEV(C10:IR10) -> 7.8729553
A11: Pelvis Ant/Pst | B11: 0.18 | C11: 18.113961 | D11: 24.497396 | E11: 30.880831 | F11: 37.264265 | G11: 43.6477 | H11: 20.399921 | I11: 20.721009 | J11: 20.592574 | K11: 23.032848 | L11: 25.473122 | M11: 27.913396 | IS11: =AVERAGE(C11:IR11) -> 26.594275 | IT11: =STDEV(C11:IR11) -> 7.8988714
A12: Pelvis Ant/Pst | B12: 0.2 | C12: 18.199668 | D12: 24.490388 | E12: 30.781109 | F12: 37.071829 | G12: 43.36255 | H12: 20.452426 | I12: 20.768851 | J12: 20.642281 | K12: 23.047112 | L12: 25.451943 | M12: 27.856774 | IS12: =AVERAGE(C12:IR12) -> 26.556812 | IT12: =STDEV(C12:IR12) -> 7.7841467
A13: Pelvis Ant/Pst | B13: 0.22 | C13: 18.218775 | D13: 24.350181 | E13: 30.481587 | F13: 36.612994 | G13: 42.7444 | H13: 20.414481 | I13: 20.722893 | J13: 20.599528 | K13: 22.943456 | L13: 25.287384 | M13: 27.631312 | IS13: =AVERAGE(C13:IR13) -> 26.364272 | IT13: =STDEV(C13:IR13) -> 7.5870111
... A460: Foot Int/Ext | B460: 1 | C460: -5.6103818 | D460: -0.84734263 | E460: 3.9156966 | F460: 8.6787358 | G460: 13.441775 | H460: -3.9046989 | I460: -3.6651166 | J460: -3.7609495 | K460: -1.940124 | L460: -0.1192985 | M460: 1.701527 | IS460: =AVERAGE(C460:IR460) -> 0.71725658 | IT460: =STDEV(C460:IR460) -> 5.8937916
A461: Pelvis Ant/Pst | B461: 0 | C461: 26.2 | D461: 26.1 | E461: 26 | F461: 28.1 | G461: 27.4 | H461: 26 | IS461: =AVERAGE(C461:IR461) -> 26.633333 | IT461: =STDEV(C461:IR461) -> 0.89591666
A462: Pelvis Ant/Pst | B462: 0.02 | C462: 25.8 | D462: 25.5 | E462: 25.5 | F462: 27.4 | G462: 26.9 | H462: 25.5 | IS462: =AVERAGE(C462:IR462) -> 26.1 | IT462: =STDEV(C462:IR462) -> 0.83666003
A463: Pelvis Ant/Pst | B463: 0.04 | C463: 25.4 | D463: 25.1 | E463: 25.1 | F463: 26.8 | G463: 26.4 | H463: 25.4 | IS463: =AVERAGE(C463:IR463) -> 25.7 | IT463: =STDEV(C463:IR463) -> 0.72111026
A464: Pelvis Ant/Pst | B464: 0.06 | C464: 25.1 | D464: 24.7 | E464: 24.7 | F464: 26.5 | G464: 26.1 | H464: 25.8 | IS464: =AVERAGE(C464:IR464) -> 25.483333 | IT464: =STDEV(C464:IR464) -> 0.76004386
A465: Pelvis Ant/Pst | B465: 0.08 | C465: 24.9 | D465: 24.6 | E465: 24.4 | F465: 26.4 | G465: 26 | H465: 26.6 | IS465: =AVERAGE(C465:IR465) -> 25.483333 | IT465: =STDEV(C465:IR465) -> 0.96419224
A466: Pelvis Ant/Pst | B466: 0.1 | C466: 24.8 | D466: 24.8 | E466: 24.2 | F466: 26.7 | G466: 26.2 | H466: 27.7 | IS466: =AVERAGE(C466:IR466) -> 25.733333 | IT466: =STDEV(C466:IR466) -> 1.3500617
A467: Pelvis Ant/Pst | B467: 0.12 | C467: 25 | D467: 25.2 | E467: 24.3 | F467: 27.3 | G467: 26.5 | H467: 28.9 | IS467: =AVERAGE(C467:IR467) -> 26.2 | IT467: =STDEV(C467:IR467) -> 1.71114
A468: Pelvis Ant/Pst | B468: 0.14 | C468: 25.4 | D468: 25.8 | E468: 24.6 | F468: 28 | G468: 27 | H468: 30 | IS468: =AVERAGE(C468:IR468) -> 26.8 | IT468: =STDEV(C468:IR468) -> 1.9758542
A469: Pelvis Ant/Pst | B469: 0.16 | C469: 26 | D469: 26.6 | E469: 25.1 | F469: 28.8 | G469: 27.6 | H469: 30.7 | IS469: =AVERAGE(C469:IR469) -> 27.466667 | IT469: =STDEV(C469:IR469) -> 2.0373185
A470: Pelvis Ant/Pst | B470: 0.18 | C470: 26.6 | D470: 27.3 | E470: 25.8 | F470: 29.5 | G470: 28.2 | H470: 30.9 | IS470: =AVERAGE(C470:IR470) -> 28.05 | IT470: =STDEV(C470:IR470) -> 1.8960485
A471: Pelvis Ant/Pst | B471: 0.2 | C471: 27.1 | D471: 28.1 | E471: 26.7 | F471: 29.9 | G471: 28.8 | H471: 30.8 | IS471: =AVERAGE(C471:IR471) -> 28.566667 | IT471: =STDEV(C471:IR471) -> 1.5920637
A472: Pelvis Ant/Pst | B472: 0.22 | C472: 27.6 | D472: 28.6 | E472: 27.5 | F472: 30.1 | G472: 29.2 | H472: 30.5 | IS472: =AVERAGE(C472:IR472) -> 28.916667 | IT472: =STDEV(C472:IR472) -> 1.251266
... A919: Foot Int/Ext | B919: 1 | C919: -15.3 | D919: -19.5 | E919: -24 | F919: 0 | G919: -16.6 | H919: 3.2 | IS919: =AVERAGE(C919:IR919) -> -12.033333 | IT919: =STDEV(C919:IR919) -> 11.021192

Sheet Subject Analysis (results)
B1: ='Subject Kinematics'!C1 -> 0.333 | C1: ='Subject Kinematics'!D1 -> 0.666 | D1: ='Subject Kinematics'!E1 -> 1 | E1: ='Subject Kinematics'!F1 -> 1.333 | F1: ='Subject Kinematics'!G1 -> 1.666 | G1: 1.335 | H1: ='Subject Kinematics'!I1 -> Subject 7 | I1: subject 8 | J1: subject 9 | K1: subject 10 | L1: subject 11 | M1: subject 12 | N1: subject 13 | O1: subject 14 | P1: subject 15 | Q1: subject 16 | R1: subject 17 | S1: subject 18 | T1: subject 19 | U1: subject 20 | V1: subject 21 | W1: subject 22 | X1: subject 23 | Y1: subject 24 | Z1: subject 25 | AA1: subject 26 | AB1: subject 27 | AC1: subject 28 | AD1: subject 29 | AE1: subject 30 | AF1: subject 31 | AG1: subject 32 | AH1: subject 33 | AI1: subject 34 | AJ1: subject 35 | AK1: subject 36 | AL1: subject 37 | AM1: subject 38 | AN1: subject 39 | AO1: subject 40 | AP1: subject 41 | AQ1: subject 42 | AR1: subject 43 | AS1: subject 44 | AT1: subject 45 | AU1: subject 46 | AV1: subject 47 | AW1: subject 48 | AX1: subject 49 | AY1: subject 50 | AZ1: subject 51 | BA1: subject 52 | BB1: subject 53 | BC1: subject 54 | BD1: subject 55 | BE1: subject 56 | BF1: subject 57 | BG1: subject 58 | BH1: subject 59 | BI1: subject 60 | BJ1: subject 61 | BK1: subject 62 | BL1: subject 63 | BM1: subject 64 | BN1: subject 65 | BO1: subject 66 | BP1: subject 67 | BQ1: subject 68 | BR1: subject 69 | BS1: subject 70 | BT1: subject 71 | BU1: subject 72 | BV1: subject 73 | BW1: subject 74 | BX1: subject 75 | BY1: subject 76 | BZ1: subject 77 | CA1: subject 78 | CB1: subject 79 | CC1: subject 80 | CD1: subject 81 | CE1: subject 82 | CF1: subject 83 | CG1: subject 84 | CH1: subject 85 | CI1: subject 86 | CJ1: subject 87 | CK1: subject 88 | CL1: subject 89 | CM1: subject 90 | CN1: subject 91 | CO1: subject 92 | CP1: subject 93 | CQ1: subject 94 | CR1: subject 95 | CS1: subject 96 | CT1: subject 97 | CU1: subject 98 | CV1: subject 99 | CW1: subject 100 | CX1: subject 101 | CY1: subject 102 | CZ1: subject 103 | DA1: subject 104 | DB1: subject 105 | DC1: subject 106 | DD1: subject 107 | DE1: subject 108 | DF1: subject 109 | DG1: subject 110 | DH1: subject 111 | DI1: subject 112 | DJ1: subject 113 | DK1: subject 114 | DL1: subject 115 | DM1: subject 116 | DN1: subject 117 | DO1: subject 118 | DP1: subject 119 | DQ1: subject 120 | DR1: subject 121 | DS1: subject 122 | DT1: subject 123 | DU1: subject 124 | DV1: subject 125 | DW1: subject 126 | DX1: subject 127 | DY1: subject 128 | DZ1: subject 129 | EA1: subject 130 | EB1: subject 131 | EC1: subject 132 | ED1: subject 133 | EE1: subject 134 | EF1: subject 135 | EG1: subject 136 | EH1: subject 137 | EI1: subject 138 | EJ1: subject 139 | EK1: subject 140 | EL1: subject 141 | EM1: subject 142 | EN1: subject 143 | EO1: subject 144 | EP1: subject 145 | EQ1: subject 146 | ER1: subject 147 | ES1: subject 148 | ET1: subject 149 | EU1: subject 150 | EV1: subject 151 | EW1: subject 152 | EX1: subject 153 | EY1: subject 154 | EZ1: subject 155 | FA1: subject 156 | FB1: subject 157 | FC1: subject 158 | FD1: subject 159 | FE1: subject 160 | FF1: subject 161 | FG1: subject 162 | FH1: subject 163 | FI1: subject 164 | FJ1: subject 165 | FK1: subject 166 | FL1: subject 167 | FM1: subject 168 | FN1: subject 169 | FO1: subject 170 | FP1: subject 171 | FQ1: subject 172 | FR1: subject 173 | FS1: subject 174 | FT1: subject 175 | FU1: subject 176 | FV1: subject 177 | FW1: subject 178 | FX1: subject 179 | FY1: subject 180 | FZ1: subject 181 | GA1: subject 182 | GB1: subject 183 | GC1: subject 184 | GD1: subject 185 | GE1: subject 186 | GF1: subject 187 | GG1: subject 188 | GH1: subject 189 | GI1: subject 190 | GJ1: subject 191 | GK1: subject 192 | GL1: subject 193 | GM1: subject 194 | GN1: subject 195 | GO1: subject 196 | GP1: subject 197 | GQ1: subject 198 | GR1: subject 199 | GS1: subject 200 | GT1: subject 201 | GU1: subject 202 | GV1: subject 203 | GW1: subject 204 | GX1: subject 205 | GY1: subject 206 | GZ1: subject 207 | HA1: subject 208 | HB1: subject 209 | HC1: subject 210 | HD1: subject 211 | HE1: subject 212 | HF1: subject 213 | HG1: subject 214 | HH1: subject 215 | HI1: subject 216 | HJ1: subject 217 | HK1: subject 218 | HL1: subject 219 | HM1: subject 220 | HN1: subject 221 | HO1: subject 222 | HP1: subject 223 | HQ1: subject 224 | HR1: subject 225 | HS1: subject 226 | HT1: subject 227 | HU1: subject 228 | HV1: subject 229 | HW1: subject 230 | HX1: subject 231 | HY1: subject 232 | HZ1: subject 233 | IA1: subject 234 | IB1: subject 235 | IC1: subject 236 | ID1: subject 237 | IE1: subject 238 | IF1: subject 239 | IG1: subject 240 | IH1: subject 241 | II1: subject 242 | IJ1: subject 243 | IK1: subject 244 | IL1: subject 245 | IM1: subject 246 | IN1: subject 247 | IO1: subject 248 | IP1: subject 249 | IQ1: subject 250 | IR1: Average | IS1: Stdev | IT1: Median
A2: GDI (Left) | B2: =B80 -> 100.2501 | C2: =C80 -> 78.766704 | D2: =D80 -> 66.199722 | E2: =E80 -> 57.283307 | F2: =F80 -> 50.367197 | G2: =G80 -> 90.76307 | H2: =H80 -> 89.635891 | I2: =I80 -> 90.081856 | ... IQ2: =IQ80 | IR2: =AVERAGE(B2:IQ2) -> 77.61756 | IS2: =STDEV(B2:IQ2) -> 15.285835
A3: GDI (Right) | B3: =B100 -> 82.93157 | C3: =C100 -> 76.823694 | D3: =D100 -> 80.498763 | E3: =E100 -> 78.050815 | F3: =F100 -> 80.333286 | G3: =G100 -> 59.49006 | H3: =H100 | I3: =I100 | ... IQ3: =IQ100 | IR3: =AVERAGE(B3:IQ3) -> 76.354698 | IS3: =STDEV(B3:IQ3) -> 8.529601
A4: GPS (Left) | B4: =IF(SUM(B8:B18)<>0,SQRT(SUMSQ(B8:B18)/9),"") -> 4.6140883 | C4: =IF(SUM(C8:C18)<>0,SQRT(SUMSQ(C8:C18)/9),"") -> 9.2281765 | D4: =IF(SUM(D8:D18)<>0,SQRT(SUMSQ(D8:D18)/9),"") -> 13.842265 | E4: =IF(SUM(E8:E18)<>0,SQRT(SUMSQ(E8:E18)/9),"") -> 18.456353 | F4: =IF(SUM(F8:F18)<>0,SQRT(SUMSQ(F8:F18)/9),"") -> 23.070441 | G4: =IF(SUM(G8:G18)<>0,SQRT(SUMSQ(G8:G18)/9),"") -> 6.2664307 | H4: =IF(SUM(H8:H18)<>0,SQRT(SUMSQ(H8:H18)/9),"") -> 6.4985207 | I4: =IF(SUM(I8:I18)<>0,SQRT(SUMSQ(I8:I18)/9),"") -> 6.4056847 | ... IQ4: =IF(SUM(IQ8:IQ18)<>0,SQRT(SUMSQ(IQ8:IQ18)/9),"") | IR4: =AVERAGE(B4:IQ4) -> 10.743847 | IS4: =STDEV(B4:IQ4) -> 5.7094795 | IT4: =EXP(IR34) -> 9.5767455
A5: GPS (Right) | B5: =IF(SUM(B20:B30)<>0,SQRT(SUMSQ(B20:B30)/9),"") -> 8.4469954 | C5: =IF(SUM(C20:C30)<>0,SQRT(SUMSQ(C20:C30)/9),"") -> 10.035082 | D5: =IF(SUM(D20:D30)<>0,SQRT(SUMSQ(D20:D30)/9),"") -> 8.9682866 | E5: =IF(SUM(E20:E30)<>0,SQRT(SUMSQ(E20:E30)/9),"") -> 9.62169 | F5: =IF(SUM(F20:F30)<>0,SQRT(SUMSQ(F20:F30)/9),"") -> 9.0255928 | G5: =IF(SUM(G20:G30)<>0,SQRT(SUMSQ(G20:G30)/9),"") -> 20.31384 | H5: =IF(SUM(H20:H30)<>0,SQRT(SUMSQ(H20:H30)/9),"") | I5: =IF(SUM(I20:I30)<>0,SQRT(SUMSQ(I20:I30)/9),"") | ... IQ5: =IF(SUM(IQ20:IQ30)<>0,SQRT(SUMSQ(IQ20:IQ30)/9),"") | IR5: =AVERAGE(B5:IQ5) -> 11.068581 | IS5: =STDEV(B5:IQ5) -> 4.5627663 | IT5: =EXP(IR35) -> 10.501273
A6: GPS (Overall) | B6: =IF(SUM(B8:B11,B13:B14,B16:B18,B21:B23,B26,B29:B30)<>0,SQRT(SUMSQ(B8:B11,B13:B14,B16:B18,B21:B23,B26,B29:B30)/15),"") -> 6.3178293 | C6: =IF(SUM(C8:C11,C13:C14,C16:C18,C21:C23,C26,C29:C30)<>0,SQRT(SUMSQ(C8:C11,C13:C14,C16:C18,C21:C23,C26,C29:C30)/15),"") -> 9.5596457 | D6: =IF(SUM(D8:D11,D13:D14,D16:D18,D21:D23,D26,D29:D30)<>0,SQRT(SUMSQ(D8:D11,D13:D14,D16:D18,D21:D23,D26,D29:D30)/15),"") -> 12.044013 | E6: =IF(SUM(E8:E11,E13:E14,E16:E18,E21:E23,E26,E29:E30)<>0,SQRT(SUMSQ(E8:E11,E13:E14,E16:E18,E21:E23,E26,E29:E30)/15),"") -> 15.505748 | F6: =IF(SUM(F8:F11,F13:F14,F16:F18,F21:F23,F26,F29:F30)<>0,SQRT(SUMSQ(F8:F11,F13:F14,F16:F18,F21:F23,F26,F29:F30)/15),"") -> 18.714147 | G6: =IF(SUM(G8:G11,G13:G14,G16:G18,G21:G23,G26,G29:G30)<>0,SQRT(SUMSQ(G8:G11,G13:G14,G16:G18,G21:G23,G26,G29:G30)/15),"") -> 13.761944 | H6: =IF(SUM(H8:H11,H13:H14,H16:H18,H21:H23,H26,H29:H30)<>0,SQRT(SUMSQ(H8:H11,H13:H14,H16:H18,H21:H23,H26,H29:H30)/15),"") -> 5.0337325 | I6: =IF(SUM(I8:I11,I13:I14,I16:I18,I21:I23,I26,I29:I30)<>0,SQRT(SUMSQ(I8:I11,I13:I14,I16:I18,I21:I23,I26,I29:I30)/15),"") -> 4.961822 | ... IQ6: =IF(SUM(IQ8:IQ11,IQ13:IQ14,IQ16:IQ18,IQ21:IQ23,IQ26,IQ29:IQ30)<>0,SQRT(SUMSQ(IQ8:IQ11,IQ13:IQ14,IQ16:IQ18,IQ21:IQ23,IQ26,IQ29:IQ30)/15),"") | IR6: =AVERAGE(B6:IQ6) -> 9.9074673 | IS6: =STDEV(B6:IQ6) -> 4.560325 | IT6: =EXP(IR36) -> 9.0162172
A8: Pelvis Ant/Pst | B8: {=IF(SUM('Subject Kinematics'!C2:C52)<>0,SQRT(SUMSQ('Subject Kinematics'!C2:C52-'Control Kinematics'!$IS$2:$IS$52)/51),"")} -> 5.116912 | C8: {=IF(SUM('Subject Kinematics'!D2:D52)<>0,SQRT(SUMSQ('Subject Kinematics'!D2:D52-'Control Kinematics'!$IS$2:$IS$52)/51),"")} -> 10.233824 | D8: {=IF(SUM('Subject Kinematics'!E2:E52)<>0,SQRT(SUMSQ('Subject Kinematics'!E2:E52-'Control Kinematics'!$IS$2:$IS$52)/51),"")} -> 15.350736 | E8: {=IF(SUM('Subject Kinematics'!F2:F52)<>0,SQRT(SUMSQ('Subject Kinematics'!F2:F52-'Control Kinematics'!$IS$2:$IS$52)/51),"")} -> 20.467648 | F8: {=IF(SUM('Subject Kinematics'!G2:G52)<>0,SQRT(SUMSQ('Subject Kinematics'!G2:G52-'Control Kinematics'!$IS$2:$IS$52)/51),"")} -> 25.58456 | G8: {=IF(SUM('Subject Kinematics'!H2:H52)<>0,SQRT(SUMSQ('Subject Kinematics'!H2:H52-'Control Kinematics'!$IS$2:$IS$52)/51),"")} -> 6.9493196 | H8: {=IF(SUM('Subject Kinematics'!I2:I52)<>0,SQRT(SUMSQ('Subject Kinematics'!I2:I52-'Control Kinematics'!$IS$2:$IS$52)/51),"")} -> 7.2067018 | I8: {=IF(SUM('Subject Kinematics'!J2:J52)<>0,SQRT(SUMSQ('Subject Kinematics'!J2:J52-'Control Kinematics'!$IS$2:$IS$52)/51),"")} -> 7.1037489 | ... IQ8: {=IF(SUM('Subject Kinematics'!IR2:IR52)<>0,SQRT(SUMSQ('Subject Kinematics'!IR2:IR52-'Control Kinematics'!$IS$2:$IS$52)/51),"")} | IR8: =AVERAGE(B8:IQ8) -> 11.914666 | IS8: =STDEV(B8:IQ8) -> 6.3316743 | IT8: =EXP(IR38) -> 10.620379
A9: Hip Flx/Ext | B9: {=IF(SUM('Subject Kinematics'!C2:C52)<>0,SQRT(SUMSQ('Subject Kinematics'!C155:C205-'Control Kinematics'!$IS$155:$IS$205)/51),"")} -> 5.3829985 | C9: {=IF(SUM('Subject Kinematics'!D2:D52)<>0,SQRT(SUMSQ('Subject Kinematics'!D155:D205-'Control Kinematics'!$IS$155:$IS$205)/51),"")} -> 10.765997 | D9: {=IF(SUM('Subject Kinematics'!E2:E52)<>0,SQRT(SUMSQ('Subject Kinematics'!E155:E205-'Control Kinematics'!$IS$155:$IS$205)/51),"")} -> 16.148995 | E9: {=IF(SUM('Subject Kinematics'!F2:F52)<>0,SQRT(SUMSQ('Subject Kinematics'!F155:F205-'Control Kinematics'!$IS$155:$IS$205)/51),"")} -> 21.531994 | F9: {=IF(SUM('Subject Kinematics'!G2:G52)<>0,SQRT(SUMSQ('Subject Kinematics'!G155:G205-'Control Kinematics'!$IS$155:$IS$205)/51),"")} -> 26.914992 | G9: {=IF(SUM('Subject Kinematics'!H2:H52)<>0,SQRT(SUMSQ('Subject Kinematics'!H155:H205-'Control Kinematics'!$IS$155:$IS$205)/51),"")} -> 7.3106939 | H9: {=IF(SUM('Subject Kinematics'!I2:I52)<>0,SQRT(SUMSQ('Subject Kinematics'!I155:I205-'Control Kinematics'!$IS$155:$IS$205)/51),"")} -> 7.5814603 | I9: {=IF(SUM('Subject Kinematics'!J2:J52)<>0,SQRT(SUMSQ('Subject Kinematics'!J155:J205-'Control Kinematics'!$IS$155:$IS$205)/51),"")} -> 7.4731537 | ... IQ9: {=IF(SUM('Subject Kinematics'!IR2:IR52)<>0,SQRT(SUMSQ('Subject Kinematics'!IR155:IR205-'Control Kinematics'!$IS$155:$IS$205)/51),"")} | IR9: =AVERAGE(B9:IQ9) -> 12.534245 | IS9: =STDEV(B9:IQ9) -> 6.6609301 | IT9: =EXP(IR39) -> 11.172653
A10: Knee Flx/Ext | B10: {=IF(SUM('Subject Kinematics'!C2:C52)<>0,SQRT(SUMSQ('Subject Kinematics'!C308:C358-'Control Kinematics'!$IS$308:$IS$358)/51),"")} -> 5.5673345 | C10: {=IF(SUM('Subject Kinematics'!D2:D52)<>0,SQRT(SUMSQ('Subject Kinematics'!D308:D358-'Control Kinematics'!$IS$308:$IS$358)/51),"")} -> 11.134669 | D10: {=IF(SUM('Subject Kinematics'!E2:E52)<>0,SQRT(SUMSQ('Subject Kinematics'!E308:E358-'Control Kinematics'!$IS$308:$IS$358)/51),"")} -> 16.702003 | E10: {=IF(SUM('Subject Kinematics'!F2:F52)<>0,SQRT(SUMSQ('Subject Kinematics'!F308:F358-'Control Kinematics'!$IS$308:$IS$358)/51),"")} -> 22.269338 | F10: {=IF(SUM('Subject Kinematics'!G2:G52)<>0,SQRT(SUMSQ('Subject Kinematics'!G308:G358-'Control Kinematics'!$IS$308:$IS$358)/51),"")} -> 27.836672 | G10: {=IF(SUM('Subject Kinematics'!H2:H52)<>0,SQRT(SUMSQ('Subject Kinematics'!H308:H358-'Control Kinematics'!$IS$308:$IS$358)/51),"")} -> 7.5610421 | H10: {=IF(SUM('Subject Kinematics'!I2:I52)<>0,SQRT(SUMSQ('Subject Kinematics'!I308:I358-'Control Kinematics'!$IS$308:$IS$358)/51),"")} -> 7.8410807 | I10: {=IF(SUM('Subject Kinematics'!J2:J52)<>0,SQRT(SUMSQ('Subject Kinematics'!J308:J358-'Control Kinematics'!$IS$308:$IS$358)/51),"")} -> 7.7290653 | ... IQ10: {=IF(SUM('Subject Kinematics'!IR2:IR52)<>0,SQRT(SUMSQ('Subject Kinematics'!IR308:IR358-'Control Kinematics'!$IS$308:$IS$358)/51),"")} | IR10: =AVERAGE(B10:IQ10) -> 12.963469 | IS10: =STDEV(B10:IQ10) -> 6.8890278 | IT10: =EXP(IR40) -> 11.555251
A11: Ankle Dor/Pla | B11: {=IF(SUM('Subject Kinematics'!C2:C52)<>0,SQRT(SUMSQ('Subject Kinematics'!C359:C409-'Control Kinematics'!$IS$359:$IS$409)/51),"")} -> 2.8862208 | C11: {=IF(SUM('Subject Kinematics'!D2:D52)<>0,SQRT(SUMSQ('Subject Kinematics'!D359:D409-'Control Kinematics'!$IS$359:$IS$409)/51),"")} -> 5.7724416 | D11: {=IF(SUM('Subject Kinematics'!E2:E52)<>0,SQRT(SUMSQ('Subject Kinematics'!E359:E409-'Control Kinematics'!$IS$359:$IS$409)/51),"")} -> 8.6586625 | E11: {=IF(SUM('Subject Kinematics'!F2:F52)<>0,SQRT(SUMSQ('Subject Kinematics'!F359:F409-'Control Kinematics'!$IS$359:$IS$409)/51),"")} -> 11.544883 | F11: {=IF(SUM('Subject Kinematics'!G2:G52)<>0,SQRT(SUMSQ('Subject Kinematics'!G359:G409-'Control Kinematics'!$IS$359:$IS$409)/51),"")} -> 14.431104 | G11: {=IF(SUM('Subject Kinematics'!H2:H52)<>0,SQRT(SUMSQ('Subject Kinematics'!H359:H409-'Control Kinematics'!$IS$359:$IS$409)/51),"")} -> 3.9197999 | H11: {=IF(SUM('Subject Kinematics'!I2:I52)<>0,SQRT(SUMSQ('Subject Kinematics'!I359:I409-'Control Kinematics'!$IS$359:$IS$409)/51),"")} -> 4.0649777 | I11: {=IF(SUM('Subject Kinematics'!J2:J52)<>0,SQRT(SUMSQ('Subject Kinematics'!J359:J409-'Control Kinematics'!$IS$359:$IS$409)/51),"")} -> 4.0069066 | ... IQ11: {=IF(SUM('Subject Kinematics'!IR2:IR52)<>0,SQRT(SUMSQ('Subject Kinematics'!IR359:IR409-'Control Kinematics'!$IS$359:$IS$409)/51),"")} | IR11: =AVERAGE(B11:IQ11) -> 6.7205293 | IS11: =STDEV(B11:IQ11) -> 3.5714138 | IT11: =EXP(IR41) -> 5.9904798
A13: Pelvic Up/Dn | B13: {=IF(SUM('Subject Kinematics'!C2:C52)<>0,SQRT(SUMSQ('Subject Kinematics'!C53:C103-'Control Kinematics'!$IS$53:$IS$103)/51),"")} -> 1.3803293 | C13: {=IF(SUM('Subject Kinematics'!D2:D52)<>0,SQRT(SUMSQ('Subject Kinematics'!D53:D103-'Control Kinematics'!$IS$53:$IS$103)/51),"")} -> 2.7606587 | D13: {=IF(SUM('Subject Kinematics'!E2:E52)<>0,SQRT(SUMSQ('Subject Kinematics'!E53:E103-'Control Kinematics'!$IS$53:$IS$103)/51),"")} -> 4.140988 | E13: {=IF(SUM('Subject Kinematics'!F2:F52)<>0,SQRT(SUMSQ('Subject Kinematics'!F53:F103-'Control Kinematics'!$IS$53:$IS$103)/51),"")} -> 5.5213174 | F13: {=IF(SUM('Subject Kinematics'!G2:G52)<>0,SQRT(SUMSQ('Subject Kinematics'!G53:G103-'Control Kinematics'!$IS$53:$IS$103)/51),"")} -> 6.9016467 | G13: {=IF(SUM('Subject Kinematics'!H2:H52)<>0,SQRT(SUMSQ('Subject Kinematics'!H53:H103-'Control Kinematics'!$IS$53:$IS$103)/51),"")} -> 1.8746365 | H13: {=IF(SUM('Subject Kinematics'!I2:I52)<>0,SQRT(SUMSQ('Subject Kinematics'!I53:I103-'Control Kinematics'!$IS$53:$IS$103)/51),"")} -> 1.9440674 | I13: {=IF(SUM('Subject Kinematics'!J2:J52)<>0,SQRT(SUMSQ('Subject Kinematics'!J53:J103-'Control Kinematics'!$IS$53:$IS$103)/51),"")} -> 1.9162951 | ... IQ13: {=IF(SUM('Subject Kinematics'!IR2:IR52)<>0,SQRT(SUMSQ('Subject Kinematics'!IR53:IR103-'Control Kinematics'!$IS$53:$IS$103)/51),"")} | IR13: =AVERAGE(B13:IQ13) -> 3.2140797 | IS13: =STDEV(B13:IQ13) -> 1.7080215 | IT13: =EXP(IR43) -> 2.864935
A14: Hip Add/Abd | B14: {=IF(SUM('Subject Kinematics'!C2:C52)<>0,SQRT(SUMSQ('Subject Kinematics'!C206:C256-'Control Kinematics'!$IS$206:$IS$256)/51),"")} -> 1.169024 | C14: {=IF(SUM('Subject Kinematics'!D2:D52)<>0,SQRT(SUMSQ('Subject Kinematics'!D206:D256-'Control Kinematics'!$IS$206:$IS$256)/51),"")} -> 2.338048 | D14: {=IF(SUM('Subject Kinematics'!E2:E52)<>0,SQRT(SUMSQ('Subject Kinematics'!E206:E256-'Control Kinematics'!$IS$206:$IS$256)/51),"")} -> 3.507072 | E14: {=IF(SUM('Subject Kinematics'!F2:F52)<>0,SQRT(SUMSQ('Subject Kinematics'!F206:F256-'Control Kinematics'!$IS$206:$IS$256)/51),"")} -> 4.6760959 | F14: {=IF(SUM('Subject Kinematics'!G2:G52)<>0,SQRT(SUMSQ('Subject Kinematics'!G206:G256-'Control Kinematics'!$IS$206:$IS$256)/51),"")} -> 5.8451199 | G14: {=IF(SUM('Subject Kinematics'!H2:H52)<>0,SQRT(SUMSQ('Subject Kinematics'!H206:H256-'Control Kinematics'!$IS$206:$IS$256)/51),"")} -> 1.587661 | H14: {=IF(SUM('Subject Kinematics'!I2:I52)<>0,SQRT(SUMSQ('Subject Kinematics'!I206:I256-'Control Kinematics'!$IS$206:$IS$256)/51),"")} -> 1.6464632 | I14: {=IF(SUM('Subject Kinematics'!J2:J52)<>0,SQRT(SUMSQ('Subject Kinematics'!J206:J256-'Control Kinematics'!$IS$206:$IS$256)/51),"")} -> 1.6229423 | ... IQ14: {=IF(SUM('Subject Kinematics'!IR2:IR52)<>0,SQRT(SUMSQ('Subject Kinematics'!IR206:IR256-'Control Kinematics'!$IS$206:$IS$256)/51),"")} | IR14: =AVERAGE(B14:IQ14) -> 2.7220578 | IS14: =STDEV(B14:IQ14) -> 1.446552 | IT14: =EXP(IR44) -> 2.4263613
A16: Pelvic Int/Ext | B16: {=IF(SUM('Subject Kinematics'!C2:C52)<>0,SQRT(SUMSQ('Subject Kinematics'!C104:C154-'Control Kinematics'!$IS$104:$IS$154)/51),"")} -> 1.8327268 | C16: {=IF(SUM('Subject Kinematics'!D2:D52)<>0,SQRT(SUMSQ('Subject Kinematics'!D104:D154-'Control Kinematics'!$IS$104:$IS$154)/51),"")} -> 3.6654536 | D16: {=IF(SUM('Subject Kinematics'!E2:E52)<>0,SQRT(SUMSQ('Subject Kinematics'!E104:E154-'Control Kinematics'!$IS$104:$IS$154)/51),"")} -> 5.4981804 | E16: {=IF(SUM('Subject Kinematics'!F2:F52)<>0,SQRT(SUMSQ('Subject Kinematics'!F104:F154-'Control Kinematics'!$IS$104:$IS$154)/51),"")} -> 7.3309072 | F16: {=IF(SUM('Subject Kinematics'!G2:G52)<>0,SQRT(SUMSQ('Subject Kinematics'!G104:G154-'Control Kinematics'!$IS$104:$IS$154)/51),"")} -> 9.163634 | G16: {=IF(SUM('Subject Kinematics'!H2:H52)<>0,SQRT(SUMSQ('Subject Kinematics'!H104:H154-'Control Kinematics'!$IS$104:$IS$154)/51),"")} -> 2.4890411 | H16: {=IF(SUM('Subject Kinematics'!I2:I52)<>0,SQRT(SUMSQ('Subject Kinematics'!I104:I154-'Control Kinematics'!$IS$104:$IS$154)/51),"")} -> 2.5812278 | I16: {=IF(SUM('Subject Kinematics'!J2:J52)<>0,SQRT(SUMSQ('Subject Kinematics'!J104:J154-'Control Kinematics'!$IS$104:$IS$154)/51),"")} -> 2.5443532 | ... IQ16: {=IF(SUM('Subject Kinematics'!IR2:IR52)<>0,SQRT(SUMSQ('Subject Kinematics'!IR104:IR154-'Control Kinematics'!$IS$104:$IS$154)/51),"")} | IR16: =AVERAGE(B16:IQ16) -> 4.2674816 | IS16: =STDEV(B16:IQ16) -> 2.2678188 | IT16: =EXP(IR46) -> 3.8039061
A17: Hip Int/Ext | B17: {=IF(SUM('Subject Kinematics'!C2:C52)<>0,SQRT(SUMSQ('Subject Kinematics'!C257:C307-'Control Kinematics'!$IS$257:$IS$307)/51),"")} -> 3.0766925 | C17: {=IF(SUM('Subject Kinematics'!D2:D52)<>0,SQRT(SUMSQ('Subject Kinematics'!D257:D307-'Control Kinematics'!$IS$257:$IS$307)/51),"")} -> 6.153385 | D17: {=IF(SUM('Subject Kinematics'!E2:E52)<>0,SQRT(SUMSQ('Subject Kinematics'!E257:E307-'Control Kinematics'!$IS$257:$IS$307)/51),"")} -> 9.2300775 | E17: {=IF(SUM('Subject Kinematics'!F2:F52)<>0,SQRT(SUMSQ('Subject Kinematics'!F257:F307-'Control Kinematics'!$IS$257:$IS$307)/51),"")} -> 12.30677 | F17: {=IF(SUM('Subject Kinematics'!G2:G52)<>0,SQRT(SUMSQ('Subject Kinematics'!G257:G307-'Control Kinematics'!$IS$257:$IS$307)/51),"")} -> 15.383463 | G17: {=IF(SUM('Subject Kinematics'!H2:H52)<>0,SQRT(SUMSQ('Subject Kinematics'!H257:H307-'Control Kinematics'!$IS$257:$IS$307)/51),"")} -> 4.1784811 | H17: {=IF(SUM('Subject Kinematics'!I2:I52)<>0,SQRT(SUMSQ('Subject Kinematics'!I257:I307-'Control Kinematics'!$IS$257:$IS$307)/51),"")} -> 4.3332396 | I17: {=IF(SUM('Subject Kinematics'!J2:J52)<>0,SQRT(SUMSQ('Subject Kinematics'!J257:J307-'Control Kinematics'!$IS$257:$IS$307)/51),"")} -> 4.2713362 | ... IQ17: {=IF(SUM('Subject Kinematics'!IR2:IR52)<>0,SQRT(SUMSQ('Subject Kinematics'!IR257:IR307-'Control Kinematics'!$IS$257:$IS$307)/51),"")} | IR17: =AVERAGE(B17:IQ17) -> 7.1640403 | IS17: =STDEV(B17:IQ17) -> 3.8071038 | IT17: =EXP(IR47) -> 6.3858123
A18: Foot Int/Ext | B18: {=IF(SUM('Subject Kinematics'!C2:C52)<>0,SQRT(SUMSQ('Subject Kinematics'!C410:C460-'Control Kinematics'!$IS$410:$IS$460)/51),"")} -> 9.001472 | C18: {=IF(SUM('Subject Kinematics'!D2:D52)<>0,SQRT(SUMSQ('Subject Kinematics'!D410:D460-'Control Kinematics'!$IS$410:$IS$460)/51),"")} -> 18.002944 | D18: {=IF(SUM('Subject Kinematics'!E2:E52)<>0,SQRT(SUMSQ('Subject Kinematics'!E410:E460-'Control Kinematics'!$IS$410:$IS$460)/51),"")} -> 27.004416 | E18: {=IF(SUM('Subject Kinematics'!F2:F52)<>0,SQRT(SUMSQ('Subject Kinematics'!F410:F460-'Control Kinematics'!$IS$410:$IS$460)/51),"")} -> 36.005888 | F18: {=IF(SUM('Subject Kinematics'!G2:G52)<>0,SQRT(SUMSQ('Subject Kinematics'!G410:G460-'Control Kinematics'!$IS$410:$IS$460)/51),"")} -> 45.00736 | G18: {=IF(SUM('Subject Kinematics'!H2:H52)<>0,SQRT(SUMSQ('Subject Kinematics'!H410:H460-'Control Kinematics'!$IS$410:$IS$460)/51),"")} -> 12.224972 | H18: {=IF(SUM('Subject Kinematics'!I2:I52)<>0,SQRT(SUMSQ('Subject Kinematics'!I410:I460-'Control Kinematics'!$IS$410:$IS$460)/51),"")} -> 12.677749 | I18: {=IF(SUM('Subject Kinematics'!J2:J52)<>0,SQRT(SUMSQ('Subject Kinematics'!J410:J460-'Control Kinematics'!$IS$410:$IS$460)/51),"")} -> 12.496638 | ... IQ18: {=IF(SUM('Subject Kinematics'!IR2:IR52)<>0,SQRT(SUMSQ('Subject Kinematics'!IR410:IR460-'Control Kinematics'!$IS$410:$IS$460)/51),"")} | IR18: =AVERAGE(B18:IQ18) -> 20.959816 | IS18: =STDEV(B18:IQ18) -> 11.138435 | IT18: =EXP(IR48) -> 18.682956
A20: Pelvis Ant/Pst | B20: {=IF(SUM('Subject Kinematics'!C461:C511)<>0,SQRT(SUMSQ('Subject Kinematics'!C461:C511-'Control Kinematics'!$IS$2:$IS$52)/51),"")} -> 14.802636 | C20: {=IF(SUM('Subject Kinematics'!D461:D511)<>0,SQRT(SUMSQ('Subject Kinematics'!D461:D511-'Control Kinematics'!$IS$2:$IS$52)/51),"")} -> 15.538698 | D20: {=IF(SUM('Subject Kinematics'!E461:E511)<>0,SQRT(SUMSQ('Subject Kinematics'!E461:E511-'Control Kinematics'!$IS$2:$IS$52)/51),"")} -> 15.06898 | E20: {=IF(SUM('Subject Kinematics'!F461:F511)<>0,SQRT(SUMSQ('Subject Kinematics'!F461:F511-'Control Kinematics'!$IS$2:$IS$52)/51),"")} -> 15.15455 | F20: {=IF(SUM('Subject Kinematics'!G461:G511)<>0,SQRT(SUMSQ('Subject Kinematics'!G461:G511-'Control Kinematics'!$IS$2:$IS$52)/51),"")} -> 15.783369 | G20: {=IF(SUM('Subject Kinematics'!H461:H511)<>0,SQRT(SUMSQ('Subject Kinematics'!H461:H511-'Control Kinematics'!$IS$2:$IS$52)/51),"")} -> 15.366102 | H20: {=IF(SUM('Subject Kinematics'!I461:I511)<>0,SQRT(SUMSQ('Subject Kinematics'!I461:I511-'Control Kinematics'!$IS$2:$IS$52)/51),"")} | I20: {=IF(SUM('Subject Kinematics'!J461:J511)<>0,SQRT(SUMSQ('Subject Kinematics'!J461:J511-'Control Kinematics'!$IS$2:$IS$52)/51),"")} | ... IQ20: {=IF(SUM('Subject Kinematics'!IR461:IR511)<>0,SQRT(SUMSQ('Subject Kinematics'!IR461:IR511-'Control Kinematics'!$IS$2:$IS$52)/51),"")} | IR20: =AVERAGE(B20:IQ20) -> 15.285722 | IS20: =STDEV(B20:IQ20) -> 0.35090333 | IT20: =EXP(IR50) -> 15.282368
A21: Hip Flx/Ext | B21: {=IF(SUM('Subject Kinematics'!C461:C511)<>0,SQRT(SUMSQ('Subject Kinematics'!C614:C664-'Control Kinematics'!$IS$155:$IS$205)/51),"")} -> 13.065888 | C21: {=IF(SUM('Subject Kinematics'!D461:D511)<>0,SQRT(SUMSQ('Subject Kinematics'!D614:D664-'Control Kinematics'!$IS$155:$IS$205)/51),"")} -> 12.861486 | D21: {=IF(SUM('Subject Kinematics'!E461:E511)<>0,SQRT(SUMSQ('Subject Kinematics'!E614:E664-'Control Kinematics'!$IS$155:$IS$205)/51),"")} -> 11.935717 | E21: {=IF(SUM('Subject Kinematics'!F461:F511)<>0,SQRT(SUMSQ('Subject Kinematics'!F614:F664-'Control Kinematics'!$IS$155:$IS$205)/51),"")} -> 13.198738 | F21: {=IF(SUM('Subject Kinematics'!G461:G511)<>0,SQRT(SUMSQ('Subject Kinematics'!G614:G664-'Control Kinematics'!$IS$155:$IS$205)/51),"")} -> 13.950448 | G21: {=IF(SUM('Subject Kinematics'!H461:H511)<>0,SQRT(SUMSQ('Subject Kinematics'!H614:H664-'Control Kinematics'!$IS$155:$IS$205)/51),"")} -> 17.29877 | H21: {=IF(SUM('Subject Kinematics'!I461:I511)<>0,SQRT(SUMSQ('Subject Kinematics'!I614:I664-'Control Kinematics'!$IS$155:$IS$205)/51),"")} | I21: {=IF(SUM('Subject Kinematics'!J461:J511)<>0,SQRT(SUMSQ('Subject Kinematics'!J614:J664-'Control Kinematics'!$IS$155:$IS$205)/51),"")} | ... IQ21: {=IF(SUM('Subject Kinematics'!IR461:IR511)<>0,SQRT(SUMSQ('Subject Kinematics'!IR614:IR664-'Control Kinematics'!$IS$155:$IS$205)/51),"")} | IR21: =AVERAGE(B21:IQ21) -> 13.718508 | IS21: =STDEV(B21:IQ21) -> 1.8698117 | IT21: =EXP(IR51) -> 13.621839
A22: Knee Flx/Ext | B22: {=IF(SUM('Subject Kinematics'!C461:C511)<>0,SQRT(SUMSQ('Subject Kinematics'!C767:C817-'Control Kinematics'!$IS$308:$IS$358)/51),"")} -> 5.2831867 | C22: {=IF(SUM('Subject Kinematics'!D461:D511)<>0,SQRT(SUMSQ('Subject Kinematics'!D767:D817-'Control Kinematics'!$IS$308:$IS$358)/51),"")} -> 8.1815729 | D22: {=IF(SUM('Subject Kinematics'!E461:E511)<>0,SQRT(SUMSQ('Subject Kinematics'!E767:E817-'Control Kinematics'!$IS$308:$IS$358)/51),"")} -> 7.3622798 | E22: {=IF(SUM('Subject Kinematics'!F461:F511)<>0,SQRT(SUMSQ('Subject Kinematics'!F767:F817-'Control Kinematics'!$IS$308:$IS$358)/51),"")} -> 5.4274494 | F22: {=IF(SUM('Subject Kinematics'!G461:G511)<>0,SQRT(SUMSQ('Subject Kinematics'!G767:G817-'Control Kinematics'!$IS$308:$IS$358)/51),"")} -> 7.8250887 | G22: {=IF(SUM('Subject Kinematics'!H461:H511)<>0,SQRT(SUMSQ('Subject Kinematics'!H767:H817-'Control Kinematics'!$IS$308:$IS$358)/51),"")} -> 20.242391 | H22: {=IF(SUM('Subject Kinematics'!I461:I511)<>0,SQRT(SUMSQ('Subject Kinematics'!I767:I817-'Control Kinematics'!$IS$308:$IS$358)/51),"")} | I22: {=IF(SUM('Subject Kinematics'!J461:J511)<>0,SQRT(SUMSQ('Subject Kinematics'!J767:J817-'Control Kinematics'!$IS$308:$IS$358)/51),"")} | ... IQ22: {=IF(SUM('Subject Kinematics'!IR461:IR511)<>0,SQRT(SUMSQ('Subject Kinematics'!IR767:IR817-'Control Kinematics'!$IS$308:$IS$358)/51),"")} | IR22: =AVERAGE(B22:IQ22) -> 9.0536615 | IS22: =STDEV(B22:IQ22) -> 5.6157684 | IT22: =EXP(IR52) -> 8.0571601
A23: Ankle Dor/Pla | B23: {=IF(SUM('Subject Kinematics'!C461:C511)<>0,SQRT(SUMSQ('Subject Kinematics'!C818:C868-'Control Kinematics'!$IS$359:$IS$409)/51),"")} -> 4.5950943 | C23: {=IF(SUM('Subject Kinematics'!D461:D511)<>0,SQRT(SUMSQ('Subject Kinematics'!D818:D868-'Control Kinematics'!$IS$359:$IS$409)/51),"")} -> 4.089503 | D23: {=IF(SUM('Subject Kinematics'!E461:E511)<>0,SQRT(SUMSQ('Subject Kinematics'!E818:E868-'Control Kinematics'!$IS$359:$IS$409)/51),"")} -> 4.6515374 | E23: {=IF(SUM('Subject Kinematics'!F461:F511)<>0,SQRT(SUMSQ('Subject Kinematics'!F818:F868-'Control Kinematics'!$IS$359:$IS$409)/51),"")} -> 4.7924942 | F23: {=IF(SUM('Subject Kinematics'!G461:G511)<>0,SQRT(SUMSQ('Subject Kinematics'!G818:G868-'Control Kinematics'!$IS$359:$IS$409)/51),"")} -> 4.6584792 | G23: {=IF(SUM('Subject Kinematics'!H461:H511)<>0,SQRT(SUMSQ('Subject Kinematics'!H818:H868-'Control Kinematics'!$IS$359:$IS$409)/51),"")} -> 39.385745 | H23: {=IF(SUM('Subject Kinematics'!I461:I511)<>0,SQRT(SUMSQ('Subject Kinematics'!I818:I868-'Control Kinematics'!$IS$359:$IS$409)/51),"")} | I23: {=IF(SUM('Subject Kinematics'!J461:J511)<>0,SQRT(SUMSQ('Subject Kinematics'!J818:J868-'Control Kinematics'!$IS$359:$IS$409)/51),"")} | ... IQ23: {=IF(SUM('Subject Kinematics'!IR461:IR511)<>0,SQRT(SUMSQ('Subject Kinematics'!IR818:IR868-'Control Kinematics'!$IS$359:$IS$409)/51),"")} | IR23: =AVERAGE(B23:IQ23) -> 10.362142 | IS23: =STDEV(B23:IQ23) -> 14.220676 | IT23: =EXP(IR53) -> 6.5205523
A25: Pelvic Up/Dn | B25: {=IF(SUM('Subject Kinematics'!C461:C511)<>0,SQRT(SUMSQ('Subject Kinematics'!C512:C562-'Control Kinematics'!$IS$53:$IS$103)/51),"")} -> 2.0087854 | C25: {=IF(SUM('Subject Kinematics'!D461:D511)<>0,SQRT(SUMSQ('Subject Kinematics'!D512:D562-'Control Kinematics'!$IS$53:$IS$103)/51),"")} -> 2.7737671 | D25: {=IF(SUM('Subject Kinematics'!E461:E511)<>0,SQRT(SUMSQ('Subject Kinematics'!E512:E562-'Control Kinematics'!$IS$53:$IS$103)/51),"")} -> 2.7389899 | E25: {=IF(SUM('Subject Kinematics'!F461:F511)<>0,SQRT(SUMSQ('Subject Kinematics'!F512:F562-'Control Kinematics'!$IS$53:$IS$103)/51),"")} -> 3.8079745 | F25: {=IF(SUM('Subject Kinematics'!G461:G511)<>0,SQRT(SUMSQ('Subject Kinematics'!G512:G562-'Control Kinematics'!$IS$53:$IS$103)/51),"")} -> 3.5887252 | G25: {=IF(SUM('Subject Kinematics'!H461:H511)<>0,SQRT(SUMSQ('Subject Kinematics'!H512:H562-'Control Kinematics'!$IS$53:$IS$103)/51),"")} -> 30.909375 | H25: {=IF(SUM('Subject Kinematics'!I461:I511)<>0,SQRT(SUMSQ('Subject Kinematics'!I512:I562-'Control Kinematics'!$IS$53:$IS$103)/51),"")} | I25: {=IF(SUM('Subject Kinematics'!J461:J511)<>0,SQRT(SUMSQ('Subject Kinematics'!J512:J562-'Control Kinematics'!$IS$53:$IS$103)/51),"")} | ... IQ25: {=IF(SUM('Subject Kinematics'!IR461:IR511)<>0,SQRT(SUMSQ('Subject Kinematics'!IR512:IR562-'Control Kinematics'!$IS$53:$IS$103)/51),"")} | IR25: =AVERAGE(B25:IQ25) -> 7.6379362 | IS25: =STDEV(B25:IQ25) -> 11.419034 | IT25: =EXP(IR55) -> 4.3140622
A26: Hip Add/Abd | B26: {=IF(SUM('Subject Kinematics'!C461:C511)<>0,SQRT(SUMSQ('Subject Kinematics'!C665:C715-'Control Kinematics'!$IS$206:$IS$256)/51),"")} -> 5.9914962 | C26: {=IF(SUM('Subject Kinematics'!D461:D511)<>0,SQRT(SUMSQ('Subject Kinematics'!D665:D715-'Control Kinematics'!$IS$206:$IS$256)/51),"")} -> 7.1385792 | D26: {=IF(SUM('Subject Kinematics'!E461:E511)<>0,SQRT(SUMSQ('Subject Kinematics'!E665:E715-'Control Kinematics'!$IS$206:$IS$256)/51),"")} -> 6.6376099 | E26: {=IF(SUM('Subject Kinematics'!F461:F511)<>0,SQRT(SUMSQ('Subject Kinematics'!F665:F715-'Control Kinematics'!$IS$206:$IS$256)/51),"")} -> 6.7845403 | F26: {=IF(SUM('Subject Kinematics'!G461:G511)<>0,SQRT(SUMSQ('Subject Kinematics'!G665:G715-'Control Kinematics'!$IS$206:$IS$256)/51),"")} -> 7.0619273 | G26: {=IF(SUM('Subject Kinematics'!H461:H511)<>0,SQRT(SUMSQ('Subject Kinematics'!H665:H715-'Control Kinematics'!$IS$206:$IS$256)/51),"")} -> 7.4524122 | H26: {=IF(SUM('Subject Kinematics'!I461:I511)<>0,SQRT(SUMSQ('Subject Kinematics'!I665:I715-'Control Kinematics'!$IS$206:$IS$256)/51),"")} | I26: {=IF(SUM('Subject Kinematics'!J461:J511)<>0,SQRT(SUMSQ('Subject Kinematics'!J665:J715-'Control Kinematics'!$IS$206:$IS$256)/51),"")} | ... IQ26: {=IF(SUM('Subject Kinematics'!IR461:IR511)<>0,SQRT(SUMSQ('Subject Kinematics'!IR665:IR715-'Control Kinematics'!$IS$206:$IS$256)/51),"")} | IR26: =AVERAGE(B26:IQ26) -> 6.8444275 | IS26: =STDEV(B26:IQ26) -> 0.50543617 | IT26: =EXP(IR56) -> 6.8283623
A28: Pelvic Int/Ext | B28: {=IF(SUM('Subject Kinematics'!C461:C511)<>0,SQRT(SUMSQ('Subject Kinematics'!C563:C613-'Control Kinematics'!$IS$104:$IS$154)/51),"")} -> 3.4490775 | C28: {=IF(SUM('Subject Kinematics'!D461:D511)<>0,SQRT(SUMSQ('Subject Kinematics'!D563:D613-'Control Kinematics'!$IS$104:$IS$154)/51),"")} -> 7.2671675 | D28: {=IF(SUM('Subject Kinematics'!E461:E511)<>0,SQRT(SUMSQ('Subject Kinematics'!E563:E613-'Control Kinematics'!$IS$104:$IS$154)/51),"")} -> 6.1559938 | E28: {=IF(SUM('Subject Kinematics'!F461:F511)<>0,SQRT(SUMSQ('Subject Kinematics'!F563:F613-'Control Kinematics'!$IS$104:$IS$154)/51),"")} -> 6.9527268 | F28: {=IF(SUM('Subject Kinematics'!G461:G511)<>0,SQRT(SUMSQ('Subject Kinematics'!G563:G613-'Control Kinematics'!$IS$104:$IS$154)/51),"")} -> 2.8418301 | G28: {=IF(SUM('Subject Kinematics'!H461:H511)<>0,SQRT(SUMSQ('Subject Kinematics'!H563:H613-'Control Kinematics'!$IS$104:$IS$154)/51),"")} -> 5.9084159 | H28: {=IF(SUM('Subject Kinematics'!I461:I511)<>0,SQRT(SUMSQ('Subject Kinematics'!I563:I613-'Control Kinematics'!$IS$104:$IS$154)/51),"")} | I28: {=IF(SUM('Subject Kinematics'!J461:J511)<>0,SQRT(SUMSQ('Subject Kinematics'!J563:J613-'Control Kinematics'!$IS$104:$IS$154)/51),"")} | ... IQ28: {=IF(SUM('Subject Kinematics'!IR461:IR511)<>0,SQRT(SUMSQ('Subject Kinematics'!IR563:IR613-'Control Kinematics'!$IS$104:$IS$154)/51),"")} | IR28: =AVERAGE(B28:IQ28) -> 5.4292019 | IS28: =STDEV(B28:IQ28) -> 1.8478368 | IT28: =EXP(IR58) -> 5.1199428
A29: Hip Int/Ext | B29: {=IF(SUM('Subject Kinematics'!C461:C511)<>0,SQRT(SUMSQ('Subject Kinematics'!C716:C766-'Control Kinematics'!$IS$257:$IS$307)/51),"")} -> 5.9768765 | C29: {=IF(SUM('Subject Kinematics'!D461:D511)<>0,SQRT(SUMSQ('Subject Kinematics'!D716:D766-'Control Kinematics'!$IS$257:$IS$307)/51),"")} -> 6.5534592 | D29: {=IF(SUM('Subject Kinematics'!E461:E511)<>0,SQRT(SUMSQ('Subject Kinematics'!E716:E766-'Control Kinematics'!$IS$257:$IS$307)/51),"")} -> 6.7933507 | E29: {=IF(SUM('Subject Kinematics'!F461:F511)<>0,SQRT(SUMSQ('Subject Kinematics'!F716:F766-'Control Kinematics'!$IS$257:$IS$307)/51),"")} -> 6.5759857 | F29: {=IF(SUM('Subject Kinematics'!G461:G511)<>0,SQRT(SUMSQ('Subject Kinematics'!G716:G766-'Control Kinematics'!$IS$257:$IS$307)/51),"")} -> 6.4124784 | G29: {=IF(SUM('Subject Kinematics'!H461:H511)<>0,SQRT(SUMSQ('Subject Kinematics'!H716:H766-'Control Kinematics'!$IS$257:$IS$307)/51),"")} -> 6.0700498 | H29: {=IF(SUM('Subject Kinematics'!I461:I511)<>0,SQRT(SUMSQ('Subject Kinematics'!I716:I766-'Control Kinematics'!$IS$257:$IS$307)/51),"")} | I29: {=IF(SUM('Subject Kinematics'!J461:J511)<>0,SQRT(SUMSQ('Subject Kinematics'!J716:J766-'Control Kinematics'!$IS$257:$IS$307)/51),"")} | ... IQ29: {=IF(SUM('Subject Kinematics'!IR461:IR511)<>0,SQRT(SUMSQ('Subject Kinematics'!IR716:IR766-'Control Kinematics'!$IS$257:$IS$307)/51),"")} | IR29: =AVERAGE(B29:IQ29) -> 6.3970334 | IS29: =STDEV(B29:IQ29) -> 0.31535662 | IT29: =EXP(IR59) -> 6.3904973
A30: Foot Int/Ext | B30: {=IF(SUM('Subject Kinematics'!C461:C511)<>0,SQRT(SUMSQ('Subject Kinematics'!C869:C919-'Control Kinematics'!$IS$410:$IS$460)/51),"")} -> 10.758752 | C30: {=IF(SUM('Subject Kinematics'!D461:D511)<>0,SQRT(SUMSQ('Subject Kinematics'!D869:D919-'Control Kinematics'!$IS$410:$IS$460)/51),"")} -> 16.167315 | D30: {=IF(SUM('Subject Kinematics'!E461:E511)<>0,SQRT(SUMSQ('Subject Kinematics'!E869:E919-'Control Kinematics'!$IS$410:$IS$460)/51),"")} -> 11.953669 | E30: {=IF(SUM('Subject Kinematics'!F461:F511)<>0,SQRT(SUMSQ('Subject Kinematics'!F869:F919-'Control Kinematics'!$IS$410:$IS$460)/51),"")} -> 14.992842 | F30: {=IF(SUM('Subject Kinematics'!G461:G511)<>0,SQRT(SUMSQ('Subject Kinematics'!G869:G919-'Control Kinematics'!$IS$410:$IS$460)/51),"")} -> 9.7233281 | G30: {=IF(SUM('Subject Kinematics'!H461:H511)<>0,SQRT(SUMSQ('Subject Kinematics'!H869:H919-'Control Kinematics'!$IS$410:$IS$460)/51),"")} -> 11.611648 | H30: {=IF(SUM('Subject Kinematics'!I461:I511)<>0,SQRT(SUMSQ('Subject Kinematics'!I869:I919-'Control Kinematics'!$IS$410:$IS$460)/51),"")} | I30: {=IF(SUM('Subject Kinematics'!J461:J511)<>0,SQRT(SUMSQ('Subject Kinematics'!J869:J919-'Control Kinematics'!$IS$410:$IS$460)/51),"")} | ... IQ30: {=IF(SUM('Subject Kinematics'!IR461:IR511)<>0,SQRT(SUMSQ('Subject Kinematics'!IR869:IR919-'Control Kinematics'!$IS$410:$IS$460)/51),"")} | IR30: =AVERAGE(B30:IQ30) -> 12.534592 | IS30: =STDEV(B30:IQ30) -> 2.5094136 | IT30: =EXP(IR60) -> 12.333385
A33: Log Transform
A34: GPS (Left) | B34: =IF(B4<>"",LN(B4),"") -> 1.5291143 | C34: =IF(C4<>"",LN(C4),"") -> 2.2222615 | D34: =IF(D4<>"",LN(D4),"") -> 2.6277266 | E34: =IF(E4<>"",LN(E4),"") -> 2.9154086 | F34: =IF(F4<>"",LN(F4),"") -> 3.1385522 | G34: =IF(G4<>"",LN(G4),"") -> 1.8352069 | H34: =IF(H4<>"",LN(H4),"") -> 1.8715746 | I34: =IF(I4<>"",LN(I4),"") -> 1.8571858 | ... IQ34: =IF(IQ4<>"",LN(IQ4),"") | IR34: =AVERAGE(B34:IQ34) -> 2.2593378 | IS34: =STDEV(B34:IQ34) -> 0.49318705
A35: GPS (Right) | B35: =IF(B5<>"",LN(B5),"") -> 2.1338108 | C35: =IF(C5<>"",LN(C5),"") -> 2.3060872 | D35: =IF(D5<>"",LN(D5),"") -> 2.1936946 | E35: =IF(E5<>"",LN(E5),"") -> 2.2640199 | F35: =IF(F5<>"",LN(F5),"") -> 2.2000642 | G35: =IF(G5<>"",LN(G5),"") -> 3.0113024 | H35: =IF(H5<>"",LN(H5),"") | I35: =IF(I5<>"",LN(I5),"") | ... IQ35: =IF(IQ5<>"",LN(IQ5),"") | IR35: =AVERAGE(B35:IQ35) -> 2.3514965 | IS35: =STDEV(B35:IQ35) -> 0.3287182
A36: GPS (Overall) | B36: =IF(B6<>"",LN(B6),"") -> 1.8433757 | C36: =IF(C6<>"",LN(C6),"") -> 2.2575507 | D36: =IF(D6<>"",LN(D6),"") -> 2.4885677 | E36: =IF(E6<>"",LN(E6),"") -> 2.7412108 | F36: =IF(F6<>"",LN(F6),"") -> 2.9292798 | G36: =IF(G6<>"",LN(G6),"") -> 2.6219071 | H36: =IF(H6<>"",LN(H6),"") -> 1.6161618 | I36: =IF(I6<>"",LN(I6),"") -> 1.601773 | ... IQ36: =IF(IQ6<>"",LN(IQ6),"") | IR36: =AVERAGE(B36:IQ36) -> 2.1990249 | IS36: =STDEV(B36:IQ36) -> 0.45461414
A38: Pelvis Ant/Pst | B38: =IF(B8<>"",LN(B8),"") -> 1.6325511 | C38: =IF(C8<>"",LN(C8),"") -> 2.3256983 | D38: =IF(D8<>"",LN(D8),"") -> 2.7311634 | E38: =IF(E8<>"",LN(E8),"") -> 3.0188455 | F38: =IF(F8<>"",LN(F8),"") -> 3.241989 | G38: =IF(G8<>"",LN(G8),"") -> 1.9386438 | H38: =IF(H8<>"",LN(H8),"") -> 1.9750114 | I38: =IF(I8<>"",LN(I8),"") -> 1.9606227 | ... IQ38: =IF(IQ8<>"",LN(IQ8),"") | IR38: =AVERAGE(B38:IQ38) -> 2.3627747 | IS38: =STDEV(B38:IQ38) -> 0.49318705
A39: Hip Flx/Ext | B39: =IF(B9<>"",LN(B9),"") -> 1.6832456 | C39: =IF(C9<>"",LN(C9),"") -> 2.3763927 | D39: =IF(D9<>"",LN(D9),"") -> 2.7818578 | E39: =IF(E9<>"",LN(E9),"") -> 3.0695399 | F39: =IF(F9<>"",LN(F9),"") -> 3.2926835 | G39: =IF(G9<>"",LN(G9),"") -> 1.9893382 | H39: =IF(H9<>"",LN(H9),"") -> 2.0257058 | I39: =IF(I9<>"",LN(I9),"") -> 2.0113171 | ... IQ39: =IF(IQ9<>"",LN(IQ9),"") | IR39: =AVERAGE(B39:IQ39) -> 2.4134691 | IS39: =STDEV(B39:IQ39) -> 0.49318705
A40: Knee Flx/Ext | B40: =IF(B10<>"",LN(B10),"") -> 1.7169164 | C40: =IF(C10<>"",LN(C10),"") -> 2.4100636 | D40: =IF(D10<>"",LN(D10),"") -> 2.8155287 | E40: =IF(E10<>"",LN(E10),"") -> 3.1032108 | F40: =IF(F10<>"",LN(F10),"") -> 3.3263543 | G40: =IF(G10<>"",LN(G10),"") -> 2.023009 | H40: =IF(H10<>"",LN(H10),"") -> 2.0593767 | I40: =IF(I10<>"",LN(I10),"") -> 2.0449879 | ... IQ40: =IF(IQ10<>"",LN(IQ10),"") | IR40: =AVERAGE(B40:IQ40) -> 2.4471399 | IS40: =STDEV(B40:IQ40) -> 0.49318705
A41: Ankle Dor/Pla | B41: =IF(B11<>"",LN(B11),"") -> 1.059948 | C41: =IF(C11<>"",LN(C11),"") -> 1.7530952 | D41: =IF(D11<>"",LN(D11),"") -> 2.1585603 | E41: =IF(E11<>"",LN(E11),"") -> 2.4462423 | F41: =IF(F11<>"",LN(F11),"") -> 2.6693859 | G41: =IF(G11<>"",LN(G11),"") -> 1.3660406 | H41: =IF(H11<>"",LN(H11),"") -> 1.4024083 | I41: =IF(I11<>"",LN(I11),"") -> 1.3880195 | ... IQ41: =IF(IQ11<>"",LN(IQ11),"") | IR41: =AVERAGE(B41:IQ41) -> 1.7901715 | IS41: =STDEV(B41:IQ41) -> 0.49318705
B42: =IF(B12<>"",LN(B12),"") | C42: =IF(C12<>"",LN(C12),"") | D42: =IF(D12<>"",LN(D12),"") | E42: =IF(E12<>"",LN(E12),"") | F42: =IF(F12<>"",LN(F12),"") | G42: =IF(G12<>"",LN(G12),"") | H42: =IF(H12<>"",LN(H12),"") | I42: =IF(I12<>"",LN(I12),"") | ... IQ42: =IF(IQ12<>"",LN(IQ12),"")
A43: Pelvic Up/Dn | B43: =IF(B13<>"",LN(B13),"") -> 0.32232212 | C43: =IF(C13<>"",LN(C13),"") -> 1.0154693 | D43: =IF(D13<>"",LN(D13),"") -> 1.4209344 | E43: =IF(E13<>"",LN(E13),"") -> 1.7086165 | F43: =IF(F13<>"",LN(F13),"") -> 1.93176 | G43: =IF(G13<>"",LN(G13),"") -> 0.62841476 | H43: =IF(H13<>"",LN(H13),"") -> 0.6647824 | I43: =IF(I13<>"",LN(I13),"") -> 0.65039366 | ... IQ43: =IF(IQ13<>"",LN(IQ13),"") | IR43: =AVERAGE(B43:IQ43) -> 1.0525457 | IS43: =STDEV(B43:IQ43) -> 0.49318705
A44: Hip Add/Abd | B44: =IF(B14<>"",LN(B14),"") -> 0.1561692 | C44: =IF(C14<>"",LN(C14),"") -> 0.84931638 | D44: =IF(D14<>"",LN(D14),"") -> 1.2547815 | E44: =IF(E14<>"",LN(E14),"") -> 1.5424636 | F44: =IF(F14<>"",LN(F14),"") -> 1.7656071 | G44: =IF(G14<>"",LN(G14),"") -> 0.46226183 | H44: =IF(H14<>"",LN(H14),"") -> 0.49862948 | I44: =IF(I14<>"",LN(I14),"") -> 0.48424074 | ... IQ44: =IF(IQ14<>"",LN(IQ14),"") | IR44: =AVERAGE(B44:IQ44) -> 0.88639273 | IS44: =STDEV(B44:IQ44) -> 0.49318705
B45: =IF(B15<>"",LN(B15),"") | C45: =IF(C15<>"",LN(C15),"") | D45: =IF(D15<>"",LN(D15),"") | E45: =IF(E15<>"",LN(E15),"") | F45: =IF(F15<>"",LN(F15),"") | G45: =IF(G15<>"",LN(G15),"") | H45: =IF(H15<>"",LN(H15),"") | I45: =IF(I15<>"",LN(I15),"") | ... IQ45: =IF(IQ15<>"",LN(IQ15),"")
A46: Pelvic Int/Ext | B46: =IF(B16<>"",LN(B16),"") -> 0.60580491 | C46: =IF(C16<>"",LN(C16),"") -> 1.2989521 | D46: =IF(D16<>"",LN(D16),"") -> 1.7044172 | E46: =IF(E16<>"",LN(E16),"") -> 1.9920993 | F46: =IF(F16<>"",LN(F16),"") -> 2.2152428 | G46: =IF(G16<>"",LN(G16),"") -> 0.91189755 | H46: =IF(H16<>"",LN(H16),"") -> 0.94826519 | I46: =IF(I16<>"",LN(I16),"") -> 0.93387646 | ... IQ46: =IF(IQ16<>"",LN(IQ16),"") | IR46: =AVERAGE(B46:IQ46) -> 1.3360284 | IS46: =STDEV(B46:IQ46) -> 0.49318705
A47: Hip Int/Ext | B47: =IF(B17<>"",LN(B17),"") -> 1.1238552 | C47: =IF(C17<>"",LN(C17),"") -> 1.8170023 | D47: =IF(D17<>"",LN(D17),"") -> 2.2224675 | E47: =IF(E17<>"",LN(E17),"") -> 2.5101495 | F47: =IF(F17<>"",LN(F17),"") -> 2.7332931 | G47: =IF(G17<>"",LN(G17),"") -> 1.4299478 | H47: =IF(H17<>"",LN(H17),"") -> 1.4663154 | I47: =IF(I17<>"",LN(I17),"") -> 1.4519267 | ... IQ47: =IF(IQ17<>"",LN(IQ17),"") | IR47: =AVERAGE(B47:IQ47) -> 1.8540787 | IS47: =STDEV(B47:IQ47) -> 0.49318705
A48: Foot Int/Ext | B48: =IF(B18<>"",LN(B18),"") -> 2.1973881 | C48: =IF(C18<>"",LN(C18),"") -> 2.8905353 | D48: =IF(D18<>"",LN(D18),"") -> 3.2960004 | E48: =IF(E18<>"",LN(E18),"") -> 3.5836825 | F48: =IF(F18<>"",LN(F18),"") -> 3.806826 | G48: =IF(G18<>"",LN(G18),"") -> 2.5034808 | H48: =IF(H18<>"",LN(H18),"") -> 2.5398484 | I48: =IF(I18<>"",LN(I18),"") -> 2.5254597 | ... IQ48: =IF(IQ18<>"",LN(IQ18),"") | IR48: =AVERAGE(B48:IQ48) -> 2.9276117 | IS48: =STDEV(B48:IQ48) -> 0.49318705
B49: =IF(B19<>"",LN(B19),"") | C49: =IF(C19<>"",LN(C19),"") | D49: =IF(D19<>"",LN(D19),"") | E49: =IF(E19<>"",LN(E19),"") | F49: =IF(F19<>"",LN(F19),"") | G49: =IF(G19<>"",LN(G19),"") | H49: =IF(H19<>"",LN(H19),"") | I49: =IF(I19<>"",LN(I19),"") | ... IQ49: =IF(IQ19<>"",LN(IQ19),"")
A50: Pelvis Ant/Pst | B50: =IF(B20<>"",LN(B20),"") -> 2.6948052 | C50: =IF(C20<>"",LN(C20),"") -> 2.7433336 | D50: =IF(D20<>"",LN(D20),"") -> 2.7126383 | E50: =IF(E20<>"",LN(E20),"") -> 2.7183008 | F50: =IF(F20<>"",LN(F20),"") -> 2.7589568 | G50: =IF(G20<>"",LN(G20),"") -> 2.7321639 | H50: =IF(H20<>"",LN(H20),"") | I50: =IF(I20<>"",LN(I20),"") | ... IQ50: =IF(IQ20<>"",LN(IQ20),"") | IR50: =AVERAGE(B50:IQ50) -> 2.7266998 | IS50: =STDEV(B50:IQ50) -> 0.022945943
A51: Hip Flx/Ext | B51: =IF(B21<>"",LN(B21),"") -> 2.5700049 | C51: =IF(C21<>"",LN(C21),"") -> 2.5542372 | D51: =IF(D21<>"",LN(D21),"") -> 2.4795353 | E51: =IF(E21<>"",LN(E21),"") -> 2.5801212 | F51: =IF(F21<>"",LN(F21),"") -> 2.6355117 | G51: =IF(G21<>"",LN(G21),"") -> 2.8506354 | H51: =IF(H21<>"",LN(H21),"") | I51: =IF(I21<>"",LN(I21),"") | ... IQ51: =IF(IQ21<>"",LN(IQ21),"") | IR51: =AVERAGE(B51:IQ51) -> 2.6116743 | IS51: =STDEV(B51:IQ51) -> 0.12740667
A52: Knee Flx/Ext | B52: =IF(B22<>"",LN(B22),"") -> 1.6645295 | C52: =IF(C22<>"",LN(C22),"") -> 2.1018844 | D52: =IF(D22<>"",LN(D22),"") -> 1.9963696 | E52: =IF(E22<>"",LN(E22),"") -> 1.6914693 | F52: =IF(F22<>"",LN(F22),"") -> 2.0573351 | G52: =IF(G22<>"",LN(G22),"") -> 3.007779 | H52: =IF(H22<>"",LN(H22),"") | I52: =IF(I22<>"",LN(I22),"") | ... IQ52: =IF(IQ22<>"",LN(IQ22),"") | IR52: =AVERAGE(B52:IQ52) -> 2.0865611 | IS52: =STDEV(B52:IQ52) -> 0.4882774
A53: Ankle Dor/Pla | B53: =IF(B23<>"",LN(B23),"") -> 1.5249893 | C53: =IF(C23<>"",LN(C23),"") -> 1.4084235 | D53: =IF(D23<>"",LN(D23),"") -> 1.5371978 | E53: =IF(E23<>"",LN(E23),"") -> 1.567051 | F53: =IF(F23<>"",LN(F23),"") -> 1.538689 | G53: =IF(G23<>"",LN(G23),"") -> 3.6734039 | H53: =IF(H23<>"",LN(H23),"") | I53: =IF(I23<>"",LN(I23),"") | ... IQ53: =IF(IQ23<>"",LN(IQ23),"") | IR53: =AVERAGE(B53:IQ53) -> 1.8749591 | IS53: =STDEV(B53:IQ53) -> 0.88278037
B54: =IF(B24<>"",LN(B24),"") | C54: =IF(C24<>"",LN(C24),"") | D54: =IF(D24<>"",LN(D24),"") | E54: =IF(E24<>"",LN(E24),"") | F54: =IF(F24<>"",LN(F24),"") | G54: =IF(G24<>"",LN(G24),"") | H54: =IF(H24<>"",LN(H24),"") | I54: =IF(I24<>"",LN(I24),"") | ... IQ54: =IF(IQ24<>"",LN(IQ24),"")
A55: Pelvic Up/Dn | B55: =IF(B25<>"",LN(B25),"") -> 0.69753024 | C55: =IF(C25<>"",LN(C25),"") -> 1.0202064 | D55: =IF(D25<>"",LN(D25),"") -> 1.0075892 | E55: =IF(E25<>"",LN(E25),"") -> 1.3370974 | F55: =IF(F25<>"",LN(F25),"") -> 1.2777971 | G55: =IF(G25<>"",LN(G25),"") -> 3.4310595 | H55: =IF(H25<>"",LN(H25),"") | I55: =IF(I25<>"",LN(I25),"") | ... IQ55: =IF(IQ25<>"",LN(IQ25),"") | IR55: =AVERAGE(B55:IQ55) -> 1.46188 | IS55: =STDEV(B55:IQ55) -> 0.99124281
A56: Hip Add/Abd | B56: =IF(B26<>"",LN(B26),"") -> 1.7903412 | C56: =IF(C26<>"",LN(C26),"") -> 1.9655138 | D56: =IF(D26<>"",LN(D26),"") -> 1.8927519 | E56: =IF(E26<>"",LN(E26),"") -> 1.9146465 | F56: =IF(F26<>"",LN(F26),"") -> 1.954718 | G56: =IF(G26<>"",LN(G26),"") -> 2.0085378 | H56: =IF(H26<>"",LN(H26),"") | I56: =IF(I26<>"",LN(I26),"") | ... IQ56: =IF(IQ26<>"",LN(IQ26),"") | IR56: =AVERAGE(B56:IQ56) -> 1.9210849 | IS56: =STDEV(B56:IQ56) -> 0.075751234
B57: =IF(B27<>"",LN(B27),"") | C57: =IF(C27<>"",LN(C27),"") | D57: =IF(D27<>"",LN(D27),"") | E57: =IF(E27<>"",LN(E27),"") | F57: =IF(F27<>"",LN(F27),"") | G57: =IF(G27<>"",LN(G27),"") | H57: =IF(H27<>"",LN(H27),"") | I57: =IF(I27<>"",LN(I27),"") | ... IQ57: =IF(IQ27<>"",LN(IQ27),"")
A58: Pelvic Int/Ext | B58: =IF(B28<>"",LN(B28),"") -> 1.2381068 | C58: =IF(C28<>"",LN(C28),"") -> 1.9833666 | D58: =IF(D28<>"",LN(D28),"") -> 1.8174262 | E58: =IF(E28<>"",LN(E28),"") -> 1.9391339 | F58: =IF(F28<>"",LN(F28),"") -> 1.0444482 | G58: =IF(G28<>"",LN(G28),"") -> 1.7763778 | H58: =IF(H28<>"",LN(H28),"") | I58: =IF(I28<>"",LN(I28),"") | ... IQ58: =IF(IQ28<>"",LN(IQ28),"") | IR58: =AVERAGE(B58:IQ58) -> 1.6331433 | IS58: =STDEV(B58:IQ58) -> 0.39328835
A59: Hip Int/Ext | B59: =IF(B29<>"",LN(B29),"") -> 1.7878981 | C59: =IF(C29<>"",LN(C29),"") -> 1.879993 | D59: =IF(D29<>"",LN(D29),"") -> 1.9159443 | E59: =IF(E29<>"",LN(E29),"") -> 1.8834245 | F59: =IF(F29<>"",LN(F29),"") -> 1.8582458 | G59: =IF(G29<>"",LN(G29),"") -> 1.8033668 | H59: =IF(H29<>"",LN(H29),"") | I59: =IF(I29<>"",LN(I29),"") | ... IQ59: =IF(IQ29<>"",LN(IQ29),"") | IR59: =AVERAGE(B59:IQ59) -> 1.8548121 | IS59: =STDEV(B59:IQ59) -> 0.049650346
A60: Foot Int/Ext | B60: =IF(B30<>"",LN(B30),"") -> 2.3757195 | C60: =IF(C30<>"",LN(C30),"") -> 2.7829916 | D60: =IF(D30<>"",LN(D30),"") -> 2.4810383 | E60: =IF(E30<>"",LN(E30),"") -> 2.7075729 | F60: =IF(F30<>"",LN(F30),"") -> 2.274528 | G60: =IF(G30<>"",LN(G30),"") -> 2.4520087 | H60: =IF(H30<>"",LN(H30),"") | I60: =IF(I30<>"",LN(I30),"") | ... IQ60: =IF(IQ30<>"",LN(IQ30),"") | IR60: =AVERAGE(B60:IQ60) -> 2.5123098 | IS60: =STDEV(B60:IQ60) -> 0.19555437
A62: GDI (Left)
A63: c1 | B63: {=IF(SUM('Subject Kinematics'!C2:C52)<>0,MMULT(TRANSPOSE('Features (from Gillette)'!$A$3:$O$461),'Subject Kinematics'!C2:C460),"")} -> -324.11125 | C63: {=IF(SUM('Subject Kinematics'!D2:D52)<>0,MMULT(TRANSPOSE('Features (from Gillette)'!$A$3:$O$461),'Subject Kinematics'!D2:D460),"")} -> -358.78328 | D63: {=IF(SUM('Subject Kinematics'!E2:E52)<>0,MMULT(TRANSPOSE('Features (from Gillette)'!$A$3:$O$461),'Subject Kinematics'!E2:E460),"")} -> -393.45531 | E63: {=IF(SUM('Subject Kinematics'!F2:F52)<>0,MMULT(TRANSPOSE('Features (from Gillette)'!$A$3:$O$461),'Subject Kinematics'!F2:F460),"")} -> -428.12733 | F63: {=IF(SUM('Subject Kinematics'!G2:G52)<>0,MMULT(TRANSPOSE('Features (from Gillette)'!$A$3:$O$461),'Subject Kinematics'!G2:G460),"")} -> -462.79936 | G63: {=IF(SUM('Subject Kinematics'!H2:H52)<>0,MMULT(TRANSPOSE('Features (from Gillette)'!$A$3:$O$461),'Subject Kinematics'!H2:H460),"")} -> -336.52759 | H63: {=IF(SUM('Subject Kinematics'!I2:I52)<>0,MMULT(TRANSPOSE('Features (from Gillette)'!$A$3:$O$461),'Subject Kinematics'!I2:I460),"")} -> -338.2716 | I63: {=IF(SUM('Subject Kinematics'!J2:J52)<>0,MMULT(TRANSPOSE('Features (from Gillette)'!$A$3:$O$461),'Subject Kinematics'!J2:J460),"")} -> -337.574 | ... IQ63: {=IF(SUM('Subject Kinematics'!IR2:IR52)<>0,MMULT(TRANSPOSE('Features (from Gillette)'!$A$3:$O$461),'Subject Kinematics'!IR2:IR460),"")} | IR63: =AVERAGE(B63:IQ63) -> -370.17261 | IS63: =STDEV(B63:IQ63) -> 42.903215
A64: c2 | B64: -37.523459 | C64: -109.99989 | D64: -182.47632 | E64: -254.95274 | F64: -327.42917 | G64: -63.477855 | H64: -67.123441 | I64: -65.665207 | J64: -93.371661 | K64: -121.07812 | L64: -148.78457 | IR64: =AVERAGE(B64:IQ64) -> -133.80749 | IS64: =STDEV(B64:IQ64) -> 89.682438
A65: c3 | B65: -18.951667 | C65: -32.868786 | D65: -46.785904 | E65: -60.703023 | F65: -74.620142 | G65: -23.9355 | H65: -24.635535 | I65: -24.355521 | J65: -29.675789 | K65: -34.996057 | L65: -40.316325 | IR65: =AVERAGE(B65:IQ65) -> -37.440386 | IS65: =STDEV(B65:IQ65) -> 17.221063
A66: c4 | B66: -38.13689 | C66: -41.638154 | D66: -45.139418 | E66: -48.640681 | F66: -52.141945 | G66: -39.390721 | H66: -39.566836 | I66: -39.49639 | J66: -40.834861 | K66: -42.173332 | L66: -43.511803 | IR66: =AVERAGE(B66:IQ66) -> -42.788276 | IS66: =STDEV(B66:IQ66) -> 4.3324688
A67: c5 | B67: -22.121013 | C67: -38.193212 | D67: -54.265412 | E67: -70.337612 | F67: -86.409812 | G67: -27.876598 | H67: -28.685034 | I67: -28.36166 | J67: -34.505777 | K67: -40.649894 | L67: -46.794011 | IR67: =AVERAGE(B67:IQ67) -> -43.47273 | IS67: =STDEV(B67:IQ67) -> 19.887763
A68: c6 | B68: 31.595399 | C68: -1.2043257 | D68: -34.004051 | E68: -66.803776 | F68: -99.603501 | G68: 19.849552 | H68: 18.199716 | I68: 18.85965 | J68: 6.3208965 | K68: -6.2178573 | L68: -18.756611 | IR68: =AVERAGE(B68:IQ68) -> -11.978628 | IS68: =STDEV(B68:IQ68) -> 40.586427
A69: c7 | B69: 52.419382 | C69: 46.223725 | D69: 40.028068 | E69: 33.83241 | F69: 27.636753 | G69: 50.200667 | H69: 49.889023 | I69: 50.013681 | J69: 47.645191 | K69: 45.276701 | L69: 42.908211 | IR69: =AVERAGE(B69:IQ69) -> 44.188528 | IS69: =STDEV(B69:IQ69) -> 7.6665152
A70: c8 | B70: 19.651127 | C70: -8.9692744 | D70: -37.589676 | E70: -66.210077 | F70: -94.830478 | G70: 9.401929 | H70: 7.9623142 | I70: 8.5381601 | J70: -2.4029121 | K70: -13.343984 | L70: -24.285057 | IR70: =AVERAGE(B70:IQ70) -> -18.370721 | IS70: =STDEV(B70:IQ70) -> 35.414926
A71: c9 | B71: 2.0769702 | C71: -11.21143 | D71: -24.499831 | E71: -37.788231 | F71: -51.076631 | G71: -2.6817137 | H71: -3.3501243 | I71: -3.08276 | J71: -8.1626801 | K71: -13.2426 | L71: -18.32252 | IR71: =AVERAGE(B71:IQ71) -> -15.576505 | IS71: =STDEV(B71:IQ71) -> 16.443086
A72: c10 | B72: -1.6152054 | C72: -7.9411501 | D72: -14.267095 | E72: -20.59304 | F72: -26.918984 | G72: -3.8805775 | H72: -4.1987744 | I72: -4.0714957 | J72: -6.4897922 | K72: -8.9080888 | L72: -11.326385 | IR72: =AVERAGE(B72:IQ72) -> -10.019144 | IS72: =STDEV(B72:IQ72) -> 7.8277331
A73: c11 | B73: -2.5367834 | C73: -4.6615449 | D73: -6.7863064 | E73: -8.9110679 | F73: -11.035829 | G73: -3.2976778 | H73: -3.4045539 | I73: -3.3618034 | J73: -4.1740621 | K73: -4.9863208 | L73: -5.7985794 | IR73: =AVERAGE(B73:IQ73) -> -5.3595027 | IS73: =STDEV(B73:IQ73) -> 2.6291829
A74: c12 | B74: 18.087278 | C74: 15.829843 | D74: 13.572407 | E74: 11.314971 | F74: 9.0575359 | G74: 17.278872 | H74: 17.165322 | I74: 17.210742 | J74: 16.347765 | K74: 15.484787 | L74: 14.621809 | IR74: =AVERAGE(B74:IQ74) -> 15.088303 | IS74: =STDEV(B74:IQ74) -> 2.793354
A75: c13 | B75: 8.3406312 | C75: 7.429602 | D75: 6.5185729 | E75: 5.6075437 | F75: 4.6965145 | G75: 8.0143843 | H75: 7.9685592 | I75: 7.9868893 | J75: 7.6386189 | K75: 7.2903486 | L75: 6.9420783 | IR75: =AVERAGE(B75:IQ75) -> 7.1303403 | IS75: =STDEV(B75:IQ75) -> 1.1273088
... A77: c15 | B77: -3.2533752 | C77: 2.9162602 | D77: 9.0858955 | E77: 15.255531 | F77: 21.425166 | G77: -1.0439788 | H77: -0.73364425 | I77: -0.85777805 | J77: 1.5007642 | K77: 3.8593065 | L77: 6.2178488 | IR77: =AVERAGE(B77:IQ77) -> 4.9429087 | IS77: =STDEV(B77:IQ77) -> 7.6343158
A79: {=IF(SUM(A63:A77)<>0,LN((SQRT(SUMSQ(A63:A77-'Control Analysis'!$IR$63:$IR$77)))),"")} | B79: {=IF(SUM(B63:B77)<>0,LN((SQRT(SUMSQ(B63:B77-'Control Analysis'!$IR$63:$IR$77)))),"")} -> 4.5658746 | C79: {=IF(SUM(C63:C77)<>0,LN((SQRT(SUMSQ(C63:C77-'Control Analysis'!$IR$63:$IR$77)))),"")} -> 5.2590218 | D79: {=IF(SUM(D63:D77)<>0,LN((SQRT(SUMSQ(D63:D77-'Control Analysis'!$IR$63:$IR$77)))),"")} -> 5.6644869 | E79: {=IF(SUM(E63:E77)<>0,LN((SQRT(SUMSQ(E63:E77-'Control Analysis'!$IR$63:$IR$77)))),"")} -> 5.952169 | F79: {=IF(SUM(F63:F77)<>0,LN((SQRT(SUMSQ(F63:F77-'Control Analysis'!$IR$63:$IR$77)))),"")} -> 6.1753125 | G79: {=IF(SUM(G63:G77)<>0,LN((SQRT(SUMSQ(G63:G77-'Control Analysis'!$IR$63:$IR$77)))),"")} -> 4.8719672 | H79: {=IF(SUM(H63:H77)<>0,LN((SQRT(SUMSQ(H63:H77-'Control Analysis'!$IR$63:$IR$77)))),"")} -> 4.9083349 | ... IQ79: {=IF(SUM(IQ63:IQ77)<>0,LN((SQRT(SUMSQ(IQ63:IQ77-'Control Analysis'!$IR$63:$IR$77)))),"")} | IR79: =AVERAGE(B79:IQ79) -> 5.2960981 | IS79: =STDEV(B79:IQ79) -> 0.49318705
A80: GDI | B80: =IF(SUM(B63:B77)<>0,100-10*(B79-'Control Analysis'!$IR79)/'Control Analysis'!$IS79,"") -> 100.2501 | C80: =IF(SUM(C63:C77)<>0,100-10*(C79-'Control Analysis'!$IR79)/'Control Analysis'!$IS79,"") -> 78.766704 | D80: =IF(SUM(D63:D77)<>0,100-10*(D79-'Control Analysis'!$IR79)/'Control Analysis'!$IS79,"") -> 66.199722 | E80: =IF(SUM(E63:E77)<>0,100-10*(E79-'Control Analysis'!$IR79)/'Control Analysis'!$IS79,"") -> 57.283307 | F80: =IF(SUM(F63:F77)<>0,100-10*(F79-'Control Analysis'!$IR79)/'Control Analysis'!$IS79,"") -> 50.367197 | G80: =IF(SUM(G63:G77)<>0,100-10*(G79-'Control Analysis'!$IR79)/'Control Analysis'!$IS79,"") -> 90.76307 | H80: =IF(SUM(H63:H77)<>0,100-10*(H79-'Control Analysis'!$IR79)/'Control Analysis'!$IS79,"") -> 89.635891 | I80: =IF(SUM(I63:I77)<>0,100-10*(I79-'Control Analysis'!$IR79)/'Control Analysis'!$IS79,"") -> 90.081856 | ... IQ80: =IF(SUM(IQ63:IQ77)<>0,100-10*(IQ79-'Control Analysis'!$IR79)/'Control Analysis'!$IS79,"") | IR80: =AVERAGE(B80:IQ80) -> 77.61756 | IS80: =STDEV(B80:IQ80) -> 15.285835
A82: GDI (Right)
A83: c1 | B83: {=IF(SUM('Subject Kinematics'!C461:C511)<>0,MMULT(TRANSPOSE('Features (from Gillette)'!$A$3:$O$461),'Subject Kinematics'!C461:C919),"")} -> -380.58194 | C83: {=IF(SUM('Subject Kinematics'!D461:D511)<>0,MMULT(TRANSPOSE('Features (from Gillette)'!$A$3:$O$461),'Subject Kinematics'!D461:D919),"")} -> -393.12432 | D83: {=IF(SUM('Subject Kinematics'!E461:E511)<>0,MMULT(TRANSPOSE('Features (from Gillette)'!$A$3:$O$461),'Subject Kinematics'!E461:E919),"")} -> -376.41778 | E83: {=IF(SUM('Subject Kinematics'!F461:F511)<>0,MMULT(TRANSPOSE('Features (from Gillette)'!$A$3:$O$461),'Subject Kinematics'!F461:F919),"")} -> -390.92099 | F83: {=IF(SUM('Subject Kinematics'!G461:G511)<>0,MMULT(TRANSPOSE('Features (from Gillette)'!$A$3:$O$461),'Subject Kinematics'!G461:G919),"")} -> -396.6387 | G83: {=IF(SUM('Subject Kinematics'!H461:H511)<>0,MMULT(TRANSPOSE('Features (from Gillette)'!$A$3:$O$461),'Subject Kinematics'!H461:H919),"")} -> -299.76345 | H83: {=IF(SUM('Subject Kinematics'!I461:I511)<>0,MMULT(TRANSPOSE('Features (from Gillette)'!$A$3:$O$461),'Subject Kinematics'!I461:I919),"")} | I83: {=IF(SUM('Subject Kinematics'!J461:J511)<>0,MMULT(TRANSPOSE('Features (from Gillette)'!$A$3:$O$461),'Subject Kinematics'!J461:J919),"")} | ... IQ83: {=IF(SUM('Subject Kinematics'!IR461:IR511)<>0,MMULT(TRANSPOSE('Features (from Gillette)'!$A$3:$O$461),'Subject Kinematics'!IR461:IR919),"")} | IR83: =AVERAGE(B83:IQ83) -> -372.90786 | IS83: =STDEV(B83:IQ83) -> 36.654185
A84: c2 | B84: 87.631166 | C84: 125.41532 | D84: 111.29924 | E84: 121.25757 | F84: 86.771606 | G84: 28.446452 | IR84: =AVERAGE(B84:IQ84) -> 93.470225 | IS84: =STDEV(B84:IQ84) -> 35.826125
A85: c3 | B85: -30.372729 | C85: -10.068485 | D85: -33.363893 | E85: -10.766499 | F85: -44.605794 | G85: -73.234059 | IR85: =AVERAGE(B85:IQ85) -> -33.735243 | IS85: =STDEV(B85:IQ85) -> 23.568828
A86: c4 | B86: -105.90612 | C86: -112.24391 | D86: -90.208872 | E86: -119.05053 | F86: -94.270791 | G86: 178.00574 | IR86: =AVERAGE(B86:IQ86) -> -57.27908 | IS86: =STDEV(B86:IQ86) -> 115.76972
A87: c5 | B87: -55.936046 | C87: -46.401741 | D87: -64.923212 | E87: -48.868899 | F87: -63.14502 | G87: -119.03869 | IR87: =AVERAGE(B87:IQ87) -> -66.385601 | IS87: =STDEV(B87:IQ87) -> 26.834195
A88: c6 | B88: -13.272409 | C88: -25.903903 | D88: -11.002365 | E88: -20.004693 | F88: -8.5741325 | G88: -91.949855 | IR88: =AVERAGE(B88:IQ88) -> -28.451226 | IS88: =STDEV(B88:IQ88) -> 31.748596
A89: c7 | B89: 45.629857 | C89: 51.4547 | D89: 19.736273 | E89: 62.352096 | F89: 36.298482 | G89: -9.6744037 | IR89: =AVERAGE(B89:IQ89) -> 34.299501 | IS89: =STDEV(B89:IQ89) -> 25.920701
A90: c8 | B90: 17.192966 | C90: -23.632463 | D90: -10.667563 | E90: -1.0254899 | F90: -13.870195 | G90: 23.322881 | IR90: =AVERAGE(B90:IQ90) -> -1.4466441 | IS90: =STDEV(B90:IQ90) -> 18.399578
A91: c9 | B91: 28.283788 | C91: 17.327073 | D91: 28.06704 | E91: 41.832116 | F91: 36.65273 | G91: -56.809949 | IR91: =AVERAGE(B91:IQ91) -> 15.892133 | IS91: =STDEV(B91:IQ91) -> 36.587753
A92: c10 | B92: 28.821909 | C92: 34.89172 | D92: 10.201997 | E92: 30.652089 | F92: 23.08642 | G92: 75.035302 | IR92: =AVERAGE(B92:IQ92) -> 33.781573 | IS92: =STDEV(B92:IQ92) -> 21.944827
A93: c11 | B93: -14.736554 | C93: -14.134237 | D93: -15.568579 | E93: -14.06423 | F93: 9.9375516 | G93: -80.322937 | IR93: =AVERAGE(B93:IQ93) -> -21.481498 | IS93: =STDEV(B93:IQ93) -> 30.459569
A94: c12 | B94: 2.3081804 | C94: 12.380742 | D94: 3.8480736 | E94: 5.1509107 | F94: 6.4778988 | G94: 113.47181 | IR94: =AVERAGE(B94:IQ94) -> 23.939603 | IS94: =STDEV(B94:IQ94) -> 43.99804
A95: c13 | B95: -10.860344 | C95: -5.8325384 | D95: 10.568787 | E95: -6.4347611 | F95: 3.6454892 | G95: -11.102818 | IR95: =AVERAGE(B95:IQ95) -> -3.3360309 | IS95: =STDEV(B95:IQ95) -> 8.6586203
... A97: c15 | B97: -9.9500557 | C97: -8.7332009 | D97: -28.143857 | E97: -11.832373 | F97: -8.1304189 | G97: 55.158216 | IR97: =AVERAGE(B97:IQ97) -> -1.9386149 | IS97: =STDEV(B97:IQ97) -> 28.959756
A99: ln(d) | B99: {=IF(SUM(B83:B97)<>0,LN((SQRT(SUMSQ(B83:B97-'Control Analysis'!$IR63:$IR77)))),"")} -> 5.1246452 | C99: {=IF(SUM(C83:C97)<>0,LN((SQRT(SUMSQ(C83:C97-'Control Analysis'!$IR63:$IR77)))),"")} -> 5.3217117 | D99: {=IF(SUM(D83:D97)<>0,LN((SQRT(SUMSQ(D83:D97-'Control Analysis'!$IR63:$IR77)))),"")} -> 5.2031381 | E99: {=IF(SUM(E83:E97)<>0,LN((SQRT(SUMSQ(E83:E97-'Control Analysis'!$IR63:$IR77)))),"")} -> 5.2821195 | F99: {=IF(SUM(F83:F97)<>0,LN((SQRT(SUMSQ(F83:F97-'Control Analysis'!$IR63:$IR77)))),"")} -> 5.2084771 | G99: {=IF(SUM(G83:G97)<>0,LN((SQRT(SUMSQ(G83:G97-'Control Analysis'!$IR63:$IR77)))),"")} -> 5.8809696 | H99: {=IF(SUM(H83:H97)<>0,LN((SQRT(SUMSQ(H83:H97-'Control Analysis'!$IR63:$IR77)))),"")} | I99: {=IF(SUM(I83:I97)<>0,LN((SQRT(SUMSQ(I83:I97-'Control Analysis'!$IR63:$IR77)))),"")} | ... IQ99: {=IF(SUM(IQ83:IQ97)<>0,LN((SQRT(SUMSQ(IQ83:IQ97-'Control Analysis'!$IR63:$IR77)))),"")} | IR99: =AVERAGE(B99:IQ99) -> 5.3368435 | IS99: =STDEV(B99:IQ99) -> 0.27520176
A100: GDI | B100: =IF(SUM(B83:B97)<>0,100-10*(B99-'Control Analysis'!$IR79)/'Control Analysis'!$IS79,"") -> 82.93157 | C100: =IF(SUM(C83:C97)<>0,100-10*(C99-'Control Analysis'!$IR79)/'Control Analysis'!$IS79,"") -> 76.823694 | D100: =IF(SUM(D83:D97)<>0,100-10*(D99-'Control Analysis'!$IR79)/'Control Analysis'!$IS79,"") -> 80.498763 | E100: =IF(SUM(E83:E97)<>0,100-10*(E99-'Control Analysis'!$IR79)/'Control Analysis'!$IS79,"") -> 78.050815 | F100: =IF(SUM(F83:F97)<>0,100-10*(F99-'Control Analysis'!$IR79)/'Control Analysis'!$IS79,"") -> 80.333286 | G100: =IF(SUM(G83:G97)<>0,100-10*(G99-'Control Analysis'!$IR79)/'Control Analysis'!$IS79,"") -> 59.49006 | H100: =IF(SUM(H83:H97)<>0,100-10*(H99-'Control Analysis'!$IR79)/'Control Analysis'!$IS79,"") | I100: =IF(SUM(I83:I97)<>0,100-10*(I99-'Control Analysis'!$IR79)/'Control Analysis'!$IS79,"") | ... IQ100: =IF(SUM(IQ83:IQ97)<>0,100-10*(IQ99-'Control Analysis'!$IR79)/'Control Analysis'!$IS79,"") | IR100: =AVERAGE(B100:IQ100) -> 76.354698 | IS100: =STDEV(B100:IQ100) -> 8.529601

Sheet Control Kinematics
A1: Seg/Jnt Rotation | B1: % Gait Cycle | C1: Subject 1 | D1: Subject 2 | E1: Subject 3 | F1: Subject 4 | G1: Subject 5 | H1: Subject 6 | I1: Subject 7 | J1: Subject 8 | K1: Subject 9 | L1: Subject 10 | M1: Subject 11 | N1: Subject 12 | O1: Subject 13 | P1: Subject 14 | Q1: Subject 15 | R1: Subject 16 | S1: Subject 17 | T1: Subject 18 | U1: Subject 19 | V1: Subject 20 | W1: Subject 21 | X1: Subject 22 | Y1: Subject 23 | Z1: Subject 24 | AA1: Subject 25 | AB1: Subject 26 | AC1: Subject 27 | AD1: Subject 28 | AE1: Subject 29 | AF1: Subject 30 | AG1: Subject 31 | AH1: Subject 32 | AI1: Subject 33 | AJ1: Subject 34 | AK1: Subject 35 | AL1: Subject 36 | AM1: Subject 37 | AN1: Subject 38 | AO1: Subject 39 | AP1: Subject 40 | AQ1: Subject 41 | AR1: Subject 42 | AS1: Subject 43 | AT1: Subject 44 | AU1: Subject 45 | AV1: Subject 46 | AW1: Subject 47 | AX1: Subject 48 | AY1: Subject 49 | AZ1: Subject 50 | BA1: Subject 51 | BB1: Subject 52 | BC1: Subject 53 | BD1: Subject 54 | BE1: Subject 55 | BF1: Subject 56 | BG1: Subject 57 | BH1: Subject 58 | BI1: Subject 59 | BJ1: Subject 60 | BK1: Subject 61 | BL1: Subject 62 | BM1: Subject 63 | BN1: Subject 64 | BO1: Subject 65 | BP1: Subject 66 | BQ1: Subject 67 | BR1: Subject 68 | BS1: Subject 69 | BT1: Subject 70 | BU1: Subject 71 | BV1: Subject 72 | BW1: Subject 73 | BX1: Subject 74 | BY1: Subject 75 | BZ1: Subject 76 | CA1: Subject 77 | CB1: Subject 78 | CC1: Subject 79 | CD1: Subject 80 | CE1: Subject 81 | CF1: Subject 82 | CG1: Subject 83 | CH1: Subject 84 | CI1: Subject 85 | CJ1: Subject 86 | CK1: Subject 87 | CL1: Subject 88 | CM1: Subject 89 | CN1: Subject 90 | CO1: Subject 91 | CP1: Subject 92 | CQ1: Subject 93 | CR1: Subject 94 | CS1: Subject 95 | CT1: Subject 96 | CU1: Subject 97 | CV1: Subject 98 | CW1: Subject 99 | CX1: Subject 100 | CY1: Subject 101 | CZ1: Subject 102 | DA1: Subject 103 | DB1: Subject 104 | DC1: Subject 105 | DD1: Subject 106 | DE1: Subject 107 | DF1: Subject 108 | DG1: Subject 109 | DH1: Subject 110 | DI1: Subject 111 | DJ1: Subject 112 | DK1: Subject 113 | DL1: Subject 114 | DM1: Subject 115 | DN1: Subject 116 | DO1: Subject 117 | DP1: Subject 118 | DQ1: Subject 119 | DR1: Subject 120 | DS1: Subject 121 | DT1: Subject 122 | DU1: Subject 123 | DV1: Subject 124 | DW1: Subject 125 | DX1: Subject 126 | DY1: Subject 127 | DZ1: Subject 128 | EA1: Subject 129 | EB1: Subject 130 | EC1: Subject 131 | ED1: Subject 132 | EE1: Subject 133 | EF1: Subject 134 | EG1: Subject 135 | EH1: Subject 136 | EI1: Subject 137 | EJ1: Subject 138 | EK1: Subject 139 | EL1: Subject 140 | EM1: Subject 141 | EN1: Subject 142 | EO1: Subject 143 | EP1: Subject 144 | EQ1: Subject 145 | ER1: Subject 146 | ES1: Subject 147 | ET1: Subject 148 | EU1: Subject 149 | EV1: Subject 150 | EW1: Subject 151 | EX1: Subject 152 | EY1: Subject 153 | EZ1: Subject 154 | FA1: Subject 155 | FB1: Subject 156 | FC1: Subject 157 | FD1: Subject 158 | FE1: Subject 159 | FF1: Subject 160 | FG1: Subject 161 | FH1: Subject 162 | FI1: Subject 163 | FJ1: Subject 164 | FK1: Subject 165 | FL1: Subject 166 | FM1: Subject 167 | FN1: Subject 168 | FO1: Subject 169 | FP1: Subject 170 | FQ1: Subject 171 | FR1: Subject 172 | FS1: Subject 173 | FT1: Subject 174 | FU1: Subject 175 | FV1: Subject 176 | FW1: Subject 177 | FX1: Subject 178 | FY1: Subject 179 | FZ1: Subject 180 | GA1: Subject 181 | GB1: Subject 182 | GC1: Subject 183 | GD1: Subject 184 | GE1: Subject 185 | GF1: Subject 186 | GG1: Subject 187 | GH1: Subject 188 | GI1: Subject 189 | GJ1: Subject 190 | GK1: Subject 191 | GL1: Subject 192 | GM1: Subject 193 | GN1: Subject 194 | GO1: Subject 195 | GP1: Subject 196 | GQ1: Subject 197 | GR1: Subject 198 | GS1: Subject 199 | GT1: Subject 200 | GU1: Subject 201 | GV1: Subject 202 | GW1: Subject 203 | GX1: Subject 204 | GY1: Subject 205 | GZ1: Subject 206 | HA1: Subject 207 | HB1: Subject 208 | HC1: Subject 209 | HD1: Subject 210 | HE1: Subject 211 | HF1: Subject 212 | HG1: Subject 213 | HH1: Subject 214 | HI1: Subject 215 | HJ1: Subject 216 | HK1: Subject 217 | HL1: Subject 218 | HM1: Subject 219 | HN1: Subject 220 | HO1: Subject 221 | HP1: Subject 222 | HQ1: Subject 223 | HR1: Subject 224 | HS1: Subject 225 | HT1: Subject 226 | HU1: Subject 227 | HV1: Subject 228 | HW1: Subject 229 | HX1: Subject 230 | HY1: Subject 231 | HZ1: Subject 232 | IA1: Subject 233 | IB1: Subject 234 | IC1: Subject 235 | ID1: Subject 236 | IE1: Subject 237 | IF1: Subject 238 | IG1: Subject 239 | IH1: Subject 240 | II1: Subject 241 | IJ1: Subject 242 | IK1: Subject 243 | IL1: Subject 244 | IM1: Subject 245 | IN1: Subject 246 | IO1: Subject 247 | IP1: Subject 248 | IQ1: Subject 249 | IR1: Subject 250 | IS1: Average | IT1: SD
A2: Pelvis Ant/Pst | B2: 0 | C2: 7.39 | D2: 6.2 | E2: 9.47 | F2: 11.3 | G2: 3.03 | H2: 10.1 | I2: -1.96 | J2: 8.12 | K2: 9.43 | L2: 8.16 | M2: 14.9 | N2: 14.8 | O2: 12.8 | P2: 8.82 | Q2: 20.3 | R2: 15.3 | S2: 20.3 | T2: 24.4 | U2: 16.5 | V2: 10.5 | W2: 17 | X2: 15 | Y2: 11.7 | Z2: 8.88 | AA2: 12.1 | AB2: 16.1 | AC2: 9.58 | AD2: 11 | AE2: 16.6 | AF2: 12.9 | AG2: 16.6 | AH2: 10.4 | AI2: 17.2 | AJ2: 15.6 | AK2: 22.2 | AL2: 12.1 | AM2: 16.6 | AN2: 11.6 | IS2: =AVERAGE(C2:IR2) -> 12.711053 | IT2: =STDEV(C2:IR2) -> 5.1685665
A3: Pelvis Ant/Pst | B3: 0.02 | C3: 7.2 | D3: 6.17 | E3: 9.35 | F3: 11 | G3: 2.67 | H3: 10.1 | I3: -2.07 | J3: 8.04 | K3: 9.36 | L3: 7.7 | M3: 14.1 | N3: 14.4 | O3: 12.4 | P3: 7.96 | Q3: 20.1 | R3: 15.2 | S3: 20.1 | T3: 24.2 | U3: 16.1 | V3: 10.2 | W3: 16.6 | X3: 14.4 | Y3: 11.3 | Z3: 8.67 | AA3: 11.9 | AB3: 15.8 | AC3: 9.74 | AD3: 10.7 | AE3: 16.7 | AF3: 12.5 | AG3: 16.6 | AH3: 10.4 | AI3: 17.1 | AJ3: 15.5 | AK3: 22 | AL3: 12 | AM3: 16.4 | AN3: 11.8 | IS3: =AVERAGE(C3:IR3) -> 12.483947 | IT3: =STDEV(C3:IR3) -> 5.1632399
A4: Pelvis Ant/Pst | B4: 0.04 | C4: 7.15 | D4: 6.07 | E4: 9.23 | F4: 10.7 | G4: 2.36 | H4: 10.1 | I4: -2.34 | J4: 7.96 | K4: 9.23 | L4: 7.39 | M4: 13.3 | N4: 14.1 | O4: 12.3 | P4: 7.3 | Q4: 19.6 | R4: 15.1 | S4: 19.9 | T4: 24 | U4: 15.7 | V4: 9.94 | W4: 16.1 | X4: 13.7 | Y4: 10.7 | Z4: 8.49 | AA4: 11.6 | AB4: 15.5 | AC4: 9.76 | AD4: 10.5 | AE4: 16.7 | AF4: 12.2 | AG4: 16.4 | AH4: 10.5 | AI4: 16.9 | AJ4: 15.3 | AK4: 21.7 | AL4: 12 | AM4: 16.2 | AN4: 11.2 | IS4: =AVERAGE(C4:IR4) -> 12.224737 | IT4: =STDEV(C4:IR4) -> 5.1411013
A5: Pelvis Ant/Pst | B5: 0.06 | C5: 7.2 | D5: 5.9 | E5: 9.12 | F5: 10.5 | G5: 2.11 | H5: 9.95 | I5: -2.71 | J5: 7.89 | K5: 9.08 | L5: 7.23 | M5: 12.5 | N5: 13.7 | O5: 12.2 | P5: 6.86 | Q5: 19.1 | R5: 14.9 | S5: 19.8 | T5: 23.8 | U5: 15.2 | V5: 9.58 | W5: 15.5 | X5: 13.1 | Y5: 9.93 | Z5: 8.38 | AA5: 11 | AB5: 15.3 | AC5: 9.64 | AD5: 10.2 | AE5: 16.8 | AF5: 11.8 | AG5: 16.2 | AH5: 10.5 | AI5: 16.8 | AJ5: 15.1 | AK5: 21.5 | AL5: 11.9 | AM5: 16 | AN5: 9.86 | IS5: =AVERAGE(C5:IR5) -> 11.932105 | IT5: =STDEV(C5:IR5) -> 5.145961
A6: Pelvis Ant/Pst | B6: 0.08 | C6: 7.25 | D6: 5.7 | E6: 9.01 | F6: 10.2 | G6: 1.9 | H6: 9.81 | I6: -3.09 | J6: 7.84 | K6: 8.95 | L6: 7.21 | M6: 11.7 | N6: 13.3 | O6: 12.2 | P6: 6.66 | Q6: 18.5 | R6: 14.7 | S6: 19.7 | T6: 23.6 | U6: 14.8 | V6: 9.26 | W6: 14.9 | X6: 12.7 | Y6: 9.41 | Z6: 8.33 | AA6: 10.4 | AB6: 15.1 | AC6: 9.45 | AD6: 10.1 | AE6: 16.8 | AF6: 11.6 | AG6: 16.1 | AH6: 10.6 | AI6: 16.7 | AJ6: 15 | AK6: 21.3 | AL6: 11.9 | AM6: 16.1 | AN6: 9.27 | IS6: =AVERAGE(C6:IR6) -> 11.709474 | IT6: =STDEV(C6:IR6) -> 5.1453132
A7: Pelvis Ant/Pst | B7: 0.1 | C7: 7.25 | D7: 5.49 | E7: 8.92 | F7: 10.1 | G7: 1.72 | H7: 9.69 | I7: -3.41 | J7: 7.82 | K7: 8.88 | L7: 7.33 | M7: 11.1 | N7: 13.1 | O7: 12.4 | P7: 6.68 | Q7: 17.9 | R7: 14.5 | S7: 19.7 | T7: 23.5 | U7: 14.5 | V7: 8.96 | W7: 14.4 | X7: 12.4 | Y7: 9.1 | Z7: 8.32 | AA7: 9.88 | AB7: 15.1 | AC7: 9.28 | AD7: 9.94 | AE7: 16.9 | AF7: 11.5 | AG7: 15.9 | AH7: 10.7 | AI7: 16.7 | AJ7: 14.8 | AK7: 21.3 | AL7: 12 | AM7: 16.2 | AN7: 9.1 | IS7: =AVERAGE(C7:IR7) -> 11.569737 | IT7: =STDEV(C7:IR7) -> 5.1578471
A8: Pelvis Ant/Pst | B8: 0.12 | C8: 7.18 | D8: 5.3 | E8: 8.83 | F8: 10 | G8: 1.55 | H8: 9.65 | I8: -3.62 | J8: 7.84 | K8: 8.87 | L8: 7.55 | M8: 10.7 | N8: 12.9 | O8: 12.5 | P8: 6.93 | Q8: 17.3 | R8: 14.3 | S8: 19.7 | T8: 23.6 | U8: 14.2 | V8: 8.76 | W8: 14.1 | X8: 12.4 | Y8: 8.85 | Z8: 8.33 | AA8: 9.5 | AB8: 15.1 | AC8: 9.2 | AD8: 9.92 | AE8: 16.9 | AF8: 11.5 | AG8: 15.9 | AH8: 10.8 | AI8: 16.7 | AJ8: 14.7 | AK8: 21.3 | AL8: 12.2 | AM8: 16.6 | AN8: 8.85 | IS8: =AVERAGE(C8:IR8) -> 11.497105 | IT8: =STDEV(C8:IR8) -> 5.1807549
A9: Pelvis Ant/Pst | B9: 0.14 | C9: 7.13 | D9: 5.14 | E9: 8.76 | F9: 9.99 | G9: 1.38 | H9: 9.72 | I9: -3.7 | J9: 7.9 | K9: 8.94 | L9: 7.84 | M9: 10.6 | N9: 12.9 | O9: 12.6 | P9: 7.36 | Q9: 16.8 | R9: 14.1 | S9: 19.8 | T9: 23.7 | U9: 14 | V9: 8.65 | W9: 13.9 | X9: 12.6 | Y9: 8.61 | Z9: 8.33 | AA9: 9.38 | AB9: 15.3 | AC9: 9.31 | AD9: 10 | AE9: 16.9 | AF9: 11.6 | AG9: 15.9 | AH9: 11 | AI9: 16.8 | AJ9: 14.6 | AK9: 21.3 | AL9: 12.4 | AM9: 17 | AN9: 8.63 | IS9: =AVERAGE(C9:IR9) -> 11.504474 | IT9: =STDEV(C9:IR9) -> 5.1990278
A10: Pelvis Ant/Pst | B10: 0.16 | C10: 7.16 | D10: 5 | E10: 8.69 | F10: 10.1 | G10: 1.24 | H10: 9.89 | I10: -3.65 | J10: 8.01 | K10: 9.08 | L10: 8.18 | M10: 10.8 | N10: 13 | O10: 12.7 | P10: 7.86 | Q10: 16.3 | R10: 14 | S10: 20 | T10: 23.8 | U10: 13.9 | V10: 8.64 | W10: 13.8 | X10: 12.9 | Y10: 8.39 | Z10: 8.29 | AA10: 9.48 | AB10: 15.5 | AC10: 9.61 | AD10: 10.2 | AE10: 16.9 | AF10: 11.8 | AG10: 16.1 | AH10: 11.2 | AI10: 16.9 | AJ10: 14.6 | AK10: 21.4 | AL10: 12.7 | AM10: 17.5 | AN10: 8.58 | IS10: =AVERAGE(C10:IR10) -> 11.593421 | IT10: =STDEV(C10:IR10) -> 5.2170859
A11: Pelvis Ant/Pst | B11: 0.18 | C11: 7.3 | D11: 4.89 | E11: 8.61 | F11: 10.2 | G11: 1.2 | H11: 10.1 | I11: -3.46 | J11: 8.16 | K11: 9.27 | L11: 8.56 | M11: 11.2 | N11: 13.2 | O11: 12.9 | P11: 8.38 | Q11: 15.9 | R11: 14 | S11: 20.2 | T11: 23.8 | U11: 13.8 | V11: 8.7 | W11: 13.8 | X11: 13.4 | Y11: 8.09 | Z11: 8.23 | AA11: 9.71 | AB11: 15.7 | AC11: 10.1 | AD11: 10.5 | AE11: 16.9 | AF11: 12.1 | AG11: 16.3 | AH11: 11.3 | AI11: 17.1 | AJ11: 14.5 | AK11: 21.5 | AL11: 13 | AM11: 18 | AN11: 8.62 | IS11: =AVERAGE(C11:IR11) -> 11.730526 | IT11: =STDEV(C11:IR11) -> 5.2173111
A12: Pelvis Ant/Pst | B12: 0.2 | C12: 7.5 | D12: 4.79 | E12: 8.52 | F12: 10.5 | G12: 1.33 | H12: 10.3 | I12: -3.13 | J12: 8.34 | K12: 9.47 | L12: 8.98 | M12: 11.7 | N12: 13.5 | O12: 13.1 | P12: 8.89 | Q12: 15.6 | R12: 14 | S12: 20.3 | T12: 23.9 | U12: 13.9 | V12: 8.75 | W12: 13.8 | X12: 13.9 | Y12: 7.75 | Z12: 8.16 | AA12: 9.97 | AB12: 16 | AC12: 10.7 | AD12: 10.9 | AE12: 16.8 | AF12: 12.5 | AG12: 16.5 | AH12: 11.5 | AI12: 17.2 | AJ12: 14.5 | AK12: 21.5 | AL12: 13.3 | AM12: 18.4 | AN12: 8.92 | IS12: =AVERAGE(C12:IR12) -> 11.908947 | IT12: =STDEV(C12:IR12) -> 5.1931664
A13: Pelvis Ant/Pst | B13: 0.22 | C13: 7.68 | D13: 4.69 | E13: 8.41 | F13: 10.8 | G13: 1.67 | H13: 10.3 | I13: -2.69 | J13: 8.54 | K13: 9.68 | L13: 9.4 | M13: 12.2 | N13: 13.9 | O13: 13.3 | P13: 9.27 | Q13: 15.4 | R13: 14.1 | S13: 20.6 | T13: 23.8 | U13: 13.9 | V13: 8.83 | W13: 13.7 | X13: 14.3 | Y13: 7.64 | Z13: 8.12 | AA13: 10.2 | AB13: 16.2 | AC13: 11.3 | AD13: 11.4 | AE13: 16.8 | AF13: 12.9 | AG13: 16.7 | AH13: 11.7 | AI13: 17.4 | AJ13: 14.5 | AK13: 21.4 | AL13: 13.5 | AM13: 18.7 | AN13: 9.08 | IS13: =AVERAGE(C13:IR13) -> 12.087368 | IT13: =STDEV(C13:IR13) -> 5.1483604
... A919: Foot Int/Ext | B919: 1 | C919: -3.68 | D919: -12.2 | E919: 0.8 | F919: 1.39 | G919: -12 | H919: -10.6 | I919: -19.5 | J919: -9.1 | K919: -3.58 | L919: -11.5 | M919: -20.3 | N919: -18 | O919: -16.9 | P919: -13 | Q919: -18.4 | R919: 2.46 | S919: -15.6 | T919: -21.6 | U919: -7.7 | V919: -8.98 | W919: -1.44 | X919: -1.49 | Y919: -6.56 | Z919: 0 | AA919: 4.31 | AB919: -4.87 | AC919: -5.19 | AD919: -14.5 | AE919: -16.2 | AF919: -8.97 | AG919: -15.4 | AH919: -15.2 | AI919: -9.44 | AJ919: -7.74 | AK919: -11.5 | AL919: -26.4 | AM919: -8.31 | AN919: -27.3 | IS919: =AVERAGE(C919:IR919) -> -10.373421 | IT919: =STDEV(C919:IR919) -> 7.8084996

Sheet Control Analysis
B1: subject 1 | C1: subject 2 | D1: subject 3 | E1: subject 4 | F1: subject 5 | G1: subject 6 | H1: subject 7 | I1: subject 8 | J1: subject 9 | K1: subject 10 | L1: subject 11 | M1: subject 12 | N1: subject 13 | O1: subject 14 | P1: subject 15 | Q1: subject 16 | R1: subject 17 | S1: subject 18 | T1: subject 19 | U1: subject 20 | V1: subject 21 | W1: subject 22 | X1: subject 23 | Y1: subject 24 | Z1: subject 25 | AA1: subject 26 | AB1: subject 27 | AC1: subject 28 | AD1: subject 29 | AE1: subject 30 | AF1: subject 31 | AG1: subject 32 | AH1: subject 33 | AI1: subject 34 | AJ1: subject 35 | AK1: subject 36 | AL1: subject 37 | AM1: subject 38 | AN1: subject 39 | AO1: subject 40 | AP1: subject 41 | AQ1: subject 42 | AR1: subject 43 | AS1: subject 44 | AT1: subject 45 | AU1: subject 46 | AV1: subject 47 | AW1: subject 48 | AX1: subject 49 | AY1: subject 50 | AZ1: subject 51 | BA1: subject 52 | BB1: subject 53 | BC1: subject 54 | BD1: subject 55 | BE1: subject 56 | BF1: subject 57 | BG1: subject 58 | BH1: subject 59 | BI1: subject 60 | BJ1: subject 61 | BK1: subject 62 | BL1: subject 63 | BM1: subject 64 | BN1: subject 65 | BO1: subject 66 | BP1: subject 67 | BQ1: subject 68 | BR1: subject 69 | BS1: subject 70 | BT1: subject 71 | BU1: subject 72 | BV1: subject 73 | BW1: subject 74 | BX1: subject 75 | BY1: subject 76 | BZ1: subject 77 | CA1: subject 78 | CB1: subject 79 | CC1: subject 80 | CD1: subject 81 | CE1: subject 82 | CF1: subject 83 | CG1: subject 84 | CH1: subject 85 | CI1: subject 86 | CJ1: subject 87 | CK1: subject 88 | CL1: subject 89 | CM1: subject 90 | CN1: subject 91 | CO1: subject 92 | CP1: subject 93 | CQ1: subject 94 | CR1: subject 95 | CS1: subject 96 | CT1: subject 97 | CU1: subject 98 | CV1: subject 99 | CW1: subject 100 | CX1: subject 101 | CY1: subject 102 | CZ1: subject 103 | DA1: subject 104 | DB1: subject 105 | DC1: subject 106 | DD1: subject 107 | DE1: subject 108 | DF1: subject 109 | DG1: subject 110 | DH1: subject 111 | DI1: subject 112 | DJ1: subject 113 | DK1: subject 114 | DL1: subject 115 | DM1: subject 116 | DN1: subject 117 | DO1: subject 118 | DP1: subject 119 | DQ1: subject 120 | DR1: subject 121 | DS1: subject 122 | DT1: subject 123 | DU1: subject 124 | DV1: subject 125 | DW1: subject 126 | DX1: subject 127 | DY1: subject 128 | DZ1: subject 129 | EA1: subject 130 | EB1: subject 131 | EC1: subject 132 | ED1: subject 133 | EE1: subject 134 | EF1: subject 135 | EG1: subject 136 | EH1: subject 137 | EI1: subject 138 | EJ1: subject 139 | EK1: subject 140 | EL1: subject 141 | EM1: subject 142 | EN1: subject 143 | EO1: subject 144 | EP1: subject 145 | EQ1: subject 146 | ER1: subject 147 | ES1: subject 148 | ET1: subject 149 | EU1: subject 150 | EV1: subject 151 | EW1: subject 152 | EX1: subject 153 | EY1: subject 154 | EZ1: subject 155 | FA1: subject 156 | FB1: subject 157 | FC1: subject 158 | FD1: subject 159 | FE1: subject 160 | FF1: subject 161 | FG1: subject 162 | FH1: subject 163 | FI1: subject 164 | FJ1: subject 165 | FK1: subject 166 | FL1: subject 167 | FM1: subject 168 | FN1: subject 169 | FO1: subject 170 | FP1: subject 171 | FQ1: subject 172 | FR1: subject 173 | FS1: subject 174 | FT1: subject 175 | FU1: subject 176 | FV1: subject 177 | FW1: subject 178 | FX1: subject 179 | FY1: subject 180 | FZ1: subject 181 | GA1: subject 182 | GB1: subject 183 | GC1: subject 184 | GD1: subject 185 | GE1: subject 186 | GF1: subject 187 | GG1: subject 188 | GH1: subject 189 | GI1: subject 190 | GJ1: subject 191 | GK1: subject 192 | GL1: subject 193 | GM1: subject 194 | GN1: subject 195 | GO1: subject 196 | GP1: subject 197 | GQ1: subject 198 | GR1: subject 199 | GS1: subject 200 | GT1: subject 201 | GU1: subject 202 | GV1: subject 203 | GW1: subject 204 | GX1: subject 205 | GY1: subject 206 | GZ1: subject 207 | HA1: subject 208 | HB1: subject 209 | HC1: subject 210 | HD1: subject 211 | HE1: subject 212 | HF1: subject 213 | HG1: subject 214 | HH1: subject 215 | HI1: subject 216 | HJ1: subject 217 | HK1: subject 218 | HL1: subject 219 | HM1: subject 220 | HN1: subject 221 | HO1: subject 222 | HP1: subject 223 | HQ1: subject 224 | HR1: subject 225 | HS1: subject 226 | HT1: subject 227 | HU1: subject 228 | HV1: subject 229 | HW1: subject 230 | HX1: subject 231 | HY1: subject 232 | HZ1: subject 233 | IA1: subject 234 | IB1: subject 235 | IC1: subject 236 | ID1: subject 237 | IE1: subject 238 | IF1: subject 239 | IG1: subject 240 | IH1: subject 241 | II1: subject 242 | IJ1: subject 243 | IK1: subject 244 | IL1: subject 245 | IM1: subject 246 | IN1: subject 247 | IO1: subject 248 | IP1: subject 249 | IQ1: subject 250 | IR1: Average | IS1: Stdev | IT1: Median | IU1: Average | IV1: Stdev | IW1: Median
A2: GDI (Left) | B2: =B80 -> 87.495433 | C2: =C80 -> 105.01657 | D2: =D80 -> 99.001911 | E2: =E80 -> 100.63914 | F2: =F80 -> 91.374704 | G2: =G80 -> 101.04234 | H2: =H80 -> 79.182309 | I2: =I80 -> 102.41265 | ... IQ2: =IQ80 | IR2: =AVERAGE(B2:IQ2) -> 100 | IS2: =STDEV(B2:IQ2) -> 10
A3: GDI (Right) | B3: =B100 -> 87.495433 | C3: =C100 -> 105.01657 | D3: =D100 -> 99.001911 | E3: =E100 -> 100.63914 | F3: =F100 -> 91.374704 | G3: =G100 -> 101.04234 | H3: =H100 -> 79.182309 | I3: =I100 -> 102.41265 | ... IQ3: =IQ100 | IR3: =AVERAGE(B3:IQ3) -> 100 | IS3: =STDEV(B3:IQ3) -> 10
A4: GPS (Left) | B4: =IF(SUM(B8:B18)<>0,SQRT(SUMSQ(B8:B18)/9),"") -> 7.494663 | C4: =IF(SUM(C8:C18)<>0,SQRT(SUMSQ(C8:C18)/9),"") -> 4.1782152 | D4: =IF(SUM(D8:D18)<>0,SQRT(SUMSQ(D8:D18)/9),"") -> 4.9603719 | E4: =IF(SUM(E8:E18)<>0,SQRT(SUMSQ(E8:E18)/9),"") -> 4.9100891 | F4: =IF(SUM(F8:F18)<>0,SQRT(SUMSQ(F8:F18)/9),"") -> 6.5476934 | G4: =IF(SUM(G8:G18)<>0,SQRT(SUMSQ(G8:G18)/9),"") -> 4.6726531 | H4: =IF(SUM(H8:H18)<>0,SQRT(SUMSQ(H8:H18)/9),"") -> 9.0759509 | I4: =IF(SUM(I8:I18)<>0,SQRT(SUMSQ(I8:I18)/9),"") -> 4.6098131 | ... IQ4: =IF(SUM(IQ8:IQ18)<>0,SQRT(SUMSQ(IQ8:IQ18)/9),"") | IR4: =AVERAGE(B4:IQ4) -> 5.266153 | IS4: =STDEV(B4:IQ4) -> 1.355834 | IT4: =EXP(IR34) -> 5.0949048
A5: GPS (Right) | B5: =IF(SUM(B20:B30)<>0,SQRT(SUMSQ(B20:B30)/9),"") -> 7.494663 | C5: =IF(SUM(C20:C30)<>0,SQRT(SUMSQ(C20:C30)/9),"") -> 4.1782152 | D5: =IF(SUM(D20:D30)<>0,SQRT(SUMSQ(D20:D30)/9),"") -> 4.9603719 | E5: =IF(SUM(E20:E30)<>0,SQRT(SUMSQ(E20:E30)/9),"") -> 4.9100891 | F5: =IF(SUM(F20:F30)<>0,SQRT(SUMSQ(F20:F30)/9),"") -> 6.5476934 | G5: =IF(SUM(G20:G30)<>0,SQRT(SUMSQ(G20:G30)/9),"") -> 4.6726531 | H5: =IF(SUM(H20:H30)<>0,SQRT(SUMSQ(H20:H30)/9),"") -> 9.0759509 | I5: =IF(SUM(I20:I30)<>0,SQRT(SUMSQ(I20:I30)/9),"") -> 4.6098131 | ... IQ5: =IF(SUM(IQ20:IQ30)<>0,SQRT(SUMSQ(IQ20:IQ30)/9),"") | IR5: =AVERAGE(B5:IQ5) -> 5.266153 | IS5: =STDEV(B5:IQ5) -> 1.355834 | IT5: =EXP(IR35) -> 5.0949048
A6: GPS (Overall) | B6: =IF(SUM(B8:B11,B13:B14,B16:B18,B21:B23,B26,B29:B30)<>0,SQRT(SUMSQ(B8:B11,B13:B14,B16:B18,B21:B23,B26,B29:B30)/15),"") -> 8.0687466 | C6: =IF(SUM(C8:C11,C13:C14,C16:C18,C21:C23,C26,C29:C30)<>0,SQRT(SUMSQ(C8:C11,C13:C14,C16:C18,C21:C23,C26,C29:C30)/15),"") -> 4.0920083 | D6: =IF(SUM(D8:D11,D13:D14,D16:D18,D21:D23,D26,D29:D30)<>0,SQRT(SUMSQ(D8:D11,D13:D14,D16:D18,D21:D23,D26,D29:D30)/15),"") -> 5.2755375 | E6: =IF(SUM(E8:E11,E13:E14,E16:E18,E21:E23,E26,E29:E30)<>0,SQRT(SUMSQ(E8:E11,E13:E14,E16:E18,E21:E23,E26,E29:E30)/15),"") -> 5.3206682 | F6: =IF(SUM(F8:F11,F13:F14,F16:F18,F21:F23,F26,F29:F30)<>0,SQRT(SUMSQ(F8:F11,F13:F14,F16:F18,F21:F23,F26,F29:F30)/15),"") -> 6.6540691 | G6: =IF(SUM(G8:G11,G13:G14,G16:G18,G21:G23,G26,G29:G30)<>0,SQRT(SUMSQ(G8:G11,G13:G14,G16:G18,G21:G23,G26,G29:G30)/15),"") -> 4.8941481 | H6: =IF(SUM(H8:H11,H13:H14,H16:H18,H21:H23,H26,H29:H30)<>0,SQRT(SUMSQ(H8:H11,H13:H14,H16:H18,H21:H23,H26,H29:H30)/15),"") -> 9.2090466 | I6: =IF(SUM(I8:I11,I13:I14,I16:I18,I21:I23,I26,I29:I30)<>0,SQRT(SUMSQ(I8:I11,I13:I14,I16:I18,I21:I23,I26,I29:I30)/15),"") -> 4.737386 | ... IQ6: =IF(SUM(IQ8:IQ11,IQ13:IQ14,IQ16:IQ18,IQ21:IQ23,IQ26,IQ29:IQ30)<>0,SQRT(SUMSQ(IQ8:IQ11,IQ13:IQ14,IQ16:IQ18,IQ21:IQ23,IQ26,IQ29:IQ30)/15),"") | IR6: =AVERAGE(B6:IQ6) -> 5.5053837 | IS6: =STDEV(B6:IQ6) -> 1.4410436 | IT6: =EXP(IR36) -> 5.3179764
A8: Pelvis Ant/Pst | B8: {=IF(SUM('Control Kinematics'!C2:C52)<>0,SQRT(SUMSQ('Control Kinematics'!C2:C52-'Control Kinematics'!$IS$2:$IS$52)/51),"")} -> 5.3820349 | C8: {=IF(SUM('Control Kinematics'!D2:D52)<>0,SQRT(SUMSQ('Control Kinematics'!D2:D52-'Control Kinematics'!$IS$2:$IS$52)/51),"")} -> 7.5377072 | D8: {=IF(SUM('Control Kinematics'!E2:E52)<>0,SQRT(SUMSQ('Control Kinematics'!E2:E52-'Control Kinematics'!$IS$2:$IS$52)/51),"")} -> 4.1557773 | E8: {=IF(SUM('Control Kinematics'!F2:F52)<>0,SQRT(SUMSQ('Control Kinematics'!F2:F52-'Control Kinematics'!$IS$2:$IS$52)/51),"")} -> 0.91605535 | F8: {=IF(SUM('Control Kinematics'!G2:G52)<>0,SQRT(SUMSQ('Control Kinematics'!G2:G52-'Control Kinematics'!$IS$2:$IS$52)/51),"")} -> 9.2720534 | G8: {=IF(SUM('Control Kinematics'!H2:H52)<>0,SQRT(SUMSQ('Control Kinematics'!H2:H52-'Control Kinematics'!$IS$2:$IS$52)/51),"")} -> 4.3983277 | H8: {=IF(SUM('Control Kinematics'!I2:I52)<>0,SQRT(SUMSQ('Control Kinematics'!I2:I52-'Control Kinematics'!$IS$2:$IS$52)/51),"")} -> 14.129808 | I8: {=IF(SUM('Control Kinematics'!J2:J52)<>0,SQRT(SUMSQ('Control Kinematics'!J2:J52-'Control Kinematics'!$IS$2:$IS$52)/51),"")} -> 4.2281187 | ... IQ8: {=IF(SUM('Control Kinematics'!IR2:IR52)<>0,SQRT(SUMSQ('Control Kinematics'!IR2:IR52-'Control Kinematics'!$IS$2:$IS$52)/51),"")} | IR8: =AVERAGE(B8:IQ8) -> 4.2281654 | IS8: =STDEV(B8:IQ8) -> 2.8393387 | IT8: =EXP(IR38) -> 3.48777
A9: Hip Flx/Ext | B9: {=IF(SUM('Control Kinematics'!C2:C52)<>0,SQRT(SUMSQ('Control Kinematics'!C155:C205-'Control Kinematics'!$IS$155:$IS$205)/51),"")} -> 9.3908013 | C9: {=IF(SUM('Control Kinematics'!D2:D52)<>0,SQRT(SUMSQ('Control Kinematics'!D155:D205-'Control Kinematics'!$IS$155:$IS$205)/51),"")} -> 5.5722774 | D9: {=IF(SUM('Control Kinematics'!E2:E52)<>0,SQRT(SUMSQ('Control Kinematics'!E155:E205-'Control Kinematics'!$IS$155:$IS$205)/51),"")} -> 4.4111676 | E9: {=IF(SUM('Control Kinematics'!F2:F52)<>0,SQRT(SUMSQ('Control Kinematics'!F155:F205-'Control Kinematics'!$IS$155:$IS$205)/51),"")} -> 3.4968917 | F9: {=IF(SUM('Control Kinematics'!G2:G52)<>0,SQRT(SUMSQ('Control Kinematics'!G155:G205-'Control Kinematics'!$IS$155:$IS$205)/51),"")} -> 8.5062034 | G9: {=IF(SUM('Control Kinematics'!H2:H52)<>0,SQRT(SUMSQ('Control Kinematics'!H155:H205-'Control Kinematics'!$IS$155:$IS$205)/51),"")} -> 7.8573309 | H9: {=IF(SUM('Control Kinematics'!I2:I52)<>0,SQRT(SUMSQ('Control Kinematics'!I155:I205-'Control Kinematics'!$IS$155:$IS$205)/51),"")} -> 17.841489 | I9: {=IF(SUM('Control Kinematics'!J2:J52)<>0,SQRT(SUMSQ('Control Kinematics'!J155:J205-'Control Kinematics'!$IS$155:$IS$205)/51),"")} -> 3.6749001 | ... IQ9: {=IF(SUM('Control Kinematics'!IR2:IR52)<>0,SQRT(SUMSQ('Control Kinematics'!IR155:IR205-'Control Kinematics'!$IS$155:$IS$205)/51),"")} | IR9: =AVERAGE(B9:IQ9) -> 6.0244241 | IS9: =STDEV(B9:IQ9) -> 3.1934456 | IT9: =EXP(IR39) -> 5.3524563
A10: Knee Flx/Ext | B10: {=IF(SUM('Control Kinematics'!C2:C52)<>0,SQRT(SUMSQ('Control Kinematics'!C308:C358-'Control Kinematics'!$IS$308:$IS$358)/51),"")} -> 13.151639 | C10: {=IF(SUM('Control Kinematics'!D2:D52)<>0,SQRT(SUMSQ('Control Kinematics'!D308:D358-'Control Kinematics'!$IS$308:$IS$358)/51),"")} -> 3.1471937 | D10: {=IF(SUM('Control Kinematics'!E2:E52)<>0,SQRT(SUMSQ('Control Kinematics'!E308:E358-'Control Kinematics'!$IS$308:$IS$358)/51),"")} -> 4.1054317 | E10: {=IF(SUM('Control Kinematics'!F2:F52)<>0,SQRT(SUMSQ('Control Kinematics'!F308:F358-'Control Kinematics'!$IS$308:$IS$358)/51),"")} -> 4.1560311 | F10: {=IF(SUM('Control Kinematics'!G2:G52)<>0,SQRT(SUMSQ('Control Kinematics'!G308:G358-'Control Kinematics'!$IS$308:$IS$358)/51),"")} -> 4.9384299 | G10: {=IF(SUM('Control Kinematics'!H2:H52)<>0,SQRT(SUMSQ('Control Kinematics'!H308:H358-'Control Kinematics'!$IS$308:$IS$358)/51),"")} -> 5.9397154 | H10: {=IF(SUM('Control Kinematics'!I2:I52)<>0,SQRT(SUMSQ('Control Kinematics'!I308:I358-'Control Kinematics'!$IS$308:$IS$358)/51),"")} -> 9.6924596 | I10: {=IF(SUM('Control Kinematics'!J2:J52)<>0,SQRT(SUMSQ('Control Kinematics'!J308:J358-'Control Kinematics'!$IS$308:$IS$358)/51),"")} -> 3.7979369 | ... IQ10: {=IF(SUM('Control Kinematics'!IR2:IR52)<>0,SQRT(SUMSQ('Control Kinematics'!IR308:IR358-'Control Kinematics'!$IS$308:$IS$358)/51),"")} | IR10: =AVERAGE(B10:IQ10) -> 5.8354514 | IS10: =STDEV(B10:IQ10) -> 2.8123508 | IT10: =EXP(IR40) -> 5.2082655
A11: Ankle Dor/Pla | B11: {=IF(SUM('Control Kinematics'!C2:C52)<>0,SQRT(SUMSQ('Control Kinematics'!C359:C409-'Control Kinematics'!$IS$359:$IS$409)/51),"")} -> 7.7244754 | C11: {=IF(SUM('Control Kinematics'!D2:D52)<>0,SQRT(SUMSQ('Control Kinematics'!D359:D409-'Control Kinematics'!$IS$359:$IS$409)/51),"")} -> 3.2143967 | D11: {=IF(SUM('Control Kinematics'!E2:E52)<>0,SQRT(SUMSQ('Control Kinematics'!E359:E409-'Control Kinematics'!$IS$359:$IS$409)/51),"")} -> 3.7208932 | E11: {=IF(SUM('Control Kinematics'!F2:F52)<>0,SQRT(SUMSQ('Control Kinematics'!F359:F409-'Control Kinematics'!$IS$359:$IS$409)/51),"")} -> 3.1739044 | F11: {=IF(SUM('Control Kinematics'!G2:G52)<>0,SQRT(SUMSQ('Control Kinematics'!G359:G409-'Control Kinematics'!$IS$359:$IS$409)/51),"")} -> 8.2985823 | G11: {=IF(SUM('Control Kinematics'!H2:H52)<>0,SQRT(SUMSQ('Control Kinematics'!H359:H409-'Control Kinematics'!$IS$359:$IS$409)/51),"")} -> 4.2003567 | H11: {=IF(SUM('Control Kinematics'!I2:I52)<>0,SQRT(SUMSQ('Control Kinematics'!I359:I409-'Control Kinematics'!$IS$359:$IS$409)/51),"")} -> 6.9379201 | I11: {=IF(SUM('Control Kinematics'!J2:J52)<>0,SQRT(SUMSQ('Control Kinematics'!J359:J409-'Control Kinematics'!$IS$359:$IS$409)/51),"")} -> 2.8017508 | ... IQ11: {=IF(SUM('Control Kinematics'!IR2:IR52)<>0,SQRT(SUMSQ('Control Kinematics'!IR359:IR409-'Control Kinematics'!$IS$359:$IS$409)/51),"")} | IR11: =AVERAGE(B11:IQ11) -> 4.3308404 | IS11: =STDEV(B11:IQ11) -> 1.816683 | IT11: =EXP(IR41) -> 3.9851796
A13: Pelvic Up/Dn | B13: {=IF(SUM('Control Kinematics'!C2:C52)<>0,SQRT(SUMSQ('Control Kinematics'!C53:C103-'Control Kinematics'!$IS$53:$IS$103)/51),"")} -> 1.3955593 | C13: {=IF(SUM('Control Kinematics'!D2:D52)<>0,SQRT(SUMSQ('Control Kinematics'!D53:D103-'Control Kinematics'!$IS$53:$IS$103)/51),"")} -> 1.0809515 | D13: {=IF(SUM('Control Kinematics'!E2:E52)<>0,SQRT(SUMSQ('Control Kinematics'!E53:E103-'Control Kinematics'!$IS$53:$IS$103)/51),"")} -> 1.4723593 | E13: {=IF(SUM('Control Kinematics'!F2:F52)<>0,SQRT(SUMSQ('Control Kinematics'!F53:F103-'Control Kinematics'!$IS$53:$IS$103)/51),"")} -> 0.9519596 | F13: {=IF(SUM('Control Kinematics'!G2:G52)<>0,SQRT(SUMSQ('Control Kinematics'!G53:G103-'Control Kinematics'!$IS$53:$IS$103)/51),"")} -> 2.0887314 | G13: {=IF(SUM('Control Kinematics'!H2:H52)<>0,SQRT(SUMSQ('Control Kinematics'!H53:H103-'Control Kinematics'!$IS$53:$IS$103)/51),"")} -> 3.2236233 | H13: {=IF(SUM('Control Kinematics'!I2:I52)<>0,SQRT(SUMSQ('Control Kinematics'!I53:I103-'Control Kinematics'!$IS$53:$IS$103)/51),"")} -> 1.3918953 | I13: {=IF(SUM('Control Kinematics'!J2:J52)<>0,SQRT(SUMSQ('Control Kinematics'!J53:J103-'Control Kinematics'!$IS$53:$IS$103)/51),"")} -> 2.538294 | ... IQ13: {=IF(SUM('Control Kinematics'!IR2:IR52)<>0,SQRT(SUMSQ('Control Kinematics'!IR53:IR103-'Control Kinematics'!$IS$53:$IS$103)/51),"")} | IR13: =AVERAGE(B13:IQ13) -> 1.9973973 | IS13: =STDEV(B13:IQ13) -> 1.0245625 | IT13: =EXP(IR43) -> 1.7625136
A14: Hip Add/Abd | B14: {=IF(SUM('Control Kinematics'!C2:C52)<>0,SQRT(SUMSQ('Control Kinematics'!C206:C256-'Control Kinematics'!$IS$206:$IS$256)/51),"")} -> 2.8924401 | C14: {=IF(SUM('Control Kinematics'!D2:D52)<>0,SQRT(SUMSQ('Control Kinematics'!D206:D256-'Control Kinematics'!$IS$206:$IS$256)/51),"")} -> 1.672877 | D14: {=IF(SUM('Control Kinematics'!E2:E52)<>0,SQRT(SUMSQ('Control Kinematics'!E206:E256-'Control Kinematics'!$IS$206:$IS$256)/51),"")} -> 2.0970739 | E14: {=IF(SUM('Control Kinematics'!F2:F52)<>0,SQRT(SUMSQ('Control Kinematics'!F206:F256-'Control Kinematics'!$IS$206:$IS$256)/51),"")} -> 1.4909148 | F14: {=IF(SUM('Control Kinematics'!G2:G52)<>0,SQRT(SUMSQ('Control Kinematics'!G206:G256-'Control Kinematics'!$IS$206:$IS$256)/51),"")} -> 6.4709564 | G14: {=IF(SUM('Control Kinematics'!H2:H52)<>0,SQRT(SUMSQ('Control Kinematics'!H206:H256-'Control Kinematics'!$IS$206:$IS$256)/51),"")} -> 5.1793907 | H14: {=IF(SUM('Control Kinematics'!I2:I52)<>0,SQRT(SUMSQ('Control Kinematics'!I206:I256-'Control Kinematics'!$IS$206:$IS$256)/51),"")} -> 2.0613758 | I14: {=IF(SUM('Control Kinematics'!J2:J52)<>0,SQRT(SUMSQ('Control Kinematics'!J206:J256-'Control Kinematics'!$IS$206:$IS$256)/51),"")} -> 3.3998827 | ... IQ14: {=IF(SUM('Control Kinematics'!IR2:IR52)<>0,SQRT(SUMSQ('Control Kinematics'!IR206:IR256-'Control Kinematics'!$IS$206:$IS$256)/51),"")} | IR14: =AVERAGE(B14:IQ14) -> 3.0866001 | IS14: =STDEV(B14:IQ14) -> 1.285235 | IT14: =EXP(IR44) -> 2.8454527
A16: Pelvic Int/Ext | B16: {=IF(SUM('Control Kinematics'!C1:C51)<>0,SQRT(SUMSQ('Control Kinematics'!C104:C154-'Control Kinematics'!$IS$104:$IS$154)/51),"")} -> 1.8909196 | C16: {=IF(SUM('Control Kinematics'!D1:D51)<>0,SQRT(SUMSQ('Control Kinematics'!D104:D154-'Control Kinematics'!$IS$104:$IS$154)/51),"")} -> 2.2541561 | D16: {=IF(SUM('Control Kinematics'!E1:E51)<>0,SQRT(SUMSQ('Control Kinematics'!E104:E154-'Control Kinematics'!$IS$104:$IS$154)/51),"")} -> 2.4469274 | E16: {=IF(SUM('Control Kinematics'!F1:F51)<>0,SQRT(SUMSQ('Control Kinematics'!F104:F154-'Control Kinematics'!$IS$104:$IS$154)/51),"")} -> 2.7520008 | F16: {=IF(SUM('Control Kinematics'!G1:G51)<>0,SQRT(SUMSQ('Control Kinematics'!G104:G154-'Control Kinematics'!$IS$104:$IS$154)/51),"")} -> 4.1494446 | G16: {=IF(SUM('Control Kinematics'!H1:H51)<>0,SQRT(SUMSQ('Control Kinematics'!H104:H154-'Control Kinematics'!$IS$104:$IS$154)/51),"")} -> 1.9947555 | H16: {=IF(SUM('Control Kinematics'!I1:I51)<>0,SQRT(SUMSQ('Control Kinematics'!I104:I154-'Control Kinematics'!$IS$104:$IS$154)/51),"")} -> 3.0041618 | I16: {=IF(SUM('Control Kinematics'!J1:J51)<>0,SQRT(SUMSQ('Control Kinematics'!J104:J154-'Control Kinematics'!$IS$104:$IS$154)/51),"")} -> 4.6416025 | ... IQ16: {=IF(SUM('Control Kinematics'!IR1:IR51)<>0,SQRT(SUMSQ('Control Kinematics'!IR104:IR154-'Control Kinematics'!$IS$104:$IS$154)/51),"")} | IR16: =AVERAGE(B16:IQ16) -> 3.7060786 | IS16: =STDEV(B16:IQ16) -> 1.4184615 | IT16: =EXP(IR46) -> 3.4317083
A17: Hip Int/Ext | B17: {=IF(SUM('Control Kinematics'!C2:C52)<>0,SQRT(SUMSQ('Control Kinematics'!C257:C307-'Control Kinematics'!$IS$257:$IS$307)/51),"")} -> 9.0128233 | C17: {=IF(SUM('Control Kinematics'!D2:D52)<>0,SQRT(SUMSQ('Control Kinematics'!D257:D307-'Control Kinematics'!$IS$257:$IS$307)/51),"")} -> 5.6241973 | D17: {=IF(SUM('Control Kinematics'!E2:E52)<>0,SQRT(SUMSQ('Control Kinematics'!E257:E307-'Control Kinematics'!$IS$257:$IS$307)/51),"")} -> 8.5871952 | E17: {=IF(SUM('Control Kinematics'!F2:F52)<>0,SQRT(SUMSQ('Control Kinematics'!F257:F307-'Control Kinematics'!$IS$257:$IS$307)/51),"")} -> 3.9853111 | F17: {=IF(SUM('Control Kinematics'!G2:G52)<>0,SQRT(SUMSQ('Control Kinematics'!G257:G307-'Control Kinematics'!$IS$257:$IS$307)/51),"")} -> 6.7621977 | G17: {=IF(SUM('Control Kinematics'!H2:H52)<>0,SQRT(SUMSQ('Control Kinematics'!H257:H307-'Control Kinematics'!$IS$257:$IS$307)/51),"")} -> 3.7427223 | H17: {=IF(SUM('Control Kinematics'!I2:I52)<>0,SQRT(SUMSQ('Control Kinematics'!I257:I307-'Control Kinematics'!$IS$257:$IS$307)/51),"")} -> 5.0833159 | I17: {=IF(SUM('Control Kinematics'!J2:J52)<>0,SQRT(SUMSQ('Control Kinematics'!J257:J307-'Control Kinematics'!$IS$257:$IS$307)/51),"")} -> 6.1931376 | ... IQ17: {=IF(SUM('Control Kinematics'!IR2:IR52)<>0,SQRT(SUMSQ('Control Kinematics'!IR257:IR307-'Control Kinematics'!$IS$257:$IS$307)/51),"")} | IR17: =AVERAGE(B17:IQ17) -> 6.2547902 | IS17: =STDEV(B17:IQ17) -> 3.2228997 | IT17: =EXP(IR47) -> 5.6349789
A18: Foot Int/Ext | B18: {=IF(SUM('Control Kinematics'!C2:C52)<>0,SQRT(SUMSQ('Control Kinematics'!C410:C460-'Control Kinematics'!$IS$410:$IS$460)/51),"")} -> 7.7860659 | C18: {=IF(SUM('Control Kinematics'!D2:D52)<>0,SQRT(SUMSQ('Control Kinematics'!D410:D460-'Control Kinematics'!$IS$410:$IS$460)/51),"")} -> 2.8867067 | D18: {=IF(SUM('Control Kinematics'!E2:E52)<>0,SQRT(SUMSQ('Control Kinematics'!E410:E460-'Control Kinematics'!$IS$410:$IS$460)/51),"")} -> 8.2295913 | E18: {=IF(SUM('Control Kinematics'!F2:F52)<>0,SQRT(SUMSQ('Control Kinematics'!F410:F460-'Control Kinematics'!$IS$410:$IS$460)/51),"")} -> 12.246707 | F18: {=IF(SUM('Control Kinematics'!G2:G52)<>0,SQRT(SUMSQ('Control Kinematics'!G410:G460-'Control Kinematics'!$IS$410:$IS$460)/51),"")} -> 5.0088213 | G18: {=IF(SUM('Control Kinematics'!H2:H52)<>0,SQRT(SUMSQ('Control Kinematics'!H410:H460-'Control Kinematics'!$IS$410:$IS$460)/51),"")} -> 2.7004038 | H18: {=IF(SUM('Control Kinematics'!I2:I52)<>0,SQRT(SUMSQ('Control Kinematics'!I410:I460-'Control Kinematics'!$IS$410:$IS$460)/51),"")} -> 6.3447247 | I18: {=IF(SUM('Control Kinematics'!J2:J52)<>0,SQRT(SUMSQ('Control Kinematics'!J410:J460-'Control Kinematics'!$IS$410:$IS$460)/51),"")} -> 7.7263068 | ... IQ18: {=IF(SUM('Control Kinematics'!IR2:IR52)<>0,SQRT(SUMSQ('Control Kinematics'!IR410:IR460-'Control Kinematics'!$IS$410:$IS$460)/51),"")} | IR18: =AVERAGE(B18:IQ18) -> 6.2944486 | IS18: =STDEV(B18:IQ18) -> 3.0953736 | IT18: =EXP(IR48) -> 5.5807959
A20: Pelvis Ant/Pst | B20: {=IF(SUM('Control Kinematics'!C461:C511)<>0,SQRT(SUMSQ('Control Kinematics'!C461:C511-'Control Kinematics'!$IS$2:$IS$52)/51),"")} -> 5.3820349 | C20: {=IF(SUM('Control Kinematics'!D461:D511)<>0,SQRT(SUMSQ('Control Kinematics'!D461:D511-'Control Kinematics'!$IS$2:$IS$52)/51),"")} -> 7.5377072 | D20: {=IF(SUM('Control Kinematics'!E461:E511)<>0,SQRT(SUMSQ('Control Kinematics'!E461:E511-'Control Kinematics'!$IS$2:$IS$52)/51),"")} -> 4.1557773 | E20: {=IF(SUM('Control Kinematics'!F461:F511)<>0,SQRT(SUMSQ('Control Kinematics'!F461:F511-'Control Kinematics'!$IS$2:$IS$52)/51),"")} -> 0.91605535 | F20: {=IF(SUM('Control Kinematics'!G461:G511)<>0,SQRT(SUMSQ('Control Kinematics'!G461:G511-'Control Kinematics'!$IS$2:$IS$52)/51),"")} -> 9.2720534 | G20: {=IF(SUM('Control Kinematics'!H461:H511)<>0,SQRT(SUMSQ('Control Kinematics'!H461:H511-'Control Kinematics'!$IS$2:$IS$52)/51),"")} -> 4.3983277 | H20: {=IF(SUM('Control Kinematics'!I461:I511)<>0,SQRT(SUMSQ('Control Kinematics'!I461:I511-'Control Kinematics'!$IS$2:$IS$52)/51),"")} -> 14.129808 | I20: {=IF(SUM('Control Kinematics'!J461:J511)<>0,SQRT(SUMSQ('Control Kinematics'!J461:J511-'Control Kinematics'!$IS$2:$IS$52)/51),"")} -> 4.2281187 | ... IQ20: {=IF(SUM('Control Kinematics'!IR461:IR511)<>0,SQRT(SUMSQ('Control Kinematics'!IR461:IR511-'Control Kinematics'!$IS$2:$IS$52)/51),"")} | IR20: =AVERAGE(B20:IQ20) -> 4.2281654 | IS20: =STDEV(B20:IQ20) -> 2.8393387 | IT20: =EXP(IR50) -> 3.48777
A21: Hip Flx/Ext | B21: {=IF(SUM('Control Kinematics'!C461:C511)<>0,SQRT(SUMSQ('Control Kinematics'!C614:C664-'Control Kinematics'!$IS$155:$IS$205)/51),"")} -> 9.3908013 | C21: {=IF(SUM('Control Kinematics'!D461:D511)<>0,SQRT(SUMSQ('Control Kinematics'!D614:D664-'Control Kinematics'!$IS$155:$IS$205)/51),"")} -> 5.5722774 | D21: {=IF(SUM('Control Kinematics'!E461:E511)<>0,SQRT(SUMSQ('Control Kinematics'!E614:E664-'Control Kinematics'!$IS$155:$IS$205)/51),"")} -> 4.4111676 | E21: {=IF(SUM('Control Kinematics'!F461:F511)<>0,SQRT(SUMSQ('Control Kinematics'!F614:F664-'Control Kinematics'!$IS$155:$IS$205)/51),"")} -> 3.4968917 | F21: {=IF(SUM('Control Kinematics'!G461:G511)<>0,SQRT(SUMSQ('Control Kinematics'!G614:G664-'Control Kinematics'!$IS$155:$IS$205)/51),"")} -> 8.5062034 | G21: {=IF(SUM('Control Kinematics'!H461:H511)<>0,SQRT(SUMSQ('Control Kinematics'!H614:H664-'Control Kinematics'!$IS$155:$IS$205)/51),"")} -> 7.8573309 | H21: {=IF(SUM('Control Kinematics'!I461:I511)<>0,SQRT(SUMSQ('Control Kinematics'!I614:I664-'Control Kinematics'!$IS$155:$IS$205)/51),"")} -> 17.841489 | I21: {=IF(SUM('Control Kinematics'!J461:J511)<>0,SQRT(SUMSQ('Control Kinematics'!J614:J664-'Control Kinematics'!$IS$155:$IS$205)/51),"")} -> 3.6749001 | ... IQ21: {=IF(SUM('Control Kinematics'!IR461:IR511)<>0,SQRT(SUMSQ('Control Kinematics'!IR614:IR664-'Control Kinematics'!$IS$155:$IS$205)/51),"")} | IR21: =AVERAGE(B21:IQ21) -> 6.0244241 | IS21: =STDEV(B21:IQ21) -> 3.1934456 | IT21: =EXP(IR51) -> 5.3524563
A22: Knee Flx/Ext | B22: {=IF(SUM('Control Kinematics'!C461:C511)<>0,SQRT(SUMSQ('Control Kinematics'!C767:C817-'Control Kinematics'!$IS$308:$IS$358)/51),"")} -> 13.151639 | C22: {=IF(SUM('Control Kinematics'!D461:D511)<>0,SQRT(SUMSQ('Control Kinematics'!D767:D817-'Control Kinematics'!$IS$308:$IS$358)/51),"")} -> 3.1471937 | D22: {=IF(SUM('Control Kinematics'!E461:E511)<>0,SQRT(SUMSQ('Control Kinematics'!E767:E817-'Control Kinematics'!$IS$308:$IS$358)/51),"")} -> 4.1054317 | E22: {=IF(SUM('Control Kinematics'!F461:F511)<>0,SQRT(SUMSQ('Control Kinematics'!F767:F817-'Control Kinematics'!$IS$308:$IS$358)/51),"")} -> 4.1560311 | F22: {=IF(SUM('Control Kinematics'!G461:G511)<>0,SQRT(SUMSQ('Control Kinematics'!G767:G817-'Control Kinematics'!$IS$308:$IS$358)/51),"")} -> 4.9384299 | G22: {=IF(SUM('Control Kinematics'!H461:H511)<>0,SQRT(SUMSQ('Control Kinematics'!H767:H817-'Control Kinematics'!$IS$308:$IS$358)/51),"")} -> 5.9397154 | H22: {=IF(SUM('Control Kinematics'!I461:I511)<>0,SQRT(SUMSQ('Control Kinematics'!I767:I817-'Control Kinematics'!$IS$308:$IS$358)/51),"")} -> 9.6924596 | I22: {=IF(SUM('Control Kinematics'!J461:J511)<>0,SQRT(SUMSQ('Control Kinematics'!J767:J817-'Control Kinematics'!$IS$308:$IS$358)/51),"")} -> 3.7979369 | ... IQ22: {=IF(SUM('Control Kinematics'!IR461:IR511)<>0,SQRT(SUMSQ('Control Kinematics'!IR767:IR817-'Control Kinematics'!$IS$308:$IS$358)/51),"")} | IR22: =AVERAGE(B22:IQ22) -> 5.8354514 | IS22: =STDEV(B22:IQ22) -> 2.8123508 | IT22: =EXP(IR52) -> 5.2082655
A23: Ankle Dor/Pla | B23: {=IF(SUM('Control Kinematics'!C461:C511)<>0,SQRT(SUMSQ('Control Kinematics'!C818:C868-'Control Kinematics'!$IS$359:$IS$409)/51),"")} -> 7.7244754 | C23: {=IF(SUM('Control Kinematics'!D461:D511)<>0,SQRT(SUMSQ('Control Kinematics'!D818:D868-'Control Kinematics'!$IS$359:$IS$409)/51),"")} -> 3.2143967 | D23: {=IF(SUM('Control Kinematics'!E461:E511)<>0,SQRT(SUMSQ('Control Kinematics'!E818:E868-'Control Kinematics'!$IS$359:$IS$409)/51),"")} -> 3.7208932 | E23: {=IF(SUM('Control Kinematics'!F461:F511)<>0,SQRT(SUMSQ('Control Kinematics'!F818:F868-'Control Kinematics'!$IS$359:$IS$409)/51),"")} -> 3.1739044 | F23: {=IF(SUM('Control Kinematics'!G461:G511)<>0,SQRT(SUMSQ('Control Kinematics'!G818:G868-'Control Kinematics'!$IS$359:$IS$409)/51),"")} -> 8.2985823 | G23: {=IF(SUM('Control Kinematics'!H461:H511)<>0,SQRT(SUMSQ('Control Kinematics'!H818:H868-'Control Kinematics'!$IS$359:$IS$409)/51),"")} -> 4.2003567 | H23: {=IF(SUM('Control Kinematics'!I461:I511)<>0,SQRT(SUMSQ('Control Kinematics'!I818:I868-'Control Kinematics'!$IS$359:$IS$409)/51),"")} -> 6.9379201 | I23: {=IF(SUM('Control Kinematics'!J461:J511)<>0,SQRT(SUMSQ('Control Kinematics'!J818:J868-'Control Kinematics'!$IS$359:$IS$409)/51),"")} -> 2.8017508 | ... IQ23: {=IF(SUM('Control Kinematics'!IR461:IR511)<>0,SQRT(SUMSQ('Control Kinematics'!IR818:IR868-'Control Kinematics'!$IS$359:$IS$409)/51),"")} | IR23: =AVERAGE(B23:IQ23) -> 4.3308404 | IS23: =STDEV(B23:IQ23) -> 1.816683 | IT23: =EXP(IR53) -> 3.9851796
A25: Pelvic Up/Dn | B25: {=IF(SUM('Control Kinematics'!C461:C511)<>0,SQRT(SUMSQ('Control Kinematics'!C512:C562-'Control Kinematics'!$IS$53:$IS$103)/51),"")} -> 1.3955593 | C25: {=IF(SUM('Control Kinematics'!D461:D511)<>0,SQRT(SUMSQ('Control Kinematics'!D512:D562-'Control Kinematics'!$IS$53:$IS$103)/51),"")} -> 1.0809515 | D25: {=IF(SUM('Control Kinematics'!E461:E511)<>0,SQRT(SUMSQ('Control Kinematics'!E512:E562-'Control Kinematics'!$IS$53:$IS$103)/51),"")} -> 1.4723593 | E25: {=IF(SUM('Control Kinematics'!F461:F511)<>0,SQRT(SUMSQ('Control Kinematics'!F512:F562-'Control Kinematics'!$IS$53:$IS$103)/51),"")} -> 0.9519596 | F25: {=IF(SUM('Control Kinematics'!G461:G511)<>0,SQRT(SUMSQ('Control Kinematics'!G512:G562-'Control Kinematics'!$IS$53:$IS$103)/51),"")} -> 2.0887314 | G25: {=IF(SUM('Control Kinematics'!H461:H511)<>0,SQRT(SUMSQ('Control Kinematics'!H512:H562-'Control Kinematics'!$IS$53:$IS$103)/51),"")} -> 3.2236233 | H25: {=IF(SUM('Control Kinematics'!I461:I511)<>0,SQRT(SUMSQ('Control Kinematics'!I512:I562-'Control Kinematics'!$IS$53:$IS$103)/51),"")} -> 1.3918953 | I25: {=IF(SUM('Control Kinematics'!J461:J511)<>0,SQRT(SUMSQ('Control Kinematics'!J512:J562-'Control Kinematics'!$IS$53:$IS$103)/51),"")} -> 2.538294 | ... IQ25: {=IF(SUM('Control Kinematics'!IR461:IR511)<>0,SQRT(SUMSQ('Control Kinematics'!IR512:IR562-'Control Kinematics'!$IS$53:$IS$103)/51),"")} | IR25: =AVERAGE(B25:IQ25) -> 1.9973973 | IS25: =STDEV(B25:IQ25) -> 1.0245625 | IT25: =EXP(IR55) -> 1.7625136
A26: Hip Add/Abd | B26: {=IF(SUM('Control Kinematics'!C461:C511)<>0,SQRT(SUMSQ('Control Kinematics'!C665:C715-'Control Kinematics'!$IS$206:$IS$256)/51),"")} -> 2.8924401 | C26: {=IF(SUM('Control Kinematics'!D461:D511)<>0,SQRT(SUMSQ('Control Kinematics'!D665:D715-'Control Kinematics'!$IS$206:$IS$256)/51),"")} -> 1.672877 | D26: {=IF(SUM('Control Kinematics'!E461:E511)<>0,SQRT(SUMSQ('Control Kinematics'!E665:E715-'Control Kinematics'!$IS$206:$IS$256)/51),"")} -> 2.0970739 | E26: {=IF(SUM('Control Kinematics'!F461:F511)<>0,SQRT(SUMSQ('Control Kinematics'!F665:F715-'Control Kinematics'!$IS$206:$IS$256)/51),"")} -> 1.4909148 | F26: {=IF(SUM('Control Kinematics'!G461:G511)<>0,SQRT(SUMSQ('Control Kinematics'!G665:G715-'Control Kinematics'!$IS$206:$IS$256)/51),"")} -> 6.4709564 | G26: {=IF(SUM('Control Kinematics'!H461:H511)<>0,SQRT(SUMSQ('Control Kinematics'!H665:H715-'Control Kinematics'!$IS$206:$IS$256)/51),"")} -> 5.1793907 | H26: {=IF(SUM('Control Kinematics'!I461:I511)<>0,SQRT(SUMSQ('Control Kinematics'!I665:I715-'Control Kinematics'!$IS$206:$IS$256)/51),"")} -> 2.0613758 | I26: {=IF(SUM('Control Kinematics'!J461:J511)<>0,SQRT(SUMSQ('Control Kinematics'!J665:J715-'Control Kinematics'!$IS$206:$IS$256)/51),"")} -> 3.3998827 | ... IQ26: {=IF(SUM('Control Kinematics'!IR461:IR511)<>0,SQRT(SUMSQ('Control Kinematics'!IR665:IR715-'Control Kinematics'!$IS$206:$IS$256)/51),"")} | IR26: =AVERAGE(B26:IQ26) -> 3.0866001 | IS26: =STDEV(B26:IQ26) -> 1.285235 | IT26: =EXP(IR56) -> 2.8454527
A28: Pelvic Int/Ext | B28: {=IF(SUM('Control Kinematics'!C461:C511)<>0,SQRT(SUMSQ('Control Kinematics'!C563:C613-'Control Kinematics'!$IS$104:$IS$154)/51),"")} -> 1.8909196 | C28: {=IF(SUM('Control Kinematics'!D461:D511)<>0,SQRT(SUMSQ('Control Kinematics'!D563:D613-'Control Kinematics'!$IS$104:$IS$154)/51),"")} -> 2.2541561 | D28: {=IF(SUM('Control Kinematics'!E461:E511)<>0,SQRT(SUMSQ('Control Kinematics'!E563:E613-'Control Kinematics'!$IS$104:$IS$154)/51),"")} -> 2.4469274 | E28: {=IF(SUM('Control Kinematics'!F461:F511)<>0,SQRT(SUMSQ('Control Kinematics'!F563:F613-'Control Kinematics'!$IS$104:$IS$154)/51),"")} -> 2.7520008 | F28: {=IF(SUM('Control Kinematics'!G461:G511)<>0,SQRT(SUMSQ('Control Kinematics'!G563:G613-'Control Kinematics'!$IS$104:$IS$154)/51),"")} -> 4.1494446 | G28: {=IF(SUM('Control Kinematics'!H461:H511)<>0,SQRT(SUMSQ('Control Kinematics'!H563:H613-'Control Kinematics'!$IS$104:$IS$154)/51),"")} -> 1.9947555 | H28: {=IF(SUM('Control Kinematics'!I461:I511)<>0,SQRT(SUMSQ('Control Kinematics'!I563:I613-'Control Kinematics'!$IS$104:$IS$154)/51),"")} -> 3.0041618 | I28: {=IF(SUM('Control Kinematics'!J461:J511)<>0,SQRT(SUMSQ('Control Kinematics'!J563:J613-'Control Kinematics'!$IS$104:$IS$154)/51),"")} -> 4.6416025 | ... IQ28: {=IF(SUM('Control Kinematics'!IR461:IR511)<>0,SQRT(SUMSQ('Control Kinematics'!IR563:IR613-'Control Kinematics'!$IS$104:$IS$154)/51),"")} | IR28: =AVERAGE(B28:IQ28) -> 3.7060786 | IS28: =STDEV(B28:IQ28) -> 1.4184615 | IT28: =EXP(IR58) -> 3.4317083
A29: Hip Int/Ext | B29: {=IF(SUM('Control Kinematics'!C461:C511)<>0,SQRT(SUMSQ('Control Kinematics'!C716:C766-'Control Kinematics'!$IS$257:$IS$307)/51),"")} -> 9.0128233 | C29: {=IF(SUM('Control Kinematics'!D461:D511)<>0,SQRT(SUMSQ('Control Kinematics'!D716:D766-'Control Kinematics'!$IS$257:$IS$307)/51),"")} -> 5.6241973 | D29: {=IF(SUM('Control Kinematics'!E461:E511)<>0,SQRT(SUMSQ('Control Kinematics'!E716:E766-'Control Kinematics'!$IS$257:$IS$307)/51),"")} -> 8.5871952 | E29: {=IF(SUM('Control Kinematics'!F461:F511)<>0,SQRT(SUMSQ('Control Kinematics'!F716:F766-'Control Kinematics'!$IS$257:$IS$307)/51),"")} -> 3.9853111 | F29: {=IF(SUM('Control Kinematics'!G461:G511)<>0,SQRT(SUMSQ('Control Kinematics'!G716:G766-'Control Kinematics'!$IS$257:$IS$307)/51),"")} -> 6.7621977 | G29: {=IF(SUM('Control Kinematics'!H461:H511)<>0,SQRT(SUMSQ('Control Kinematics'!H716:H766-'Control Kinematics'!$IS$257:$IS$307)/51),"")} -> 3.7427223 | H29: {=IF(SUM('Control Kinematics'!I461:I511)<>0,SQRT(SUMSQ('Control Kinematics'!I716:I766-'Control Kinematics'!$IS$257:$IS$307)/51),"")} -> 5.0833159 | I29: {=IF(SUM('Control Kinematics'!J461:J511)<>0,SQRT(SUMSQ('Control Kinematics'!J716:J766-'Control Kinematics'!$IS$257:$IS$307)/51),"")} -> 6.1931376 | ... IQ29: {=IF(SUM('Control Kinematics'!IR461:IR511)<>0,SQRT(SUMSQ('Control Kinematics'!IR716:IR766-'Control Kinematics'!$IS$257:$IS$307)/51),"")} | IR29: =AVERAGE(B29:IQ29) -> 6.2547902 | IS29: =STDEV(B29:IQ29) -> 3.2228997 | IT29: =EXP(IR59) -> 5.6349789
A30: Foot Int/Ext | B30: {=IF(SUM('Control Kinematics'!C461:C511)<>0,SQRT(SUMSQ('Control Kinematics'!C869:C919-'Control Kinematics'!$IS$410:$IS$460)/51),"")} -> 7.7860659 | C30: {=IF(SUM('Control Kinematics'!D461:D511)<>0,SQRT(SUMSQ('Control Kinematics'!D869:D919-'Control Kinematics'!$IS$410:$IS$460)/51),"")} -> 2.8867067 | D30: {=IF(SUM('Control Kinematics'!E461:E511)<>0,SQRT(SUMSQ('Control Kinematics'!E869:E919-'Control Kinematics'!$IS$410:$IS$460)/51),"")} -> 8.2295913 | E30: {=IF(SUM('Control Kinematics'!F461:F511)<>0,SQRT(SUMSQ('Control Kinematics'!F869:F919-'Control Kinematics'!$IS$410:$IS$460)/51),"")} -> 12.246707 | F30: {=IF(SUM('Control Kinematics'!G461:G511)<>0,SQRT(SUMSQ('Control Kinematics'!G869:G919-'Control Kinematics'!$IS$410:$IS$460)/51),"")} -> 5.0088213 | G30: {=IF(SUM('Control Kinematics'!H461:H511)<>0,SQRT(SUMSQ('Control Kinematics'!H869:H919-'Control Kinematics'!$IS$410:$IS$460)/51),"")} -> 2.7004038 | H30: {=IF(SUM('Control Kinematics'!I461:I511)<>0,SQRT(SUMSQ('Control Kinematics'!I869:I919-'Control Kinematics'!$IS$410:$IS$460)/51),"")} -> 6.3447247 | I30: {=IF(SUM('Control Kinematics'!J461:J511)<>0,SQRT(SUMSQ('Control Kinematics'!J869:J919-'Control Kinematics'!$IS$410:$IS$460)/51),"")} -> 7.7263068 | ... IQ30: {=IF(SUM('Control Kinematics'!IR461:IR511)<>0,SQRT(SUMSQ('Control Kinematics'!IR869:IR919-'Control Kinematics'!$IS$410:$IS$460)/51),"")} | IR30: =AVERAGE(B30:IQ30) -> 6.2944486 | IS30: =STDEV(B30:IQ30) -> 3.0953736 | IT30: =EXP(IR60) -> 5.5807959
A33: Log Transform
A34: GPS (Left) | B34: =IF(B4<>"",LN(B4),"") -> 2.0141912 | C34: =IF(C4<>"",LN(C4),"") -> 1.4298842 | D34: =IF(D4<>"",LN(D4),"") -> 1.6014807 | E34: =IF(E4<>"",LN(E4),"") -> 1.5912921 | F34: =IF(F4<>"",LN(F4),"") -> 1.8791128 | G34: =IF(G4<>"",LN(G4),"") -> 1.541727 | H34: =IF(H4<>"",LN(H4),"") -> 2.2056282 | I34: =IF(I4<>"",LN(I4),"") -> 1.5281873 | ... IQ34: =IF(IQ4<>"",LN(IQ4),"") | IR34: =AVERAGE(B34:IQ34) -> 1.628241 | IS34: =STDEV(B34:IQ34) -> 0.26522787
A35: GPS (Right) | B35: =IF(B5<>"",LN(B5),"") -> 2.0141912 | C35: =IF(C5<>"",LN(C5),"") -> 1.4298842 | D35: =IF(D5<>"",LN(D5),"") -> 1.6014807 | E35: =IF(E5<>"",LN(E5),"") -> 1.5912921 | F35: =IF(F5<>"",LN(F5),"") -> 1.8791128 | G35: =IF(G5<>"",LN(G5),"") -> 1.541727 | H35: =IF(H5<>"",LN(H5),"") -> 2.2056282 | I35: =IF(I5<>"",LN(I5),"") -> 1.5281873 | ... IQ35: =IF(IQ5<>"",LN(IQ5),"") | IR35: =AVERAGE(B35:IQ35) -> 1.628241 | IS35: =STDEV(B35:IQ35) -> 0.26522787
A36: GPS (Overall) | B36: =IF(B6<>"",LN(B6),"") -> 2.0879982 | C36: =IF(C6<>"",LN(C6),"") -> 1.4090359 | D36: =IF(D6<>"",LN(D6),"") -> 1.6630806 | E36: =IF(E6<>"",LN(E6),"") -> 1.6715989 | F36: =IF(F6<>"",LN(F6),"") -> 1.8952286 | G36: =IF(G6<>"",LN(G6),"") -> 1.5880402 | H36: =IF(H6<>"",LN(H6),"") -> 2.2201863 | I36: =IF(I6<>"",LN(I6),"") -> 1.5554855 | ... IQ36: =IF(IQ6<>"",LN(IQ6),"") | IR36: =AVERAGE(B36:IQ36) -> 1.6710929 | IS36: =STDEV(B36:IQ36) -> 0.2720453
A38: Pelvis Ant/Pst | B38: =IF(B8<>"",LN(B8),"") -> 1.6830665 | C38: =IF(C8<>"",LN(C8),"") -> 2.0199181 | D38: =IF(D8<>"",LN(D8),"") -> 1.4244995 | E38: =IF(E8<>"",LN(E8),"") -> -0.087678491 | F38: =IF(F8<>"",LN(F8),"") -> 2.2270049 | G38: =IF(G8<>"",LN(G8),"") -> 1.4812244 | H38: =IF(H8<>"",LN(H8),"") -> 2.6482866 | I38: =IF(I8<>"",LN(I8),"") -> 1.4417571 | ... IQ38: =IF(IQ8<>"",LN(IQ8),"") | IR38: =AVERAGE(B38:IQ38) -> 1.2492626 | IS38: =STDEV(B38:IQ38) -> 0.63246416
A39: Hip Flx/Ext | B39: =IF(B9<>"",LN(B9),"") -> 2.2397306 | C39: =IF(C9<>"",LN(C9),"") -> 1.7178038 | D39: =IF(D9<>"",LN(D9),"") -> 1.4841394 | E39: =IF(E9<>"",LN(E9),"") -> 1.2518745 | F39: =IF(F9<>"",LN(F9),"") -> 2.1407957 | G39: =IF(G9<>"",LN(G9),"") -> 2.061447 | H39: =IF(H9<>"",LN(H9),"") -> 2.8815266 | I39: =IF(I9<>"",LN(I9),"") -> 1.3015259 | ... IQ39: =IF(IQ9<>"",LN(IQ9),"") | IR39: =AVERAGE(B39:IQ39) -> 1.6775556 | IS39: =STDEV(B39:IQ39) -> 0.48492802
A40: Knee Flx/Ext | B40: =IF(B10<>"",LN(B10),"") -> 2.5765464 | C40: =IF(C10<>"",LN(C10),"") -> 1.1465112 | D40: =IF(D10<>"",LN(D10),"") -> 1.4123109 | E40: =IF(E10<>"",LN(E10),"") -> 1.4245606 | F40: =IF(F10<>"",LN(F10),"") -> 1.5970474 | G40: =IF(G10<>"",LN(G10),"") -> 1.7816612 | H40: =IF(H10<>"",LN(H10),"") -> 2.2713482 | I40: =IF(I10<>"",LN(I10),"") -> 1.334458 | ... IQ40: =IF(IQ10<>"",LN(IQ10),"") | IR40: =AVERAGE(B40:IQ40) -> 1.6502469 | IS40: =STDEV(B40:IQ40) -> 0.49259048
A41: Ankle Dor/Pla | B41: =IF(B11<>"",LN(B11),"") -> 2.0443939 | C41: =IF(C11<>"",LN(C11),"") -> 1.1676397 | D41: =IF(D11<>"",LN(D11),"") -> 1.3139637 | E41: =IF(E11<>"",LN(E11),"") -> 1.1549625 | F41: =IF(F11<>"",LN(F11),"") -> 2.1160847 | G41: =IF(G11<>"",LN(G11),"") -> 1.4351694 | H41: =IF(H11<>"",LN(H11),"") -> 1.937002 | I41: =IF(I11<>"",LN(I11),"") -> 1.0302445 | ... IQ41: =IF(IQ11<>"",LN(IQ11),"") | IR41: =AVERAGE(B41:IQ41) -> 1.3825824 | IS41: =STDEV(B41:IQ41) -> 0.41502178
B42: =IF(B12<>"",LN(B12),"") | C42: =IF(C12<>"",LN(C12),"") | D42: =IF(D12<>"",LN(D12),"") | E42: =IF(E12<>"",LN(E12),"") | F42: =IF(F12<>"",LN(F12),"") | G42: =IF(G12<>"",LN(G12),"") | H42: =IF(H12<>"",LN(H12),"") | I42: =IF(I12<>"",LN(I12),"") | ... IQ42: =IF(IQ12<>"",LN(IQ12),"")
A43: Pelvic Up/Dn | B43: =IF(B13<>"",LN(B13),"") -> 0.33329526 | C43: =IF(C13<>"",LN(C13),"") -> 0.077841667 | D43: =IF(D13<>"",LN(D13),"") -> 0.38686608 | E43: =IF(E13<>"",LN(E13),"") -> -0.049232682 | F43: =IF(F13<>"",LN(F13),"") -> 0.73655691 | G43: =IF(G13<>"",LN(G13),"") -> 1.170506 | H43: =IF(H13<>"",LN(H13),"") -> 0.33066632 | I43: =IF(I13<>"",LN(I13),"") -> 0.9314922 | ... IQ43: =IF(IQ13<>"",LN(IQ13),"") | IR43: =AVERAGE(B43:IQ43) -> 0.56674096 | IS43: =STDEV(B43:IQ43) -> 0.51798041
A44: Hip Add/Abd | B44: =IF(B14<>"",LN(B14),"") -> 1.0621005 | C44: =IF(C14<>"",LN(C14),"") -> 0.51454489 | D44: =IF(D14<>"",LN(D14),"") -> 0.740543 | E44: =IF(E14<>"",LN(E14),"") -> 0.39938987 | F44: =IF(F14<>"",LN(F14),"") -> 1.8673239 | G44: =IF(G14<>"",LN(G14),"") -> 1.6446874 | H44: =IF(H14<>"",LN(H14),"") -> 0.72337363 | I44: =IF(I14<>"",LN(I14),"") -> 1.2237409 | ... IQ44: =IF(IQ14<>"",LN(IQ14),"") | IR44: =AVERAGE(B44:IQ44) -> 1.0457222 | IS44: =STDEV(B44:IQ44) -> 0.40838083
B45: =IF(B15<>"",LN(B15),"") | C45: =IF(C15<>"",LN(C15),"") | D45: =IF(D15<>"",LN(D15),"") | E45: =IF(E15<>"",LN(E15),"") | F45: =IF(F15<>"",LN(F15),"") | G45: =IF(G15<>"",LN(G15),"") | H45: =IF(H15<>"",LN(H15),"") | I45: =IF(I15<>"",LN(I15),"") | ... IQ45: =IF(IQ15<>"",LN(IQ15),"")
A46: Pelvic Int/Ext | B46: =IF(B16<>"",LN(B16),"") -> 0.63706328 | C46: =IF(C16<>"",LN(C16),"") -> 0.81277566 | D46: =IF(D16<>"",LN(D16),"") -> 0.89483311 | E46: =IF(E16<>"",LN(E16),"") -> 1.0123282 | F46: =IF(F16<>"",LN(F16),"") -> 1.4229745 | G46: =IF(G16<>"",LN(G16),"") -> 0.6905215 | H46: =IF(H16<>"",LN(H16),"") -> 1.0999986 | I46: =IF(I16<>"",LN(I16),"") -> 1.5350597 | ... IQ46: =IF(IQ16<>"",LN(IQ16),"") | IR46: =AVERAGE(B46:IQ46) -> 1.2330582 | IS46: =STDEV(B46:IQ46) -> 0.40940645
A47: Hip Int/Ext | B47: =IF(B17<>"",LN(B17),"") -> 2.1986484 | C47: =IF(C17<>"",LN(C17),"") -> 1.7270782 | D47: =IF(D17<>"",LN(D17),"") -> 2.1502722 | E47: =IF(E17<>"",LN(E17),"") -> 1.3826154 | F47: =IF(F17<>"",LN(F17),"") -> 1.9113479 | G47: =IF(G17<>"",LN(G17),"") -> 1.3198132 | H47: =IF(H17<>"",LN(H17),"") -> 1.6259638 | I47: =IF(I17<>"",LN(I17),"") -> 1.8234418 | ... IQ47: =IF(IQ17<>"",LN(IQ17),"") | IR47: =AVERAGE(B47:IQ47) -> 1.7289934 | IS47: =STDEV(B47:IQ47) -> 0.44851845
A48: Foot Int/Ext | B48: =IF(B18<>"",LN(B18),"") -> 2.0523357 | C48: =IF(C18<>"",LN(C18),"") -> 1.0601163 | D48: =IF(D18<>"",LN(D18),"") -> 2.1077363 | E48: =IF(E18<>"",LN(E18),"") -> 2.5052571 | F48: =IF(F18<>"",LN(F18),"") -> 1.6112006 | G48: =IF(G18<>"",LN(G18),"") -> 0.99340132 | H48: =IF(H18<>"",LN(H18),"") -> 1.8476237 | I48: =IF(I18<>"",LN(I18),"") -> 2.044631 | ... IQ48: =IF(IQ18<>"",LN(IQ18),"") | IR48: =AVERAGE(B48:IQ48) -> 1.7193314 | IS48: =STDEV(B48:IQ48) -> 0.50678299
B49: =IF(B19<>"",LN(B19),"") | C49: =IF(C19<>"",LN(C19),"") | D49: =IF(D19<>"",LN(D19),"") | E49: =IF(E19<>"",LN(E19),"") | F49: =IF(F19<>"",LN(F19),"") | G49: =IF(G19<>"",LN(G19),"") | H49: =IF(H19<>"",LN(H19),"") | I49: =IF(I19<>"",LN(I19),"") | ... IQ49: =IF(IQ19<>"",LN(IQ19),"")
A50: Pelvis Ant/Pst | B50: =IF(B20<>"",LN(B20),"") -> 1.6830665 | C50: =IF(C20<>"",LN(C20),"") -> 2.0199181 | D50: =IF(D20<>"",LN(D20),"") -> 1.4244995 | E50: =IF(E20<>"",LN(E20),"") -> -0.087678491 | F50: =IF(F20<>"",LN(F20),"") -> 2.2270049 | G50: =IF(G20<>"",LN(G20),"") -> 1.4812244 | H50: =IF(H20<>"",LN(H20),"") -> 2.6482866 | I50: =IF(I20<>"",LN(I20),"") -> 1.4417571 | ... IQ50: =IF(IQ20<>"",LN(IQ20),"") | IR50: =AVERAGE(B50:IQ50) -> 1.2492626 | IS50: =STDEV(B50:IQ50) -> 0.63246416
A51: Hip Flx/Ext | B51: =IF(B21<>"",LN(B21),"") -> 2.2397306 | C51: =IF(C21<>"",LN(C21),"") -> 1.7178038 | D51: =IF(D21<>"",LN(D21),"") -> 1.4841394 | E51: =IF(E21<>"",LN(E21),"") -> 1.2518745 | F51: =IF(F21<>"",LN(F21),"") -> 2.1407957 | G51: =IF(G21<>"",LN(G21),"") -> 2.061447 | H51: =IF(H21<>"",LN(H21),"") -> 2.8815266 | I51: =IF(I21<>"",LN(I21),"") -> 1.3015259 | ... IQ51: =IF(IQ21<>"",LN(IQ21),"") | IR51: =AVERAGE(B51:IQ51) -> 1.6775556 | IS51: =STDEV(B51:IQ51) -> 0.48492802
A52: Knee Flx/Ext | B52: =IF(B22<>"",LN(B22),"") -> 2.5765464 | C52: =IF(C22<>"",LN(C22),"") -> 1.1465112 | D52: =IF(D22<>"",LN(D22),"") -> 1.4123109 | E52: =IF(E22<>"",LN(E22),"") -> 1.4245606 | F52: =IF(F22<>"",LN(F22),"") -> 1.5970474 | G52: =IF(G22<>"",LN(G22),"") -> 1.7816612 | H52: =IF(H22<>"",LN(H22),"") -> 2.2713482 | I52: =IF(I22<>"",LN(I22),"") -> 1.334458 | ... IQ52: =IF(IQ22<>"",LN(IQ22),"") | IR52: =AVERAGE(B52:IQ52) -> 1.6502469 | IS52: =STDEV(B52:IQ52) -> 0.49259048
A53: Ankle Dor/Pla | B53: =IF(B23<>"",LN(B23),"") -> 2.0443939 | C53: =IF(C23<>"",LN(C23),"") -> 1.1676397 | D53: =IF(D23<>"",LN(D23),"") -> 1.3139637 | E53: =IF(E23<>"",LN(E23),"") -> 1.1549625 | F53: =IF(F23<>"",LN(F23),"") -> 2.1160847 | G53: =IF(G23<>"",LN(G23),"") -> 1.4351694 | H53: =IF(H23<>"",LN(H23),"") -> 1.937002 | I53: =IF(I23<>"",LN(I23),"") -> 1.0302445 | ... IQ53: =IF(IQ23<>"",LN(IQ23),"") | IR53: =AVERAGE(B53:IQ53) -> 1.3825824 | IS53: =STDEV(B53:IQ53) -> 0.41502178
B54: =IF(B24<>"",LN(B24),"") | C54: =IF(C24<>"",LN(C24),"") | D54: =IF(D24<>"",LN(D24),"") | E54: =IF(E24<>"",LN(E24),"") | F54: =IF(F24<>"",LN(F24),"") | G54: =IF(G24<>"",LN(G24),"") | H54: =IF(H24<>"",LN(H24),"") | I54: =IF(I24<>"",LN(I24),"") | ... IQ54: =IF(IQ24<>"",LN(IQ24),"")
A55: Pelvic Up/Dn | B55: =IF(B25<>"",LN(B25),"") -> 0.33329526 | C55: =IF(C25<>"",LN(C25),"") -> 0.077841667 | D55: =IF(D25<>"",LN(D25),"") -> 0.38686608 | E55: =IF(E25<>"",LN(E25),"") -> -0.049232682 | F55: =IF(F25<>"",LN(F25),"") -> 0.73655691 | G55: =IF(G25<>"",LN(G25),"") -> 1.170506 | H55: =IF(H25<>"",LN(H25),"") -> 0.33066632 | I55: =IF(I25<>"",LN(I25),"") -> 0.9314922 | ... IQ55: =IF(IQ25<>"",LN(IQ25),"") | IR55: =AVERAGE(B55:IQ55) -> 0.56674096 | IS55: =STDEV(B55:IQ55) -> 0.51798041
A56: Hip Add/Abd | B56: =IF(B26<>"",LN(B26),"") -> 1.0621005 | C56: =IF(C26<>"",LN(C26),"") -> 0.51454489 | D56: =IF(D26<>"",LN(D26),"") -> 0.740543 | E56: =IF(E26<>"",LN(E26),"") -> 0.39938987 | F56: =IF(F26<>"",LN(F26),"") -> 1.8673239 | G56: =IF(G26<>"",LN(G26),"") -> 1.6446874 | H56: =IF(H26<>"",LN(H26),"") -> 0.72337363 | I56: =IF(I26<>"",LN(I26),"") -> 1.2237409 | ... IQ56: =IF(IQ26<>"",LN(IQ26),"") | IR56: =AVERAGE(B56:IQ56) -> 1.0457222 | IS56: =STDEV(B56:IQ56) -> 0.40838083
B57: =IF(B27<>"",LN(B27),"") | C57: =IF(C27<>"",LN(C27),"") | D57: =IF(D27<>"",LN(D27),"") | E57: =IF(E27<>"",LN(E27),"") | F57: =IF(F27<>"",LN(F27),"") | G57: =IF(G27<>"",LN(G27),"") | H57: =IF(H27<>"",LN(H27),"") | I57: =IF(I27<>"",LN(I27),"") | ... IQ57: =IF(IQ27<>"",LN(IQ27),"")
A58: Pelvic Int/Ext | B58: =IF(B28<>"",LN(B28),"") -> 0.63706328 | C58: =IF(C28<>"",LN(C28),"") -> 0.81277566 | D58: =IF(D28<>"",LN(D28),"") -> 0.89483311 | E58: =IF(E28<>"",LN(E28),"") -> 1.0123282 | F58: =IF(F28<>"",LN(F28),"") -> 1.4229745 | G58: =IF(G28<>"",LN(G28),"") -> 0.6905215 | H58: =IF(H28<>"",LN(H28),"") -> 1.0999986 | I58: =IF(I28<>"",LN(I28),"") -> 1.5350597 | ... IQ58: =IF(IQ28<>"",LN(IQ28),"") | IR58: =AVERAGE(B58:IQ58) -> 1.2330582 | IS58: =STDEV(B58:IQ58) -> 0.40940645
A59: Hip Int/Ext | B59: =IF(B29<>"",LN(B29),"") -> 2.1986484 | C59: =IF(C29<>"",LN(C29),"") -> 1.7270782 | D59: =IF(D29<>"",LN(D29),"") -> 2.1502722 | E59: =IF(E29<>"",LN(E29),"") -> 1.3826154 | F59: =IF(F29<>"",LN(F29),"") -> 1.9113479 | G59: =IF(G29<>"",LN(G29),"") -> 1.3198132 | H59: =IF(H29<>"",LN(H29),"") -> 1.6259638 | I59: =IF(I29<>"",LN(I29),"") -> 1.8234418 | ... IQ59: =IF(IQ29<>"",LN(IQ29),"") | IR59: =AVERAGE(B59:IQ59) -> 1.7289934 | IS59: =STDEV(B59:IQ59) -> 0.44851845
A60: Foot Int/Ext | B60: =IF(B30<>"",LN(B30),"") -> 2.0523357 | C60: =IF(C30<>"",LN(C30),"") -> 1.0601163 | D60: =IF(D30<>"",LN(D30),"") -> 2.1077363 | E60: =IF(E30<>"",LN(E30),"") -> 2.5052571 | F60: =IF(F30<>"",LN(F30),"") -> 1.6112006 | G60: =IF(G30<>"",LN(G30),"") -> 0.99340132 | H60: =IF(H30<>"",LN(H30),"") -> 1.8476237 | I60: =IF(I30<>"",LN(I30),"") -> 2.044631 | ... IQ60: =IF(IQ30<>"",LN(IQ30),"") | IR60: =AVERAGE(B60:IQ60) -> 1.7193314 | IS60: =STDEV(B60:IQ60) -> 0.50678299
A62: GDI (Left)
A63: c1 | B63: {=IF(SUM('Control Kinematics'!C2:C52)<>0,MMULT(TRANSPOSE('Features (from Gillette)'!$A$3:$O$461),'Control Kinematics'!C2:C460),"")} -> -194.01146 | C63: {=IF(SUM('Control Kinematics'!D2:D52)<>0,MMULT(TRANSPOSE('Features (from Gillette)'!$A$3:$O$461),'Control Kinematics'!D2:D460),"")} -> -254.86943 | D63: {=IF(SUM('Control Kinematics'!E2:E52)<>0,MMULT(TRANSPOSE('Features (from Gillette)'!$A$3:$O$461),'Control Kinematics'!E2:E460),"")} -> -230.41467 | E63: {=IF(SUM('Control Kinematics'!F2:F52)<>0,MMULT(TRANSPOSE('Features (from Gillette)'!$A$3:$O$461),'Control Kinematics'!F2:F460),"")} -> -289.02587 | F63: {=IF(SUM('Control Kinematics'!G2:G52)<>0,MMULT(TRANSPOSE('Features (from Gillette)'!$A$3:$O$461),'Control Kinematics'!G2:G460),"")} -> -221.44864 | G63: {=IF(SUM('Control Kinematics'!H2:H52)<>0,MMULT(TRANSPOSE('Features (from Gillette)'!$A$3:$O$461),'Control Kinematics'!H2:H460),"")} -> -231.93765 | H63: {=IF(SUM('Control Kinematics'!I2:I52)<>0,MMULT(TRANSPOSE('Features (from Gillette)'!$A$3:$O$461),'Control Kinematics'!I2:I460),"")} -> -163.14441 | I63: {=IF(SUM('Control Kinematics'!J2:J52)<>0,MMULT(TRANSPOSE('Features (from Gillette)'!$A$3:$O$461),'Control Kinematics'!J2:J460),"")} -> -248.83035 | ... IQ63: {=IF(SUM('Control Kinematics'!IR2:IR52)<>0,MMULT(TRANSPOSE('Features (from Gillette)'!$A$3:$O$461),'Control Kinematics'!IR2:IR460),"")} | IR63: =AVERAGE(B63:IQ63) -> -289.43923 | IS63: =STDEV(B63:IQ63) -> 55.462727
A64: c2 | B64: -31.501811 | C64: 54.430095 | D64: 18.78508 | E64: -37.21941 | F64: 55.606534 | G64: 66.595688 | H64: 78.762767 | I64: 11.463469 | J64: 18.911289 | K64: 55.701818 | L64: 86.118099 | M64: 26.694827 | N64: 55.93385 | O64: 77.081303 | P64: 105.99784 | Q64: -41.664784 | R64: 27.619186 | S64: 122.60042 | T64: 19.224756 | U64: 24.468714 | V64: -25.341108 | W64: -14.941932 | X64: 9.750069 | Y64: 30.832241 | Z64: -54.72835 | AA64: 15.831574 | AB64: 32.77863 | AC64: 38.82598 | AD64: 117.15396 | AE64: 38.000387 | AF64: 46.770277 | AG64: 71.30421 | AH64: 29.945968 | AI64: 26.076168 | AJ64: 17.459963 | AK64: 74.320792 | AL64: 50.049514 | AM64: 28.514773 | IR64: =AVERAGE(B64:IQ64) -> 34.95297 | IS64: =STDEV(B64:IQ64) -> 41.728208
A65: c3 | B65: 54.619986 | C65: -29.786101 | D65: -70.755552 | E65: -47.722553 | F65: -7.1567634 | G65: -3.6706984 | H65: 61.902885 | I65: -55.464705 | J65: -0.88672673 | K65: -22.458988 | L65: -56.239086 | M65: 75.925844 | N65: -22.287329 | O65: 4.3639535 | P65: -10.146665 | Q65: -23.197258 | R65: 17.709271 | S65: -36.083612 | T65: -38.143306 | U65: -12.272747 | V65: 9.474623 | W65: 95.454695 | X65: -15.015904 | Y65: 17.22942 | Z65: -19.62751 | AA65: -55.775275 | AB65: -0.27110428 | AC65: 45.367225 | AD65: -108.94549 | AE65: -0.40523921 | AF65: -54.688397 | AG65: 59.753788 | AH65: 19.199318 | AI65: -47.021845 | AJ65: 2.4041767 | AK65: 64.553691 | AL65: -33.240211 | AM65: 51.991376 | IR65: =AVERAGE(B65:IQ65) -> -5.0345478 | IS65: =STDEV(B65:IQ65) -> 45.095778
A66: c4 | B66: -46.419422 | C66: -10.783785 | D66: -7.0918553 | E66: -34.37401 | F66: -57.787407 | G66: -16.87368 | H66: -5.835881 | I66: -3.5889655 | J66: -47.586066 | K66: -24.637776 | L66: -44.781275 | M66: -58.063031 | N66: 35.53827 | O66: -2.3584519 | P66: -15.352304 | Q66: -1.0362934 | R66: -45.170117 | S66: -63.119942 | T66: -24.457111 | U66: -19.993276 | V66: -17.775002 | W66: -81.418962 | X66: -46.825563 | Y66: -6.1904464 | Z66: -10.876185 | AA66: -51.210921 | AB66: -58.996443 | AC66: -61.16944 | AD66: -52.176903 | AE66: -39.309707 | AF66: -47.341838 | AG66: -59.521873 | AH66: -45.849718 | AI66: -3.7910966 | AJ66: -46.396603 | AK66: -74.893925 | AL66: -54.893887 | AM66: -63.742924 | IR66: =AVERAGE(B66:IQ66) -> -34.635627 | IS66: =STDEV(B66:IQ66) -> 25.737558
A67: c5 | B67: 4.834454 | C67: 38.524874 | D67: -0.79738275 | E67: 5.7841079 | F67: 51.521339 | G67: -8.7801038 | H67: 7.7723324 | I67: 17.2608 | J67: -16.360065 | K67: -2.4453415 | L67: -6.1600131 | M67: 4.5731496 | N67: -33.824256 | O67: 38.368309 | P67: -1.9013362 | Q67: -32.976538 | R67: -51.725367 | S67: -50.513359 | T67: 6.4345967 | U67: -0.99628085 | V67: -13.702077 | W67: -42.136149 | X67: 6.1014561 | Y67: 21.871102 | Z67: -23.323254 | AA67: -22.819655 | AB67: -7.5927498 | AC67: -9.6684262 | AD67: -14.866607 | AE67: -7.5013545 | AF67: 0.27940301 | AG67: 4.5239462 | AH67: -3.3112813 | AI67: -28.676617 | AJ67: -53.696612 | AK67: -8.4479607 | AL67: 1.5021114 | AM67: 3.0159154 | IR67: =AVERAGE(B67:IQ67) -> -6.0488129 | IS67: =STDEV(B67:IQ67) -> 23.447608
A68: c6 | B68: 86.711992 | C68: 88.839449 | D68: 70.015696 | E68: 66.554817 | F68: 83.813766 | G68: 84.009238 | H68: 162.41271 | I68: 48.999015 | J68: 64.406033 | K68: 52.808504 | L68: 77.697029 | M68: 49.246448 | N68: 44.102117 | O68: 69.40224 | P68: 35.66599 | Q68: 57.223839 | R68: 52.003105 | S68: 12.882207 | T68: 59.287313 | U68: 84.899409 | V68: 44.498177 | W68: 96.038257 | X68: 72.53708 | Y68: 80.117789 | Z68: 97.572951 | AA68: 57.595254 | AB68: 47.799667 | AC68: 77.968931 | AD68: 22.141847 | AE68: 87.983203 | AF68: 39.172298 | AG68: 77.072258 | AH68: 27.350279 | AI68: 25.122215 | AJ68: 47.709022 | AK68: 48.302905 | AL68: 27.04248 | AM68: 120.0092 | IR68: =AVERAGE(B68:IQ68) -> 64.395124 | IS68: =STDEV(B68:IQ68) -> 29.058325
A69: c7 | B69: 58.852124 | C69: 72.530158 | D69: 79.505985 | E69: 71.209889 | F69: 87.085752 | G69: 63.555814 | H69: 55.716893 | I69: 60.794326 | J69: 72.236092 | K69: 65.245982 | L69: 64.656792 | M69: 36.173361 | N69: 34.253135 | O69: 100.15302 | P69: 67.268682 | Q69: 41.367236 | R69: 35.634956 | S69: 59.002933 | T69: 75.27116 | U69: 65.295141 | V69: 83.159644 | W69: 45.744223 | X69: 67.690131 | Y69: 76.96626 | Z69: 60.698096 | AA69: 48.199046 | AB69: 70.864771 | AC69: 70.636244 | AD69: 38.888682 | AE69: 44.780201 | AF69: 49.160792 | AG69: 55.889537 | AH69: 46.064112 | AI69: 39.804624 | AJ69: 41.041296 | AK69: 18.003274 | AL69: 84.512146 | AM69: 19.458972 | IR69: =AVERAGE(B69:IQ69) -> 58.615039 | IS69: =STDEV(B69:IQ69) -> 18.667369
A70: c8 | B70: 73.603751 | C70: 42.29253 | D70: 47.326619 | E70: 52.902237 | F70: 53.813599 | G70: -1.9357564 | H70: 31.538629 | I70: 61.606993 | J70: 32.158288 | K70: 47.035641 | L70: 59.048263 | M70: 51.9823 | N70: 51.537294 | O70: 51.867699 | P70: 49.19206 | Q70: 62.343654 | R70: 31.300256 | S70: 31.169817 | T70: 48.031145 | U70: 45.532182 | V70: 20.581495 | W70: 61.96351 | X70: 55.564524 | Y70: 56.671688 | Z70: 40.967936 | AA70: 53.334077 | AB70: 87.811731 | AC70: 20.635074 | AD70: 57.346599 | AE70: 66.067942 | AF70: 30.127451 | AG70: 41.118595 | AH70: 98.67174 | AI70: 61.709197 | AJ70: 35.311439 | AK70: 57.459579 | AL70: 35.372685 | AM70: 31.255594 | IR70: =AVERAGE(B70:IQ70) -> 48.271528 | IS70: =STDEV(B70:IQ70) -> 18.45619
A71: c9 | B71: 42.671851 | C71: -2.3840118 | D71: 30.223619 | E71: 20.324721 | F71: -22.326086 | G71: 34.187217 | H71: -3.8007884 | I71: 8.8310251 | J71: 22.84069 | K71: -3.0078651 | L71: 29.796056 | M71: -9.447804 | N71: 44.137908 | O71: 6.8416251 | P71: 7.1390854 | Q71: 22.890099 | R71: 30.751925 | S71: 23.619123 | T71: -0.71465589 | U71: 27.424305 | V71: 28.251389 | W71: 8.3298677 | X71: -25.652113 | Y71: 26.825455 | Z71: -14.151068 | AA71: 26.971215 | AB71: 30.020384 | AC71: 2.3671162 | AD71: 48.785604 | AE71: 27.903551 | AF71: -11.0605 | AG71: -3.3313109 | AH71: 20.92178 | AI71: 10.409957 | AJ71: 58.558208 | AK71: -11.853975 | AL71: 16.759961 | AM71: 33.830521 | IR71: =AVERAGE(B71:IQ71) -> 15.365371 | IS71: =STDEV(B71:IQ71) -> 20.260377
A72: c10 | B72: 19.392121 | C72: -12.631037 | D72: 10.851082 | E72: 42.127698 | F72: -21.706233 | G72: -14.91972 | H72: -14.112141 | I72: -3.3117367 | J72: 0.11645058 | K72: 4.5209133 | L72: 11.408928 | M72: -3.2438094 | N72: -26.039537 | O72: -16.924538 | P72: 45.53709 | Q72: 31.499129 | R72: 11.93182 | S72: 14.798753 | T72: 16.356076 | U72: 2.2225951 | V72: -31.536806 | W72: 22.766931 | X72: 8.3878777 | Y72: -7.3251141 | Z72: -19.713485 | AA72: 48.11052 | AB72: 5.4401585 | AC72: -9.6447024 | AD72: 1.2943061 | AE72: 16.727188 | AF72: -19.289571 | AG72: 7.3596045 | AH72: 11.391896 | AI72: 14.466023 | AJ72: -0.96438102 | AK72: 18.637612 | AL72: 25.173687 | AM72: -10.147556 | IR72: =AVERAGE(B72:IQ72) -> 4.7107393 | IS72: =STDEV(B72:IQ72) -> 19.388291
A73: c11 | B73: -16.341583 | C73: 5.7297217 | D73: -10.782795 | E73: 3.2259182 | F73: 1.3200869 | G73: 10.835226 | H73: -1.8634945 | I73: 14.24017 | J73: 3.5778164 | K73: -0.63993631 | L73: 3.9779584 | M73: -16.53582 | N73: -28.349057 | O73: -46.296412 | P73: 4.5300161 | Q73: 13.993722 | R73: 14.901253 | S73: -4.5862884 | T73: -16.701993 | U73: -7.2442746 | V73: 15.04228 | W73: 11.235952 | X73: 10.827133 | Y73: -2.2413289 | Z73: -2.5660466 | AA73: -0.35639003 | AB73: -8.2536345 | AC73: 9.0808287 | AD73: -22.479632 | AE73: -11.954656 | AF73: 10.617826 | AG73: 0.97555831 | AH73: -41.192038 | AI73: 31.422089 | AJ73: -7.6102275 | AK73: -0.89696687 | AL73: 40.024135 | AM73: 25.678047 | IR73: =AVERAGE(B73:IQ73) -> -0.41202197 | IS73: =STDEV(B73:IQ73) -> 17.385925
A74: c12 | B74: 55.916255 | C74: 6.5442983 | D74: 6.0088994 | E74: 7.746638 | F74: -39.58476 | G74: 24.284657 | H74: -9.1822209 | I74: 6.9636652 | J74: 5.642928 | K74: 21.570202 | L74: 22.950457 | M74: 35.949248 | N74: 25.386861 | O74: 59.028886 | P74: 20.505942 | Q74: -4.7627814 | R74: 21.006549 | S74: 45.668806 | T74: 33.440597 | U74: 12.150146 | V74: 13.921218 | W74: 3.1556371 | X74: 8.8288492 | Y74: 40.098365 | Z74: 24.823594 | AA74: 10.751786 | AB74: 45.782006 | AC74: 5.8638496 | AD74: 53.357226 | AE74: 19.469564 | AF74: 28.409372 | AG74: 29.850063 | AH74: 25.08009 | AI74: 10.566438 | AJ74: 44.052484 | AK74: 21.006395 | AL74: 27.90247 | AM74: 2.9444389 | IR74: =AVERAGE(B74:IQ74) -> 20.344714 | IS74: =STDEV(B74:IQ74) -> 19.516727
A75: c13 | B75: 0.84667322 | C75: 7.787251 | D75: 2.466221 | E75: 13.270307 | F75: 27.484287 | G75: 9.7486887 | H75: 40.890214 | I75: 23.38606 | J75: 3.2897066 | K75: 12.708942 | L75: 2.4889018 | M75: 29.234875 | N75: -0.39448715 | O75: -13.072363 | P75: 7.4675658 | Q75: -3.021212 | R75: 4.5212877 | S75: 21.127363 | T75: 16.448314 | U75: 6.3851657 | V75: 15.394561 | W75: 1.5355466 | X75: 18.584376 | Y75: -0.89386177 | Z75: 17.155913 | AA75: -5.1152714 | AB75: -21.566546 | AC75: -5.9397397 | AD75: 5.2509562 | AE75: 0.55709498 | AF75: 23.966659 | AG75: 12.850062 | AH75: 2.0665832 | AI75: -0.366545 | AJ75: 14.239996 | AK75: 18.909582 | AL75: 12.096434 | AM75: 29.773532 | IR75: =AVERAGE(B75:IQ75) -> 9.2516604 | IS75: =STDEV(B75:IQ75) -> 12.605208
... A77: c15 | B77: -13.6786 | C77: -15.241395 | D77: -14.896278 | E77: -9.0056466 | F77: -23.16263 | G77: 8.9897103 | H77: 1.7702597 | I77: -26.598693 | J77: 8.174827 | K77: -7.4277414 | L77: -5.2380091 | M77: -16.401895 | N77: -3.6039439 | O77: 9.9012508 | P77: -16.122076 | Q77: -1.6207566 | R77: -0.16450507 | S77: -30.790637 | T77: -20.907073 | U77: -6.0399034 | V77: -4.6756031 | W77: 2.4308371 | X77: -24.282543 | Y77: -4.6232171 | Z77: -5.2617004 | AA77: -0.49209183 | AB77: 22.147519 | AC77: -10.648343 | AD77: 6.5845733 | AE77: -1.1841199 | AF77: -10.371574 | AG77: -39.135503 | AH77: -30.634561 | AI77: -20.387776 | AJ77: -33.028692 | AK77: -37.689065 | AL77: 12.764329 | AM77: 2.4768657 | IR77: =AVERAGE(B77:IQ77) -> -9.4230106 | IS77: =STDEV(B77:IQ77) -> 14.592676
A79: ln(d) | B79: {=IF(SUM(B63:B77)<>0,LN((SQRT(SUMSQ(B63:B77-$IR63:$IR77)))),"")} -> 4.9773953 | C79: {=IF(SUM(C63:C77)<>0,LN((SQRT(SUMSQ(C63:C77-$IR63:$IR77)))),"")} -> 4.4120878 | D79: {=IF(SUM(D63:D77)<>0,LN((SQRT(SUMSQ(D63:D77-$IR63:$IR77)))),"")} -> 4.6061466 | E79: {=IF(SUM(E63:E77)<>0,LN((SQRT(SUMSQ(E63:E77-$IR63:$IR77)))),"")} -> 4.5533227 | F79: {=IF(SUM(F63:F77)<>0,LN((SQRT(SUMSQ(F63:F77-$IR63:$IR77)))),"")} -> 4.8522333 | G79: {=IF(SUM(G63:G77)<>0,LN((SQRT(SUMSQ(G63:G77-$IR63:$IR77)))),"")} -> 4.5403135 | H79: {=IF(SUM(H63:H77)<>0,LN((SQRT(SUMSQ(H63:H77-$IR63:$IR77)))),"")} -> 5.2456126 | I79: {=IF(SUM(I63:I77)<>0,LN((SQRT(SUMSQ(I63:I77-$IR63:$IR77)))),"")} -> 4.4961016 | ... IQ79: {=IF(SUM(IQ63:IQ77)<>0,LN((SQRT(SUMSQ(IQ63:IQ77-$IR63:$IR77)))),"")} | IR79: =AVERAGE(B79:IQ79) -> 4.573944 | IS79: =STDEV(B79:IQ79) -> 0.32264318
A80: GDI | B80: =IF(SUM(B63:B77)<>0,100-10*(B79-$IR79)/$IS79,"") -> 87.495433 | C80: =IF(SUM(C63:C77)<>0,100-10*(C79-$IR79)/$IS79,"") -> 105.01657 | D80: =IF(SUM(D63:D77)<>0,100-10*(D79-$IR79)/$IS79,"") -> 99.001911 | E80: =IF(SUM(E63:E77)<>0,100-10*(E79-$IR79)/$IS79,"") -> 100.63914 | F80: =IF(SUM(F63:F77)<>0,100-10*(F79-$IR79)/$IS79,"") -> 91.374704 | G80: =IF(SUM(G63:G77)<>0,100-10*(G79-$IR79)/$IS79,"") -> 101.04234 | H80: =IF(SUM(H63:H77)<>0,100-10*(H79-$IR79)/$IS79,"") -> 79.182309 | I80: =IF(SUM(I63:I77)<>0,100-10*(I79-$IR79)/$IS79,"") -> 102.41265 | ... IQ80: =IF(SUM(IQ63:IQ77)<>0,100-10*(IQ79-$IR79)/$IS79,"") | IR80: =AVERAGE(B80:IQ80) -> 100 | IS80: =STDEV(B80:IQ80) -> 10
A82: GDI (Right)
A83: c1 | B83: {=IF(SUM('Control Kinematics'!C461:C511)<>0,MMULT(TRANSPOSE('Features (from Gillette)'!$A$3:$O$461),'Control Kinematics'!C461:C919),"")} -> -194.01146 | C83: {=IF(SUM('Control Kinematics'!D461:D511)<>0,MMULT(TRANSPOSE('Features (from Gillette)'!$A$3:$O$461),'Control Kinematics'!D461:D919),"")} -> -254.86943 | D83: {=IF(SUM('Control Kinematics'!E461:E511)<>0,MMULT(TRANSPOSE('Features (from Gillette)'!$A$3:$O$461),'Control Kinematics'!E461:E919),"")} -> -230.41467 | E83: {=IF(SUM('Control Kinematics'!F461:F511)<>0,MMULT(TRANSPOSE('Features (from Gillette)'!$A$3:$O$461),'Control Kinematics'!F461:F919),"")} -> -289.02587 | F83: {=IF(SUM('Control Kinematics'!G461:G511)<>0,MMULT(TRANSPOSE('Features (from Gillette)'!$A$3:$O$461),'Control Kinematics'!G461:G919),"")} -> -221.44864 | G83: {=IF(SUM('Control Kinematics'!H461:H511)<>0,MMULT(TRANSPOSE('Features (from Gillette)'!$A$3:$O$461),'Control Kinematics'!H461:H919),"")} -> -231.93765 | H83: {=IF(SUM('Control Kinematics'!I461:I511)<>0,MMULT(TRANSPOSE('Features (from Gillette)'!$A$3:$O$461),'Control Kinematics'!I461:I919),"")} -> -163.14441 | I83: {=IF(SUM('Control Kinematics'!J461:J511)<>0,MMULT(TRANSPOSE('Features (from Gillette)'!$A$3:$O$461),'Control Kinematics'!J461:J919),"")} -> -248.83035 | ... IQ83: {=IF(SUM('Control Kinematics'!IR461:IR511)<>0,MMULT(TRANSPOSE('Features (from Gillette)'!$A$3:$O$461),'Control Kinematics'!IR461:IR919),"")} | IR83: =AVERAGE(B83:IQ83) -> -289.43923 | IS83: =STDEV(B83:IQ83) -> 55.462727
A84: c2 | B84: -31.501811 | C84: 54.430095 | D84: 18.78508 | E84: -37.21941 | F84: 55.606534 | G84: 66.595688 | H84: 78.762767 | I84: 11.463469 | J84: 18.911289 | K84: 55.701818 | L84: 86.118099 | M84: 26.694827 | N84: 55.93385 | O84: 77.081303 | P84: 105.99784 | Q84: -41.664784 | R84: 27.619186 | S84: 122.60042 | T84: 19.224756 | U84: 24.468714 | V84: -25.341108 | W84: -14.941932 | X84: 9.750069 | Y84: 30.832241 | Z84: -54.72835 | AA84: 15.831574 | AB84: 32.77863 | AC84: 38.82598 | AD84: 117.15396 | AE84: 38.000387 | AF84: 46.770277 | AG84: 71.30421 | AH84: 29.945968 | AI84: 26.076168 | AJ84: 17.459963 | AK84: 74.320792 | AL84: 50.049514 | AM84: 28.514773 | IR84: =AVERAGE(B84:IQ84) -> 34.95297 | IS84: =STDEV(B84:IQ84) -> 41.728208
A85: c3 | B85: 54.619986 | C85: -29.786101 | D85: -70.755552 | E85: -47.722553 | F85: -7.1567634 | G85: -3.6706984 | H85: 61.902885 | I85: -55.464705 | J85: -0.88672673 | K85: -22.458988 | L85: -56.239086 | M85: 75.925844 | N85: -22.287329 | O85: 4.3639535 | P85: -10.146665 | Q85: -23.197258 | R85: 17.709271 | S85: -36.083612 | T85: -38.143306 | U85: -12.272747 | V85: 9.474623 | W85: 95.454695 | X85: -15.015904 | Y85: 17.22942 | Z85: -19.62751 | AA85: -55.775275 | AB85: -0.27110428 | AC85: 45.367225 | AD85: -108.94549 | AE85: -0.40523921 | AF85: -54.688397 | AG85: 59.753788 | AH85: 19.199318 | AI85: -47.021845 | AJ85: 2.4041767 | AK85: 64.553691 | AL85: -33.240211 | AM85: 51.991376 | IR85: =AVERAGE(B85:IQ85) -> -5.0345478 | IS85: =STDEV(B85:IQ85) -> 45.095778
A86: c4 | B86: -46.419422 | C86: -10.783785 | D86: -7.0918553 | E86: -34.37401 | F86: -57.787407 | G86: -16.87368 | H86: -5.835881 | I86: -3.5889655 | J86: -47.586066 | K86: -24.637776 | L86: -44.781275 | M86: -58.063031 | N86: 35.53827 | O86: -2.3584519 | P86: -15.352304 | Q86: -1.0362934 | R86: -45.170117 | S86: -63.119942 | T86: -24.457111 | U86: -19.993276 | V86: -17.775002 | W86: -81.418962 | X86: -46.825563 | Y86: -6.1904464 | Z86: -10.876185 | AA86: -51.210921 | AB86: -58.996443 | AC86: -61.16944 | AD86: -52.176903 | AE86: -39.309707 | AF86: -47.341838 | AG86: -59.521873 | AH86: -45.849718 | AI86: -3.7910966 | AJ86: -46.396603 | AK86: -74.893925 | AL86: -54.893887 | AM86: -63.742924 | IR86: =AVERAGE(B86:IQ86) -> -34.635627 | IS86: =STDEV(B86:IQ86) -> 25.737558
A87: c5 | B87: 4.834454 | C87: 38.524874 | D87: -0.79738275 | E87: 5.7841079 | F87: 51.521339 | G87: -8.7801038 | H87: 7.7723324 | I87: 17.2608 | J87: -16.360065 | K87: -2.4453415 | L87: -6.1600131 | M87: 4.5731496 | N87: -33.824256 | O87: 38.368309 | P87: -1.9013362 | Q87: -32.976538 | R87: -51.725367 | S87: -50.513359 | T87: 6.4345967 | U87: -0.99628085 | V87: -13.702077 | W87: -42.136149 | X87: 6.1014561 | Y87: 21.871102 | Z87: -23.323254 | AA87: -22.819655 | AB87: -7.5927498 | AC87: -9.6684262 | AD87: -14.866607 | AE87: -7.5013545 | AF87: 0.27940301 | AG87: 4.5239462 | AH87: -3.3112813 | AI87: -28.676617 | AJ87: -53.696612 | AK87: -8.4479607 | AL87: 1.5021114 | AM87: 3.0159154 | IR87: =AVERAGE(B87:IQ87) -> -6.0488129 | IS87: =STDEV(B87:IQ87) -> 23.447608
A88: c6 | B88: 86.711992 | C88: 88.839449 | D88: 70.015696 | E88: 66.554817 | F88: 83.813766 | G88: 84.009238 | H88: 162.41271 | I88: 48.999015 | J88: 64.406033 | K88: 52.808504 | L88: 77.697029 | M88: 49.246448 | N88: 44.102117 | O88: 69.40224 | P88: 35.66599 | Q88: 57.223839 | R88: 52.003105 | S88: 12.882207 | T88: 59.287313 | U88: 84.899409 | V88: 44.498177 | W88: 96.038257 | X88: 72.53708 | Y88: 80.117789 | Z88: 97.572951 | AA88: 57.595254 | AB88: 47.799667 | AC88: 77.968931 | AD88: 22.141847 | AE88: 87.983203 | AF88: 39.172298 | AG88: 77.072258 | AH88: 27.350279 | AI88: 25.122215 | AJ88: 47.709022 | AK88: 48.302905 | AL88: 27.04248 | AM88: 120.0092 | IR88: =AVERAGE(B88:IQ88) -> 64.395124 | IS88: =STDEV(B88:IQ88) -> 29.058325
A89: c7 | B89: 58.852124 | C89: 72.530158 | D89: 79.505985 | E89: 71.209889 | F89: 87.085752 | G89: 63.555814 | H89: 55.716893 | I89: 60.794326 | J89: 72.236092 | K89: 65.245982 | L89: 64.656792 | M89: 36.173361 | N89: 34.253135 | O89: 100.15302 | P89: 67.268682 | Q89: 41.367236 | R89: 35.634956 | S89: 59.002933 | T89: 75.27116 | U89: 65.295141 | V89: 83.159644 | W89: 45.744223 | X89: 67.690131 | Y89: 76.96626 | Z89: 60.698096 | AA89: 48.199046 | AB89: 70.864771 | AC89: 70.636244 | AD89: 38.888682 | AE89: 44.780201 | AF89: 49.160792 | AG89: 55.889537 | AH89: 46.064112 | AI89: 39.804624 | AJ89: 41.041296 | AK89: 18.003274 | AL89: 84.512146 | AM89: 19.458972 | IR89: =AVERAGE(B89:IQ89) -> 58.615039 | IS89: =STDEV(B89:IQ89) -> 18.667369
A90: c8 | B90: 73.603751 | C90: 42.29253 | D90: 47.326619 | E90: 52.902237 | F90: 53.813599 | G90: -1.9357564 | H90: 31.538629 | I90: 61.606993 | J90: 32.158288 | K90: 47.035641 | L90: 59.048263 | M90: 51.9823 | N90: 51.537294 | O90: 51.867699 | P90: 49.19206 | Q90: 62.343654 | R90: 31.300256 | S90: 31.169817 | T90: 48.031145 | U90: 45.532182 | V90: 20.581495 | W90: 61.96351 | X90: 55.564524 | Y90: 56.671688 | Z90: 40.967936 | AA90: 53.334077 | AB90: 87.811731 | AC90: 20.635074 | AD90: 57.346599 | AE90: 66.067942 | AF90: 30.127451 | AG90: 41.118595 | AH90: 98.67174 | AI90: 61.709197 | AJ90: 35.311439 | AK90: 57.459579 | AL90: 35.372685 | AM90: 31.255594 | IR90: =AVERAGE(B90:IQ90) -> 48.271528 | IS90: =STDEV(B90:IQ90) -> 18.45619
A91: c9 | B91: 42.671851 | C91: -2.3840118 | D91: 30.223619 | E91: 20.324721 | F91: -22.326086 | G91: 34.187217 | H91: -3.8007884 | I91: 8.8310251 | J91: 22.84069 | K91: -3.0078651 | L91: 29.796056 | M91: -9.447804 | N91: 44.137908 | O91: 6.8416251 | P91: 7.1390854 | Q91: 22.890099 | R91: 30.751925 | S91: 23.619123 | T91: -0.71465589 | U91: 27.424305 | V91: 28.251389 | W91: 8.3298677 | X91: -25.652113 | Y91: 26.825455 | Z91: -14.151068 | AA91: 26.971215 | AB91: 30.020384 | AC91: 2.3671162 | AD91: 48.785604 | AE91: 27.903551 | AF91: -11.0605 | AG91: -3.3313109 | AH91: 20.92178 | AI91: 10.409957 | AJ91: 58.558208 | AK91: -11.853975 | AL91: 16.759961 | AM91: 33.830521 | IR91: =AVERAGE(B91:IQ91) -> 15.365371 | IS91: =STDEV(B91:IQ91) -> 20.260377
A92: c10 | B92: 19.392121 | C92: -12.631037 | D92: 10.851082 | E92: 42.127698 | F92: -21.706233 | G92: -14.91972 | H92: -14.112141 | I92: -3.3117367 | J92: 0.11645058 | K92: 4.5209133 | L92: 11.408928 | M92: -3.2438094 | N92: -26.039537 | O92: -16.924538 | P92: 45.53709 | Q92: 31.499129 | R92: 11.93182 | S92: 14.798753 | T92: 16.356076 | U92: 2.2225951 | V92: -31.536806 | W92: 22.766931 | X92: 8.3878777 | Y92: -7.3251141 | Z92: -19.713485 | AA92: 48.11052 | AB92: 5.4401585 | AC92: -9.6447024 | AD92: 1.2943061 | AE92: 16.727188 | AF92: -19.289571 | AG92: 7.3596045 | AH92: 11.391896 | AI92: 14.466023 | AJ92: -0.96438102 | AK92: 18.637612 | AL92: 25.173687 | AM92: -10.147556 | IR92: =AVERAGE(B92:IQ92) -> 4.7107393 | IS92: =STDEV(B92:IQ92) -> 19.388291
A93: c11 | B93: -16.341583 | C93: 5.7297217 | D93: -10.782795 | E93: 3.2259182 | F93: 1.3200869 | G93: 10.835226 | H93: -1.8634945 | I93: 14.24017 | J93: 3.5778164 | K93: -0.63993631 | L93: 3.9779584 | M93: -16.53582 | N93: -28.349057 | O93: -46.296412 | P93: 4.5300161 | Q93: 13.993722 | R93: 14.901253 | S93: -4.5862884 | T93: -16.701993 | U93: -7.2442746 | V93: 15.04228 | W93: 11.235952 | X93: 10.827133 | Y93: -2.2413289 | Z93: -2.5660466 | AA93: -0.35639003 | AB93: -8.2536345 | AC93: 9.0808287 | AD93: -22.479632 | AE93: -11.954656 | AF93: 10.617826 | AG93: 0.97555831 | AH93: -41.192038 | AI93: 31.422089 | AJ93: -7.6102275 | AK93: -0.89696687 | AL93: 40.024135 | AM93: 25.678047 | IR93: =AVERAGE(B93:IQ93) -> -0.41202197 | IS93: =STDEV(B93:IQ93) -> 17.385925
A94: c12 | B94: 55.916255 | C94: 6.5442983 | D94: 6.0088994 | E94: 7.746638 | F94: -39.58476 | G94: 24.284657 | H94: -9.1822209 | I94: 6.9636652 | J94: 5.642928 | K94: 21.570202 | L94: 22.950457 | M94: 35.949248 | N94: 25.386861 | O94: 59.028886 | P94: 20.505942 | Q94: -4.7627814 | R94: 21.006549 | S94: 45.668806 | T94: 33.440597 | U94: 12.150146 | V94: 13.921218 | W94: 3.1556371 | X94: 8.8288492 | Y94: 40.098365 | Z94: 24.823594 | AA94: 10.751786 | AB94: 45.782006 | AC94: 5.8638496 | AD94: 53.357226 | AE94: 19.469564 | AF94: 28.409372 | AG94: 29.850063 | AH94: 25.08009 | AI94: 10.566438 | AJ94: 44.052484 | AK94: 21.006395 | AL94: 27.90247 | AM94: 2.9444389 | IR94: =AVERAGE(B94:IQ94) -> 20.344714 | IS94: =STDEV(B94:IQ94) -> 19.516727
A95: c13 | B95: 0.84667322 | C95: 7.787251 | D95: 2.466221 | E95: 13.270307 | F95: 27.484287 | G95: 9.7486887 | H95: 40.890214 | I95: 23.38606 | J95: 3.2897066 | K95: 12.708942 | L95: 2.4889018 | M95: 29.234875 | N95: -0.39448715 | O95: -13.072363 | P95: 7.4675658 | Q95: -3.021212 | R95: 4.5212877 | S95: 21.127363 | T95: 16.448314 | U95: 6.3851657 | V95: 15.394561 | W95: 1.5355466 | X95: 18.584376 | Y95: -0.89386177 | Z95: 17.155913 | AA95: -5.1152714 | AB95: -21.566546 | AC95: -5.9397397 | AD95: 5.2509562 | AE95: 0.55709498 | AF95: 23.966659 | AG95: 12.850062 | AH95: 2.0665832 | AI95: -0.366545 | AJ95: 14.239996 | AK95: 18.909582 | AL95: 12.096434 | AM95: 29.773532 | IR95: =AVERAGE(B95:IQ95) -> 9.2516604 | IS95: =STDEV(B95:IQ95) -> 12.605208
... A97: c15 | B97: -13.6786 | C97: -15.241395 | D97: -14.896278 | E97: -9.0056466 | F97: -23.16263 | G97: 8.9897103 | H97: 1.7702597 | I97: -26.598693 | J97: 8.174827 | K97: -7.4277414 | L97: -5.2380091 | M97: -16.401895 | N97: -3.6039439 | O97: 9.9012508 | P97: -16.122076 | Q97: -1.6207566 | R97: -0.16450507 | S97: -30.790637 | T97: -20.907073 | U97: -6.0399034 | V97: -4.6756031 | W97: 2.4308371 | X97: -24.282543 | Y97: -4.6232171 | Z97: -5.2617004 | AA97: -0.49209183 | AB97: 22.147519 | AC97: -10.648343 | AD97: 6.5845733 | AE97: -1.1841199 | AF97: -10.371574 | AG97: -39.135503 | AH97: -30.634561 | AI97: -20.387776 | AJ97: -33.028692 | AK97: -37.689065 | AL97: 12.764329 | AM97: 2.4768657 | IR97: =AVERAGE(B97:IQ97) -> -9.4230106 | IS97: =STDEV(B97:IQ97) -> 14.592676
A99: ln(d) | B99: {=IF(SUM(B83:B97)<>0,LN((SQRT(SUMSQ(B83:B97-$IR63:$IR77)))),"")} -> 4.9773953 | C99: {=IF(SUM(C83:C97)<>0,LN((SQRT(SUMSQ(C83:C97-$IR63:$IR77)))),"")} -> 4.4120878 | D99: {=IF(SUM(D83:D97)<>0,LN((SQRT(SUMSQ(D83:D97-$IR63:$IR77)))),"")} -> 4.6061466 | E99: {=IF(SUM(E83:E97)<>0,LN((SQRT(SUMSQ(E83:E97-$IR63:$IR77)))),"")} -> 4.5533227 | F99: {=IF(SUM(F83:F97)<>0,LN((SQRT(SUMSQ(F83:F97-$IR63:$IR77)))),"")} -> 4.8522333 | G99: {=IF(SUM(G83:G97)<>0,LN((SQRT(SUMSQ(G83:G97-$IR63:$IR77)))),"")} -> 4.5403135 | H99: {=IF(SUM(H83:H97)<>0,LN((SQRT(SUMSQ(H83:H97-$IR63:$IR77)))),"")} -> 5.2456126 | I99: {=IF(SUM(I83:I97)<>0,LN((SQRT(SUMSQ(I83:I97-$IR63:$IR77)))),"")} -> 4.4961016 | ... IQ99: {=IF(SUM(IQ83:IQ97)<>0,LN((SQRT(SUMSQ(IQ83:IQ97-$IR63:$IR77)))),"")} | IR99: =AVERAGE(B99:IQ99) -> 4.573944 | IS99: =STDEV(B99:IQ99) -> 0.32264318
A100: GDI | B100: =IF(SUM(B83:B97)<>0,100-10*(B99-$IR79)/$IS79,"") -> 87.495433 | C100: =IF(SUM(C83:C97)<>0,100-10*(C99-$IR79)/$IS79,"") -> 105.01657 | D100: =IF(SUM(D83:D97)<>0,100-10*(D99-$IR79)/$IS79,"") -> 99.001911 | E100: =IF(SUM(E83:E97)<>0,100-10*(E99-$IR79)/$IS79,"") -> 100.63914 | F100: =IF(SUM(F83:F97)<>0,100-10*(F99-$IR79)/$IS79,"") -> 91.374704 | G100: =IF(SUM(G83:G97)<>0,100-10*(G99-$IR79)/$IS79,"") -> 101.04234 | H100: =IF(SUM(H83:H97)<>0,100-10*(H99-$IR79)/$IS79,"") -> 79.182309 | I100: =IF(SUM(I83:I97)<>0,100-10*(I99-$IR79)/$IS79,"") -> 102.41265 | ... IQ100: =IF(SUM(IQ83:IQ97)<>0,100-10*(IQ99-$IR79)/$IS79,"") | IR100: =AVERAGE(B100:IQ100) -> 100 | IS100: =STDEV(B100:IQ100) -> 10

Sheet Features (from Gillette)
A1: Features: each column represents a "feature" (i.e. an element of the orthonormal f-basis)
A2: f1 | B2: f2 | C2: f3 | D2: f4 | E2: f5 | F2: f6 | G2: f7 | H2: f8 | I2: f9 | J2: f10 | K2: f11 | L2: f12 | M2: f13 | N2: f14 | O2: f15 | P2: Left
A3: -0.044959424 | B3: -0.006756704 | C3: -0.019680239 | D3: -0.036091803 | E3: -0.069569083 | F3: -0.024723121 | G3: -0.018124386 | H3: -0.0037861539 | I3: 0.0019581995 | J3: 0.012842085 | K3: 0.0096684388 | L3: 0.034420842 | M3: 0.0091932647 | N3: 0.0019341859 | O3: -0.012412294 | P3: 26
A4: -0.04499095 | B4: -0.0070579732 | C4: -0.019056955 | D4: -0.036404035 | E4: -0.069120394 | F4: -0.025732974 | G4: -0.018760162 | H4: -0.0056284276 | I4: 0.0018978596 | J4: 0.012474311 | K4: 0.0092360999 | L4: 0.032333917 | M4: 0.0092302185 | N4: 0.0018737203 | O4: -0.013939653 | P4: 25.5
A5: -0.04520333 | B5: -0.0074409262 | C5: -0.01826292 | D5: -0.036633077 | E5: -0.068749763 | F5: -0.027308988 | G5: -0.019665074 | H5: -0.0078648127 | I5: 0.0016950839 | J5: 0.011656029 | K5: 0.0080282857 | L5: 0.030221303 | M5: 0.0088754388 | N5: 0.00068168033 | O5: -0.015116851 | P5: 25.4
A6: -0.045503825 | B6: -0.0078800272 | C6: -0.017254695 | D6: -0.036755605 | E6: -0.068422967 | F6: -0.029424971 | G6: -0.02073771 | H6: -0.010363672 | I6: 0.0012040292 | J6: 0.010811748 | K6: 0.0060526207 | L6: 0.028160845 | M6: 0.008378492 | N6: -0.0015508861 | O6: -0.015573385 | P6: 25.8
A7: -0.045910895 | B7: -0.0083663112 | C7: -0.016089867 | D7: -0.036835812 | E7: -0.068041943 | F7: -0.031829983 | G7: -0.021681396 | H7: -0.013089712 | I7: 0.00040749332 | J7: 0.01015705 | K7: 0.0034131608 | L7: 0.026365073 | M7: 0.0078464867 | N7: -0.004237334 | O7: -0.015582864 | P7: 26.6
A8: -0.046476334 | B8: -0.0088843226 | C8: -0.014967136 | D8: -0.036871574 | E8: -0.06747674 | F8: -0.034136298 | G8: -0.022249681 | H8: -0.015729493 | I8: -0.00042202839 | J8: 0.0097512078 | K8: 0.00043716843 | L8: 0.025222261 | M8: 0.0072516837 | N8: -0.0067639938 | O8: -0.014906483 | P8: 27.7
A9: -0.047177714 | B9: -0.0094259743 | C9: -0.014018945 | D9: -0.036952097 | E9: -0.066728826 | F9: -0.03593626 | G9: -0.022315416 | H9: -0.017941846 | I9: -0.0011675567 | J9: 0.0094164469 | K9: -0.0025168027 | L9: 0.024912931 | M9: 0.0063854665 | N9: -0.0089051405 | O9: -0.013478231 | P9: 28.9
A10: -0.047945346 | B10: -0.0099355273 | C10: -0.013291016 | D10: -0.037106124 | E10: -0.065975271 | F10: -0.037085196 | G10: -0.021883107 | H10: -0.019448883 | I10: -0.0017655223 | J10: 0.0091310753 | K10: -0.0051144137 | L10: 0.025552572 | M10: 0.0051596286 | N10: -0.010731041 | O10: -0.011801136 | P10: 30
A11: -0.048727051 | B11: -0.010376944 | C11: -0.01277534 | D11: -0.037328595 | E11: -0.065356786 | F11: -0.037649632 | G11: -0.021068976 | H11: -0.020134635 | I11: -0.0022259693 | J11: 0.0088045373 | K11: -0.0070825875 | L11: 0.026744525 | M11: 0.0038284224 | N11: -0.01226019 | O11: -0.010322818 | P11: 30.7
A12: -0.049478029 | B12: -0.01071043 | C12: -0.012463106 | D12: -0.037587414 | E12: -0.064885268 | F12: -0.037750463 | G12: -0.019984587 | H12: -0.020036519 | I12: -0.0025373501 | J12: 0.0083377579 | K12: -0.0083945624 | L12: 0.027968146 | M12: 0.0025679616 | N12: -0.013402784 | O12: -0.0091426939 | P12: 30.9
A13: -0.050140493 | B13: -0.010917181 | C13: -0.012291677 | D13: -0.037812286 | E13: -0.064573095 | F13: -0.03752143 | G13: -0.018771041 | H13: -0.019364202 | I13: -0.0027987008 | J13: 0.0077461627 | K13: -0.0090613956 | L13: 0.028995439 | M13: 0.0015384852 | N13: -0.014134507 | O13: -0.0080144546 | P13: 30.8
A14: -0.050654387 | B14: -0.011007122 | C14: -0.012178123 | D14: -0.037976388 | E14: -0.064396999 | F14: -0.03718141 | G14: -0.017650177 | H14: -0.018318029 | I14: -0.0030525296 | J14: 0.0070652499 | K14: -0.0091929956 | L14: 0.029774527 | M14: 0.000678053 | N14: -0.014625478 | O14: -0.0069612422 | P14: 30.5
... A461: 0.022436585 | B461: -0.11353831 | C461: -0.036445043 | D461: 0.027462187 | E461: -0.0046103954 | F461: -0.0091690626 | G461: 0.018862872 | H461: -0.0053956054 | I461: 0.0020091572 | J461: 0.020546152 | K461: -0.015455557 | L461: 0.0047153464 | M461: -0.064097586 | N461: 0.086661134 | O461: 0.058754052 | P461: 3.93
A462: =MIN(A3:A461) -> -0.15205419 | B462: =MIN(B3:B461) -> -0.13553262 | C462: =MIN(C3:C461) -> -0.07124566 | D462: =MIN(D3:D461) -> -0.055317331 | E462: =MIN(E3:E461) -> -0.11441262 | F462: =MIN(F3:F461) -> -0.15801175 | G462: =MIN(G3:G461) -> -0.12547457 | H462: =MIN(H3:H461) -> -0.18754791 | ... O462: =MIN(O3:O461) -> -0.1324779 | P462: =MIN(A462:O462) -> -0.18754791
A463: =MAX(A3:A461) -> 0.035487048 | B463: =MAX(B3:B461) -> 0.058210048 | C463: =MAX(C3:C461) -> 0.12123409 | D463: =MAX(D3:D461) -> 0.14085994 | E463: =MAX(E3:E461) -> 0.11249784 | F463: =MAX(F3:F461) -> 0.15509506 | G463: =MAX(G3:G461) -> 0.12782272 | H463: =MAX(H3:H461) -> 0.12925942 | ... O463: =MAX(O3:O461) -> 0.12936414 | P463: =MAX(A463:O463) -> 0.15509506
